From mboxrd@z Thu Jan 1 00:00:00 1970 Return-Path: Received: from mails.dpdk.org (mails.dpdk.org [217.70.189.124]) by inbox.dpdk.org (Postfix) with ESMTP id 2780B4551F for ; Fri, 28 Jun 2024 10:22:37 +0200 (CEST) Received: from mails.dpdk.org (localhost [127.0.0.1]) by mails.dpdk.org (Postfix) with ESMTP id 2356F40EF0; Fri, 28 Jun 2024 10:22:37 +0200 (CEST) Received: from mail-qv1-f97.google.com (mail-qv1-f97.google.com [209.85.219.97]) by mails.dpdk.org (Postfix) with ESMTP id 399E640E96 for ; Fri, 28 Jun 2024 10:22:26 +0200 (CEST) Received: by mail-qv1-f97.google.com with SMTP id 6a1803df08f44-6b05c9db85fso2243536d6.2 for ; Fri, 28 Jun 2024 01:22:26 -0700 (PDT) DKIM-Signature: v=1; a=rsa-sha256; c=relaxed/relaxed; d=iol.unh.edu; s=unh-iol; t=1719562945; x=1720167745; darn=dpdk.org; h=cc:to:from:subject:message-id:date:from:to:cc:subject:date :message-id:reply-to; bh=DgRdAGkw38qvHdKh3V3zH0uZRgaqqsHQMk3Rdg8IY5w=; b=N26kv3afAXuXKB/jkn7Qihd++KDdD1NoVsJVNWqbzN1aSEicKOrhd1nW6QgCPoLCAo 35/SUs1CbvTBXn3mE7Q4uwoRLP/N6oC5+Vh39K37aFKDp45O3+eCnIaQ6fCr4CHuT6Qa bPIV/ZksbWHGwuCTBe8z8FpM4AGsdH6EBVDK8= X-Google-DKIM-Signature: v=1; a=rsa-sha256; c=relaxed/relaxed; d=1e100.net; s=20230601; t=1719562945; x=1720167745; h=cc:to:from:subject:message-id:date:x-gm-message-state:from:to:cc :subject:date:message-id:reply-to; bh=DgRdAGkw38qvHdKh3V3zH0uZRgaqqsHQMk3Rdg8IY5w=; b=oLCR8f/UNTSRJXLXJnUsrtb1I637ZHlhmgwbN7OHoGHw5S4KHabZwOSlxfZlB53rdY S+DuZpu0ON031EZKm/jhvofVn2MoRYAq4BNVEXIUjvE6v3V/XooiUTSOnxxZ1MhfEnFi P0l/0yrteuC3l3PnCW6U7h8LkHfxmSzaoWf4zjYsrequVnLxLmOLoJsQtVeXNOOK3VtC cYWixz0l1ILkJf5k7cewWYiSK1bzVy57y25LCFwhm63IdbMR1qfIfMIPv163Z061wzaq 55mloye1U3Dn8t2n+5bvUNmCLaEwV8KbS7fDTS9uoZispkGro2+Z6XmIRKLOWx/7UoK2 Akdw== X-Gm-Message-State: AOJu0YxTdpRnuHUikkfgwb3I1QjpN1JN+HBMZ7MalqK1LQBjkxQjiTUq eCFZSYNFznTBRtEmHVoSgyifvN5r97zg1gr7Xgn1GSsx+1ksU4GKtgpPxbsWH3DO8CI2Y1wBxYv e4nmUQd/7bqzujYBRigXML96v4dA5sQgOAzF+dmv+ X-Google-Smtp-Source: AGHT+IE7TzIcVQjjKm6TxxugCu48smMLkHAYVZAMNgOm3+ewj79g1O15obnO9/5xhsipq3NhhJlzgkRgJgmy X-Received: by 2002:ad4:5849:0:b0:6b5:4339:ba4 with SMTP id 6a1803df08f44-6b543390c9bmr149162796d6.12.1719562945644; Fri, 28 Jun 2024 01:22:25 -0700 (PDT) Received: from postal.iol.unh.edu (postal.iol.unh.edu. [132.177.123.84]) by smtp-relay.gmail.com with ESMTPS id 6a1803df08f44-6b59e3676a2sm644916d6.4.2024.06.28.01.22.25 (version=TLS1_2 cipher=ECDHE-ECDSA-AES128-GCM-SHA256 bits=128/128); Fri, 28 Jun 2024 01:22:25 -0700 (PDT) X-Relaying-Domain: iol.unh.edu Date: Fri, 28 Jun 2024 01:22:25 -0700 (PDT) Message-ID: <667e72c1.050a0220.d1cdf.4a7aSMTPIN_ADDED_MISSING@mx.google.com> Received: from [172.21.0.6] (unknown [172.18.0.240]) by postal.iol.unh.edu (Postfix) with ESMTP id 586C16050A9C; Fri, 28 Jun 2024 04:22:25 -0400 (EDT) Subject: |SUCCESS| [GIT MASTER] 3b80379078a1f7c09b8d0ece24442c8ff2e2c67c From: dpdklab@iol.unh.edu To: Test Report Cc: dpdk-test-reports@iol.unh.edu, Akhil Goyal Content-Type: text/plain X-BeenThere: test-report@dpdk.org X-Mailman-Version: 2.1.29 Precedence: list List-Id: automatic DPDK test reports List-Unsubscribe: , List-Archive: List-Post: List-Help: List-Subscribe: , Errors-To: test-report-bounces@dpdk.org _Testing PASS_ Branch: dpdk-next-crypto 3b80379078a1f7c09b8d0ece24442c8ff2e2c67c --> testing pass Test environment and result as below: +-----------------------------+----------------+--------------+------------------------------+ | Environment | dpdk_unit_test | lpm_autotest | cryptodev_sw_snow3g_autotest | +=============================+================+==============+==============================+ | 32-bit Ubuntu 20.04.4 (ARM) | PASS | SKIPPED | SKIPPED | +-----------------------------+----------------+--------------+------------------------------+ | CentOS Stream 9 (ARM) | PASS | SKIPPED | SKIPPED | +-----------------------------+----------------+--------------+------------------------------+ | Debian 11 (Buster) (ARM) | PASS | SKIPPED | SKIPPED | +-----------------------------+----------------+--------------+------------------------------+ | Debian 12 (arm) | PASS | SKIPPED | PASS | +-----------------------------+----------------+--------------+------------------------------+ | Fedora 37 (ARM) | PASS | SKIPPED | SKIPPED | +-----------------------------+----------------+--------------+------------------------------+ | Fedora 38 (ARM) | PASS | SKIPPED | SKIPPED | +-----------------------------+----------------+--------------+------------------------------+ | Fedora 39 (ARM) | PASS | SKIPPED | SKIPPED | +-----------------------------+----------------+--------------+------------------------------+ | Fedora 38 (ARM Clang) | PASS | SKIPPED | SKIPPED | +-----------------------------+----------------+--------------+------------------------------+ | Fedora 40 (ARM) | PASS | SKIPPED | SKIPPED | +-----------------------------+----------------+--------------+------------------------------+ | Fedora 39 (ARM Clang) | PASS | SKIPPED | SKIPPED | +-----------------------------+----------------+--------------+------------------------------+ | Fedora 40 (ARM Clang) | PASS | SKIPPED | SKIPPED | +-----------------------------+----------------+--------------+------------------------------+ | RHEL9 (ARM) | PASS | SKIPPED | SKIPPED | +-----------------------------+----------------+--------------+------------------------------+ | Ubuntu 20.04 (ARM) | PASS | SKIPPED | SKIPPED | +-----------------------------+----------------+--------------+------------------------------+ | Ubuntu 22.04 (ARM) | PASS | SKIPPED | SKIPPED | +-----------------------------+----------------+--------------+------------------------------+ | Ubuntu 20.04 ARM SVE | SKIPPED | PASS | SKIPPED | +-----------------------------+----------------+--------------+------------------------------+ 32-bit Ubuntu 20.04.4 (ARM) Kernel: 5.4.0-155-generic aarch64 Compiler: gcc 9.4 CentOS Stream 9 (ARM) Kernel: Container Host Kernel Compiler: gcc 11.4.1 Debian 11 (Buster) (ARM) Kernel: Container Host Kernel Compiler: gcc 10.2.1 Debian 12 (arm) Kernel: Container Host Kernel Compiler: gcc 12.2.0 Fedora 37 (ARM) Kernel: Depends on container host Compiler: gcc 12.3.1 Fedora 38 (ARM) Kernel: Depends on container host Compiler: gcc 13.2.1 Fedora 39 (ARM) Kernel: Depends on container host Compiler: gcc 13.2.1 Fedora 38 (ARM Clang) Kernel: Depends on container host Compiler: clang 16.0.6 Fedora 40 (ARM) Kernel: Depends on container host Compiler: gcc 14.1.1 Fedora 39 (ARM Clang) Kernel: Depends on container host Compiler: clang 17.0.6 Fedora 40 (ARM Clang) Kernel: Depends on container host Compiler: clang 18.1.6 RHEL9 (ARM) Kernel: Depends on container host Compiler: gcc 11.4.1 Ubuntu 20.04 (ARM) Kernel: Container Host Kernel Compiler: gcc 9.4.0 Ubuntu 22.04 (ARM) Kernel: Container Host Kernel Compiler: gcc 11.4.0 Ubuntu 20.04 ARM SVE Kernel: 5.4.0-167-generic Compiler: gcc (Ubuntu 10.5.0-1ubuntu1~20.04) 10.5.0 To view detailed results, visit: https://lab.dpdk.org/results/dashboard/tarballs/29626/ UNH-IOL DPDK Community Lab To manage your email subscriptions, visit: https://lab.dpdk.org/results/dashboard/preferences/subscriptions/