From mboxrd@z Thu Jan 1 00:00:00 1970 Return-Path: Received: from mails.dpdk.org (mails.dpdk.org [217.70.189.124]) by inbox.dpdk.org (Postfix) with ESMTP id 2321A45521 for ; Fri, 28 Jun 2024 10:40:31 +0200 (CEST) Received: from mails.dpdk.org (localhost [127.0.0.1]) by mails.dpdk.org (Postfix) with ESMTP id 1D11540EE7; Fri, 28 Jun 2024 10:40:31 +0200 (CEST) Received: from mail-io1-f99.google.com (mail-io1-f99.google.com [209.85.166.99]) by mails.dpdk.org (Postfix) with ESMTP id C1D9740E96 for ; Fri, 28 Jun 2024 10:39:31 +0200 (CEST) Received: by mail-io1-f99.google.com with SMTP id ca18e2360f4ac-7f61549406eso11689539f.1 for ; Fri, 28 Jun 2024 01:39:31 -0700 (PDT) DKIM-Signature: v=1; a=rsa-sha256; c=relaxed/relaxed; d=iol.unh.edu; s=unh-iol; t=1719563971; x=1720168771; darn=dpdk.org; h=cc:to:from:subject:message-id:date:from:to:cc:subject:date :message-id:reply-to; bh=0gG6hG5NoAI+P/4bK3+KauvT23S1a8SHbkMiTRAwaX8=; b=H/R3rYAQFXkmYgyA3+e7t4RJPghSKmLZ/qzHuSs6OuDUI+xHJh50ExVKwyWe3lUNXF cb6bAnnHqX2W+2Bn+tQYwk7IgCUf0k2e2FAVAOBCC5DEquBWX/CZHZNJQK4dN0YY0oWX 8i/XxW20tOe249ue9zAZDClny4SlxJWEVMrB4= X-Google-DKIM-Signature: v=1; a=rsa-sha256; c=relaxed/relaxed; d=1e100.net; s=20230601; t=1719563971; x=1720168771; h=cc:to:from:subject:message-id:date:x-gm-message-state:from:to:cc :subject:date:message-id:reply-to; bh=0gG6hG5NoAI+P/4bK3+KauvT23S1a8SHbkMiTRAwaX8=; b=dv4pdihZMBfLNjF1f8/zJsH1UuJg3y4Uki4QnZv3k+Ls2tYuOvrWrwlTQZSKBnMo6P mjzQhFOnse9uPEGn37wDOSLGKWAHEzkerkarrfXz4dfW8bX1NQijJoq6u+H3vvZ9Rn/i 0XGo/RZxSjMp2uIGsfHTu+hgw0tcKkjvz0+5eCRrwVsGGx4zMMHENZ8aK7oXLqSrMmyj am3arTlsIWnAD4WWxK4fhgmc5sBfmMSXROIJip8TQY2ialazzRZwo+EvO7YUne1g8KY7 PzteiIkFAgEfsh97NxuTwC4a59ZLjprNvIqATXyNvgdpHGoYKnxMDua3wuR8kod1ZK9c m5NA== X-Gm-Message-State: AOJu0YwN+MBHClt3KlcFDapz+1/czzukeeTqqlXnlE+4nrJIrF2xpSsE Zwlq8o608FSQ7gUo1aMiV0XWXzLFVeRzZwl7PbtyQDYHqcdFrqPrAv0Bj5oK5oc+FyooZJmCYaB sHCKHLbNhoYoNVAfGsdx5UIxxFi3zD2Z4c3e8Nr1p X-Google-Smtp-Source: AGHT+IEteHh6eao/LU7VOjLsYnfHaamnR4jlmbhcEIlwgteonpVtJSJj7xgEguWyTF5iKSAXltQ68ttZaGYp X-Received: by 2002:a05:6e02:15c5:b0:374:9957:7333 with SMTP id e9e14a558f8ab-3763f5c1b41mr204661115ab.8.1719563971078; Fri, 28 Jun 2024 01:39:31 -0700 (PDT) Received: from postal.iol.unh.edu (postal.iol.unh.edu. [132.177.123.84]) by smtp-relay.gmail.com with ESMTPS id e9e14a558f8ab-37ad4186c81sm589025ab.54.2024.06.28.01.39.30 (version=TLS1_2 cipher=ECDHE-ECDSA-AES128-GCM-SHA256 bits=128/128); Fri, 28 Jun 2024 01:39:31 -0700 (PDT) X-Relaying-Domain: iol.unh.edu Date: Fri, 28 Jun 2024 01:39:31 -0700 (PDT) Message-ID: <667e76c3.050a0220.6968f.4469SMTPIN_ADDED_MISSING@mx.google.com> Received: from [172.21.0.6] (unknown [172.18.0.240]) by postal.iol.unh.edu (Postfix) with ESMTP id 8FB9C6050A9C; Fri, 28 Jun 2024 04:39:30 -0400 (EDT) Subject: |SUCCESS| [GIT MASTER] 3b80379078a1f7c09b8d0ece24442c8ff2e2c67c From: dpdklab@iol.unh.edu To: Test Report Cc: dpdk-test-reports@iol.unh.edu, Akhil Goyal Content-Type: text/plain X-BeenThere: test-report@dpdk.org X-Mailman-Version: 2.1.29 Precedence: list List-Id: automatic DPDK test reports List-Unsubscribe: , List-Archive: List-Post: List-Help: List-Subscribe: , Errors-To: test-report-bounces@dpdk.org _Testing PASS_ Branch: dpdk-next-crypto 3b80379078a1f7c09b8d0ece24442c8ff2e2c67c --> testing pass Test environment and result as below: +-----------------------------+----------------+--------------+------------------------------+ | Environment | dpdk_unit_test | lpm_autotest | cryptodev_sw_snow3g_autotest | +=============================+================+==============+==============================+ | 32-bit Ubuntu 20.04.4 (ARM) | PASS | SKIPPED | SKIPPED | +-----------------------------+----------------+--------------+------------------------------+ | CentOS Stream 9 (ARM) | PASS | SKIPPED | SKIPPED | +-----------------------------+----------------+--------------+------------------------------+ | Debian 11 (Buster) (ARM) | PASS | SKIPPED | SKIPPED | +-----------------------------+----------------+--------------+------------------------------+ | Debian 12 (arm) | PASS | SKIPPED | PASS | +-----------------------------+----------------+--------------+------------------------------+ | Fedora 37 (ARM) | PASS | SKIPPED | SKIPPED | +-----------------------------+----------------+--------------+------------------------------+ | Fedora 38 (ARM) | PASS | SKIPPED | SKIPPED | +-----------------------------+----------------+--------------+------------------------------+ | Fedora 39 (ARM) | PASS | SKIPPED | SKIPPED | +-----------------------------+----------------+--------------+------------------------------+ | Fedora 38 (ARM Clang) | PASS | SKIPPED | SKIPPED | +-----------------------------+----------------+--------------+------------------------------+ | Fedora 40 (ARM) | PASS | SKIPPED | SKIPPED | +-----------------------------+----------------+--------------+------------------------------+ | Fedora 39 (ARM Clang) | PASS | SKIPPED | SKIPPED | +-----------------------------+----------------+--------------+------------------------------+ | Fedora 40 (ARM Clang) | PASS | SKIPPED | SKIPPED | +-----------------------------+----------------+--------------+------------------------------+ | RHEL9 (ARM) | PASS | SKIPPED | SKIPPED | +-----------------------------+----------------+--------------+------------------------------+ | Ubuntu 20.04 (ARM) | PASS | SKIPPED | SKIPPED | +-----------------------------+----------------+--------------+------------------------------+ | Ubuntu 22.04 (ARM) | PASS | SKIPPED | SKIPPED | +-----------------------------+----------------+--------------+------------------------------+ | Ubuntu 24.04 (ARM) | PASS | SKIPPED | SKIPPED | +-----------------------------+----------------+--------------+------------------------------+ | Ubuntu 20.04 ARM SVE | SKIPPED | PASS | SKIPPED | +-----------------------------+----------------+--------------+------------------------------+ 32-bit Ubuntu 20.04.4 (ARM) Kernel: 5.4.0-155-generic aarch64 Compiler: gcc 9.4 CentOS Stream 9 (ARM) Kernel: Container Host Kernel Compiler: gcc 11.4.1 Debian 11 (Buster) (ARM) Kernel: Container Host Kernel Compiler: gcc 10.2.1 Debian 12 (arm) Kernel: Container Host Kernel Compiler: gcc 12.2.0 Fedora 37 (ARM) Kernel: Depends on container host Compiler: gcc 12.3.1 Fedora 38 (ARM) Kernel: Depends on container host Compiler: gcc 13.2.1 Fedora 39 (ARM) Kernel: Depends on container host Compiler: gcc 13.2.1 Fedora 38 (ARM Clang) Kernel: Depends on container host Compiler: clang 16.0.6 Fedora 40 (ARM) Kernel: Depends on container host Compiler: gcc 14.1.1 Fedora 39 (ARM Clang) Kernel: Depends on container host Compiler: clang 17.0.6 Fedora 40 (ARM Clang) Kernel: Depends on container host Compiler: clang 18.1.6 RHEL9 (ARM) Kernel: Depends on container host Compiler: gcc 11.4.1 Ubuntu 20.04 (ARM) Kernel: Container Host Kernel Compiler: gcc 9.4.0 Ubuntu 22.04 (ARM) Kernel: Container Host Kernel Compiler: gcc 11.4.0 Ubuntu 24.04 (ARM) Kernel: 5.4.0-167-generic Compiler: gcc 13.2.0 Ubuntu 20.04 ARM SVE Kernel: 5.4.0-167-generic Compiler: gcc (Ubuntu 10.5.0-1ubuntu1~20.04) 10.5.0 To view detailed results, visit: https://lab.dpdk.org/results/dashboard/tarballs/29626/ UNH-IOL DPDK Community Lab To manage your email subscriptions, visit: https://lab.dpdk.org/results/dashboard/preferences/subscriptions/