From mboxrd@z Thu Jan  1 00:00:00 1970
Return-Path: <test-report-bounces@dpdk.org>
Received: from mails.dpdk.org (mails.dpdk.org [217.70.189.124])
	by inbox.dpdk.org (Postfix) with ESMTP id 9A69045515
	for <public@inbox.dpdk.org>; Fri, 28 Jun 2024 11:26:03 +0200 (CEST)
Received: from mails.dpdk.org (localhost [127.0.0.1])
	by mails.dpdk.org (Postfix) with ESMTP id 2A54542E55;
	Fri, 28 Jun 2024 11:26:03 +0200 (CEST)
Received: from mail-pf1-f225.google.com (mail-pf1-f225.google.com
 [209.85.210.225])
 by mails.dpdk.org (Postfix) with ESMTP id 32DAB40E96
 for <test-report@dpdk.org>; Fri, 28 Jun 2024 11:25:26 +0200 (CEST)
Received: by mail-pf1-f225.google.com with SMTP id
 d2e1a72fcca58-7066c9741b7so303276b3a.1
 for <test-report@dpdk.org>; Fri, 28 Jun 2024 02:25:26 -0700 (PDT)
DKIM-Signature: v=1; a=rsa-sha256; c=relaxed/relaxed;
 d=iol.unh.edu; s=unh-iol; t=1719566725; x=1720171525; darn=dpdk.org;
 h=references:in-reply-to:cc:to:from:subject:message-id:date:from:to
 :cc:subject:date:message-id:reply-to;
 bh=oHXbxkV7B0P6ntVascU+X6imPavLFE3kZaMX0Bcyp24=;
 b=N1q1KC26bM8GAWVxucRHctgwVJaKQNdnh7jAdoioeI5v0vR1vlE3KuMowDp7Jw5mF0
 e4xgTTqh+tClHLOqfOnqDP02V+d/KRJ3jyVJYz6qkAwRag7VhvtsG/4pPqP8nN36xE3Y
 x+C+wnnx2SWkGEqzR5D0B8LIKbIs8uNJYYRWk=
X-Google-DKIM-Signature: v=1; a=rsa-sha256; c=relaxed/relaxed;
 d=1e100.net; s=20230601; t=1719566725; x=1720171525;
 h=references:in-reply-to:cc:to:from:subject:message-id:date
 :x-gm-message-state:from:to:cc:subject:date:message-id:reply-to;
 bh=oHXbxkV7B0P6ntVascU+X6imPavLFE3kZaMX0Bcyp24=;
 b=GVmWr0fuV2oDvzv2Jjld0yj7W6ZVdEoySCpNs2FV0itLncDV11a+jGGg7r3Jy53aew
 b8cfvMUD0EJrramEtGzffAS+lDNYzp+QDudxaQ5cb8idA9vheIG9rA+epuWE6EjAai3c
 7xLVZoKOYCS5ZuzzaiPdpe7wlDamFVc/SNrS9NNryf2IRMXiEcL0sSzjPWR09NhCE/Ln
 1eN4Bjv7uQhAC1holiM/8jzcteKnPHCVUveKNKBdbGR+C1mzpDYYuGVZwba5VQAEYL9N
 9lcXTxNtzEKq8gwm/PEG5RsgK4AxhCKH8eNU7cYBvCdxJbP20qCKsajdj3EFMZ2uMpwU
 1iVw==
X-Gm-Message-State: AOJu0Ywljtpq19Xjo8l424m4JGuIPmf4l3hV5IjBzEQQLks7NYFz38Uk
 1Pv2fNZVU849LtZhcAIA395LswHgLOO9t7fRySlXCxl0RayPA5RElsc4otIR2FYSEKrK1PAEAsu
 rfW0Mmjeuq1154sQEMUK9WTs6k+eJg7eI01soXNDriXhS6y3RxNuMfEV8
X-Google-Smtp-Source: AGHT+IEwKXSLAU3OokykptX845tMHxyqMwF0vhhyP8nTHmMAKNIC8aAK3mXn8oLjE9buoMQT3nw4TTARv8zR
X-Received: by 2002:a05:6a20:4e21:b0:1be:c0c9:5fa7 with SMTP id
 adf61e73a8af0-1bec0c9602dmr6010683637.15.1719566725293; 
 Fri, 28 Jun 2024 02:25:25 -0700 (PDT)
Received: from postal.iol.unh.edu (postal.iol.unh.edu.
 [2606:4100:3880:1234::84]) by smtp-relay.gmail.com with ESMTPS id
 d9443c01a7336-1fac1582908sm414095ad.107.2024.06.28.02.25.25
 (version=TLS1_2 cipher=ECDHE-ECDSA-AES128-GCM-SHA256 bits=128/128);
 Fri, 28 Jun 2024 02:25:25 -0700 (PDT)
X-Relaying-Domain: iol.unh.edu
Date: Fri, 28 Jun 2024 02:25:25 -0700 (PDT)
Message-ID: <667e8185.170a0220.5afdb.2fcbSMTPIN_ADDED_MISSING@mx.google.com>
Received: from [172.21.0.7] (unknown [172.18.0.240])
 by postal.iol.unh.edu (Postfix) with ESMTP id 70A2D605C373;
 Fri, 28 Jun 2024 05:25:24 -0400 (EDT)
Subject: |SUCCESS| pw141956-141958 [PATCH] [v2,3/3] test/bpf: add extra test 
From: dpdklab@iol.unh.edu
To: Test Report <test-report@dpdk.org>
Cc: dpdk-test-reports@iol.unh.edu
In-Reply-To: <20240627180442.1602-4-konstantin.v.ananyev@yandex.ru>
References: <20240627180442.1602-4-konstantin.v.ananyev@yandex.ru>
Content-Type: text/plain
X-BeenThere: test-report@dpdk.org
X-Mailman-Version: 2.1.29
Precedence: list
List-Id: automatic DPDK test reports <test-report.dpdk.org>
List-Unsubscribe: <https://mails.dpdk.org/options/test-report>,
 <mailto:test-report-request@dpdk.org?subject=unsubscribe>
List-Archive: <http://mails.dpdk.org/archives/test-report/>
List-Post: <mailto:test-report@dpdk.org>
List-Help: <mailto:test-report-request@dpdk.org?subject=help>
List-Subscribe: <https://mails.dpdk.org/listinfo/test-report>,
 <mailto:test-report-request@dpdk.org?subject=subscribe>
Errors-To: test-report-bounces@dpdk.org

Test-Label: iol-unit-arm64-testing
Test-Status: SUCCESS
http://dpdk.org/patch/141958

_Testing PASS_

Submitter: Konstantin Ananyev <konstantin.v.ananyev@yandex.ru>
Date: Thursday, June 27 2024 18:04:42 
DPDK git baseline: Repo:dpdk
  Branch: master
  CommitID:c15902587b538ff02cfb0fbb4dd481f1503d936b

141956-141958 --> testing pass

Test environment and result as below:

+-----------------------------+----------------+--------------+---------------------------+------------------------------+
|         Environment         | dpdk_unit_test | lpm_autotest | cryptodev_sw_zuc_autotest | cryptodev_sw_snow3g_autotest |
+=============================+================+==============+===========================+==============================+
| 32-bit Ubuntu 20.04.4 (ARM) | PASS           | SKIPPED      | SKIPPED                   | SKIPPED                      |
+-----------------------------+----------------+--------------+---------------------------+------------------------------+
| CentOS Stream 9 (ARM)       | PASS           | SKIPPED      | SKIPPED                   | SKIPPED                      |
+-----------------------------+----------------+--------------+---------------------------+------------------------------+
| Debian 11 (Buster) (ARM)    | PASS           | SKIPPED      | SKIPPED                   | SKIPPED                      |
+-----------------------------+----------------+--------------+---------------------------+------------------------------+
| Debian 12 (arm)             | PASS           | SKIPPED      | PASS                      | PASS                         |
+-----------------------------+----------------+--------------+---------------------------+------------------------------+
| Fedora 37 (ARM)             | PASS           | SKIPPED      | SKIPPED                   | SKIPPED                      |
+-----------------------------+----------------+--------------+---------------------------+------------------------------+
| Fedora 38 (ARM)             | PASS           | SKIPPED      | SKIPPED                   | SKIPPED                      |
+-----------------------------+----------------+--------------+---------------------------+------------------------------+
| Fedora 40 (ARM)             | PASS           | SKIPPED      | SKIPPED                   | SKIPPED                      |
+-----------------------------+----------------+--------------+---------------------------+------------------------------+
| Fedora 38 (ARM Clang)       | PASS           | SKIPPED      | SKIPPED                   | SKIPPED                      |
+-----------------------------+----------------+--------------+---------------------------+------------------------------+
| Fedora 39 (ARM Clang)       | PASS           | SKIPPED      | SKIPPED                   | SKIPPED                      |
+-----------------------------+----------------+--------------+---------------------------+------------------------------+
| Fedora 40 (ARM Clang)       | PASS           | SKIPPED      | SKIPPED                   | SKIPPED                      |
+-----------------------------+----------------+--------------+---------------------------+------------------------------+
| RHEL9 (ARM)                 | PASS           | SKIPPED      | SKIPPED                   | SKIPPED                      |
+-----------------------------+----------------+--------------+---------------------------+------------------------------+
| Ubuntu 20.04 ARM SVE        | SKIPPED        | PASS         | SKIPPED                   | SKIPPED                      |
+-----------------------------+----------------+--------------+---------------------------+------------------------------+


32-bit Ubuntu 20.04.4 (ARM)
	Kernel: 5.4.0-155-generic aarch64
	Compiler: gcc 9.4

CentOS Stream 9 (ARM)
	Kernel: Container Host Kernel
	Compiler: gcc 11.4.1

Debian 11 (Buster) (ARM)
	Kernel: Container Host Kernel
	Compiler: gcc 10.2.1

Debian 12 (arm)
	Kernel: Container Host Kernel
	Compiler: gcc 12.2.0

Fedora 37 (ARM)
	Kernel: Depends on container host
	Compiler: gcc 12.3.1

Fedora 38 (ARM)
	Kernel: Depends on container host
	Compiler: gcc 13.2.1

Fedora 40 (ARM)
	Kernel: Depends on container host
	Compiler: gcc 14.1.1

Fedora 38 (ARM Clang)
	Kernel: Depends on container host
	Compiler: clang 16.0.6

Fedora 39 (ARM Clang)
	Kernel: Depends on container host
	Compiler: clang 17.0.6

Fedora 40 (ARM Clang)
	Kernel: Depends on container host
	Compiler: clang 18.1.6

RHEL9 (ARM)
	Kernel: Depends on container host
	Compiler: gcc 11.4.1

Ubuntu 20.04 ARM SVE
	Kernel: 5.4.0-167-generic
	Compiler: gcc (Ubuntu 10.5.0-1ubuntu1~20.04) 10.5.0

To view detailed results, visit:
https://lab.dpdk.org/results/dashboard/patchsets/30342/

UNH-IOL DPDK Community Lab

To manage your email subscriptions, visit: 
https://lab.dpdk.org/results/dashboard/preferences/subscriptions/