From mboxrd@z Thu Jan  1 00:00:00 1970
Return-Path: <test-report-bounces@dpdk.org>
Received: from mails.dpdk.org (mails.dpdk.org [217.70.189.124])
	by inbox.dpdk.org (Postfix) with ESMTP id 8A98345523
	for <public@inbox.dpdk.org>; Fri, 28 Jun 2024 16:53:10 +0200 (CEST)
Received: from mails.dpdk.org (localhost [127.0.0.1])
	by mails.dpdk.org (Postfix) with ESMTP id 86C11427B4;
	Fri, 28 Jun 2024 16:53:10 +0200 (CEST)
Received: from mail-yw1-f225.google.com (mail-yw1-f225.google.com
 [209.85.128.225])
 by mails.dpdk.org (Postfix) with ESMTP id 70F5A40A71
 for <test-report@dpdk.org>; Fri, 28 Jun 2024 16:53:09 +0200 (CEST)
Received: by mail-yw1-f225.google.com with SMTP id
 00721157ae682-643f1ee4b3cso7185467b3.3
 for <test-report@dpdk.org>; Fri, 28 Jun 2024 07:53:09 -0700 (PDT)
DKIM-Signature: v=1; a=rsa-sha256; c=relaxed/relaxed;
 d=iol.unh.edu; s=unh-iol; t=1719586389; x=1720191189; darn=dpdk.org;
 h=references:in-reply-to:cc:to:from:subject:message-id:date:from:to
 :cc:subject:date:message-id:reply-to;
 bh=ZkJIa8u2F5KOw988guXFA8QqDxuVDjACEikBPU/a/nI=;
 b=KaLrgeYbMNOMbCV1F4zpH0UomfbpCXzN0XDUIGZOMTpVVwsHXqVIPv7jxZxN4xNT9g
 FYo4rb5pkWaL5CDqeHq5PbXyCf+jerIBZgnfRb4a83DJwBdvBjK8/W1BkVvIA7V7EyIQ
 W8xeLjH3dR18WN7+UuEvTuglFXHPz/QPptTDQ=
X-Google-DKIM-Signature: v=1; a=rsa-sha256; c=relaxed/relaxed;
 d=1e100.net; s=20230601; t=1719586389; x=1720191189;
 h=references:in-reply-to:cc:to:from:subject:message-id:date
 :x-gm-message-state:from:to:cc:subject:date:message-id:reply-to;
 bh=ZkJIa8u2F5KOw988guXFA8QqDxuVDjACEikBPU/a/nI=;
 b=fdBxKBz3Go7WmoV2kBU0U91jyXQixl3+r8VZD2wK4ondYUHugx7T/BiXRA0i7vB5Wy
 jqlBzB6yW6VfCkqqWMrMwsxPulvuAhmRMAHYmsb8RtTB3qSIsEpN83Fn12FATyRUWS49
 Yh3t07resqdd65USYX1teT7LDtBRAS2N+39J28o9xg2mYA8rlkVfKyk8eLDq/wG9hdse
 7qNe07gFuJrUI8g7laaf9poGwsIo0bz/PPSMouJiSgg80J3SZdpbpsOwWlGk+wef/LMU
 Cvms6tMFhU2lnKsyI+xBVdHw7foBrGkoqxR5Dprj5Lxr094ygjDmEMd0Sd2jI0DSJJKK
 oHzg==
X-Gm-Message-State: AOJu0YycxDmNrkZgAcNqWlSUieRTQ778xKZAhYUMbxL2sImfUB2JOSvU
 gwoof/ppzCt1eMKZtoj2S8KGnSapM8xd9GByY15ZSxuQPXrhose8nqtsRTbf0LdZbe+9rFjHNSx
 8SuINOCG5OBoYjw/uw3dCLtHq3+FKoeHKgQrSruKg
X-Google-Smtp-Source: AGHT+IEIwLrffXwMZdEOnLdOJIMlf/x7KWQRUX1UEseLFISUX6fym+vomGEPd0KIP20ceNHRYkwzS+JFLPwH
X-Received: by 2002:a81:b511:0:b0:647:eaea:f4d9 with SMTP id
 00721157ae682-647eaeaf5a7mr80755857b3.52.1719586388734; 
 Fri, 28 Jun 2024 07:53:08 -0700 (PDT)
Received: from postal.iol.unh.edu (postal.iol.unh.edu. [132.177.123.84])
 by smtp-relay.gmail.com with ESMTPS id
 00721157ae682-64a9a13f90fsm528317b3.8.2024.06.28.07.53.08
 (version=TLS1_2 cipher=ECDHE-ECDSA-AES128-GCM-SHA256 bits=128/128);
 Fri, 28 Jun 2024 07:53:08 -0700 (PDT)
X-Relaying-Domain: iol.unh.edu
Date: Fri, 28 Jun 2024 07:53:08 -0700 (PDT)
Message-ID: <667ece54.050a0220.dfad9.3e82SMTPIN_ADDED_MISSING@mx.google.com>
Received: from [172.21.0.7] (unknown [172.18.0.240])
 by postal.iol.unh.edu (Postfix) with ESMTP id 5E1B6605C373;
 Fri, 28 Jun 2024 10:53:08 -0400 (EDT)
Subject: |PENDING| pw141963 [PATCH] [v4] config/arm: add Ampere AmpereOneAC04
From: dpdklab@iol.unh.edu
To: Test Report <test-report@dpdk.org>
Cc: dpdk-test-reports@iol.unh.edu
In-Reply-To: <20240628032247.10414-1-jiangyutang@os.amperecomputing.com>
References: <20240628032247.10414-1-jiangyutang@os.amperecomputing.com>
Content-Type: text/plain
X-BeenThere: test-report@dpdk.org
X-Mailman-Version: 2.1.29
Precedence: list
List-Id: automatic DPDK test reports <test-report.dpdk.org>
List-Unsubscribe: <https://mails.dpdk.org/options/test-report>,
 <mailto:test-report-request@dpdk.org?subject=unsubscribe>
List-Archive: <http://mails.dpdk.org/archives/test-report/>
List-Post: <mailto:test-report@dpdk.org>
List-Help: <mailto:test-report-request@dpdk.org?subject=help>
List-Subscribe: <https://mails.dpdk.org/listinfo/test-report>,
 <mailto:test-report-request@dpdk.org?subject=subscribe>
Errors-To: test-report-bounces@dpdk.org

Test-Label: iol-abi-testing
Test-Status: PENDING
http://dpdk.org/patch/141963

_Testing pending_

Submitter: Yutang Jiang <jiangyutang@os.amperecomputing.com>
Date: Friday, June 28 2024 03:22:47 
DPDK git baseline: Repo:dpdk
  Branch: master
  CommitID:c15902587b538ff02cfb0fbb4dd481f1503d936b

141963 --> testing pending

Test environment and result as below:

+-------------------+----------+
|    Environment    | abi_test |
+===================+==========+
| Debian Bullseye   | PASS     |
+-------------------+----------+
| Fedora 40         | PEND     |
+-------------------+----------+
| CentOS Stream 8   | PASS     |
+-------------------+----------+
| Fedora 38 (Clang) | PASS     |
+-------------------+----------+
| Ubuntu 24.04      | PASS     |
+-------------------+----------+
| Fedora 37         | PASS     |
+-------------------+----------+
| CentOS Stream 9   | PASS     |
+-------------------+----------+
| Fedora 39         | PASS     |
+-------------------+----------+
| Fedora 38         | PASS     |
+-------------------+----------+
| Fedora 39 (Clang) | PASS     |
+-------------------+----------+
| Debian 12         | PASS     |
+-------------------+----------+
| RHEL8             | PEND     |
+-------------------+----------+
| RHEL9             | PASS     |
+-------------------+----------+
| openSUSE Leap 15  | PASS     |
+-------------------+----------+
| Fedora 40 (Clang) | PASS     |
+-------------------+----------+
| Ubuntu 22.04      | PEND     |
+-------------------+----------+


Debian Bullseye
	Kernel: 5.4.0-167-generic
	Compiler: gcc 10.2.1-6

Fedora 40
	Kernel: Depends on container host
	Compiler: gcc 14.1.1

CentOS Stream 8
	Kernel: 5.4.0-167-generic
	Compiler: gcc 8.5.0 20210514

Fedora 38 (Clang)
	Kernel: Depends on container host
	Compiler: clang 16.0.6

Ubuntu 24.04
	Kernel: 5.4.0-167-generic
	Compiler: gcc 13.2.0

Fedora 37
	Kernel: Depends on container host system
	Compiler: gcc 12.3.1

CentOS Stream 9
	Kernel: 5.4.0-167-generic
	Compiler: gcc 11.4.1 20230605

Fedora 39
	Kernel: Depends on container host
	Compiler: gcc 13.2.1

Fedora 38
	Kernel: Depends on container host
	Compiler: gcc 13.2.1

Fedora 39 (Clang)
	Kernel: Depends on container host
	Compiler: clang 17.0.6

Debian 12
	Kernel: Container Host Kernel
	Compiler: gcc 12.2.0

RHEL8
	Kernel: 5.4.0-167-generic
	Compiler: gcc 8.5.0 20210514 (Red Hat 8.5.0-20)

RHEL9
	Kernel: Depends on container host
	Compiler: gcc 11.4.1

openSUSE Leap 15
	Kernel: 5.4.0-167-generic
	Compiler: gcc 7.5.0

Fedora 40 (Clang)
	Kernel: Depends on container host
	Compiler: clang 18.1.6

Ubuntu 22.04
	Kernel: 5.4.0-167-generic
	Compiler: gcc 11.4.0

To view detailed results, visit:
https://lab.dpdk.org/results/dashboard/patchsets/30345/

UNH-IOL DPDK Community Lab

To manage your email subscriptions, visit: 
https://lab.dpdk.org/results/dashboard/preferences/subscriptions/