From mboxrd@z Thu Jan  1 00:00:00 1970
Return-Path: <test-report-bounces@dpdk.org>
Received: from mails.dpdk.org (mails.dpdk.org [217.70.189.124])
	by inbox.dpdk.org (Postfix) with ESMTP id 60D0A45523
	for <public@inbox.dpdk.org>; Fri, 28 Jun 2024 17:12:58 +0200 (CEST)
Received: from mails.dpdk.org (localhost [127.0.0.1])
	by mails.dpdk.org (Postfix) with ESMTP id 17051410E7;
	Fri, 28 Jun 2024 17:12:58 +0200 (CEST)
Received: from mail-qv1-f99.google.com (mail-qv1-f99.google.com
 [209.85.219.99]) by mails.dpdk.org (Postfix) with ESMTP id 59C5E40A71
 for <test-report@dpdk.org>; Fri, 28 Jun 2024 17:12:56 +0200 (CEST)
Received: by mail-qv1-f99.google.com with SMTP id
 6a1803df08f44-6b05c9db85fso4312966d6.2
 for <test-report@dpdk.org>; Fri, 28 Jun 2024 08:12:56 -0700 (PDT)
DKIM-Signature: v=1; a=rsa-sha256; c=relaxed/relaxed;
 d=iol.unh.edu; s=unh-iol; t=1719587575; x=1720192375; darn=dpdk.org;
 h=references:in-reply-to:cc:to:from:subject:message-id:date:from:to
 :cc:subject:date:message-id:reply-to;
 bh=Va+HboBXS8HvB8AtTb3wZP/Rn52s1clNi3JeE9Rr3oY=;
 b=HtYzOWH36XHaRvJRhnpNwJ2c1ckFK33diL+y5HetpknzBIoJDlvvkE9LzCY0+WscQ2
 INVOORPa65O4Am9dTRQ84mwb+5JvwijGi/bvHLG9Z5K7zsptAXDgqUi9wrf6t69kvukB
 tpnH4y4UWF0FsY7JWgruDFZf9gd/v6VZG277I=
X-Google-DKIM-Signature: v=1; a=rsa-sha256; c=relaxed/relaxed;
 d=1e100.net; s=20230601; t=1719587575; x=1720192375;
 h=references:in-reply-to:cc:to:from:subject:message-id:date
 :x-gm-message-state:from:to:cc:subject:date:message-id:reply-to;
 bh=Va+HboBXS8HvB8AtTb3wZP/Rn52s1clNi3JeE9Rr3oY=;
 b=c+BAOKvRyrTqUThGCDHDXcdyNuFr3OlRMx5iKeFExI6nnkzj3ytQXuZWs4wU2bqsxi
 b9Ne9YSWB72hY/1uZV9q8zUvsVpCm/yfWf3+5uJVZkPg8UHL9WA8uRTfqKiMA8IC26GV
 vuyKeOvJf7fZX9JIuwiSIxSyF6TSaiKpUuRankt8sszQl4qROt2eHS+I37/NgnX+4ao8
 mmpsdaV5wenJyTFhCSoEJt0oxKG5J8w4DS4YTTLqiZueAlbLh3MKl3vqCq1yqH/zi7Fk
 lI/kd7ff3GP8hm53wnCJFpFY3EoziFZaNQAb0jxvjveKgzbzIB6czLXeLbb1G++soeIf
 QPTw==
X-Gm-Message-State: AOJu0YzYeiQAQ7B2kBkJfCGp0gVPSX9L9RC81+6nBZZZWXxSVsgmBQKX
 AfJgjYqeqefJciaAIZjj9u3f1RLUGkv9x5I9jqguyvPB9JO8iRAJZ8IBFDtft1KQQ6W+oCLnWuX
 DJckYeZxMXPUSoPz0GXdBeM9eZBU1VOg9+c/Ysi1z0A8hb14OX8DgBlDY
X-Google-Smtp-Source: AGHT+IHBhBo9X+OUsKNTIPa9JHc61NcYiMNg+HgKwS7zb3/qis8iMZNMQZie1qrHNTIcZT1ZKiwyxFlshk5V
X-Received: by 2002:a0c:ebcf:0:b0:6b2:d335:e914 with SMTP id
 6a1803df08f44-6b540a94c73mr194335296d6.52.1719587575759; 
 Fri, 28 Jun 2024 08:12:55 -0700 (PDT)
Received: from postal.iol.unh.edu (postal.iol.unh.edu.
 [2606:4100:3880:1234::84]) by smtp-relay.gmail.com with ESMTPS id
 6a1803df08f44-6b59e366b19sm1046756d6.15.2024.06.28.08.12.55
 (version=TLS1_2 cipher=ECDHE-ECDSA-AES128-GCM-SHA256 bits=128/128);
 Fri, 28 Jun 2024 08:12:55 -0700 (PDT)
X-Relaying-Domain: iol.unh.edu
Date: Fri, 28 Jun 2024 08:12:55 -0700 (PDT)
Message-ID: <667ed2f7.d40a0220.25e9c.793fSMTPIN_ADDED_MISSING@mx.google.com>
Received: from [172.21.0.7] (unknown [172.18.0.240])
 by postal.iol.unh.edu (Postfix) with ESMTP id 6FBBC605C373;
 Fri, 28 Jun 2024 11:12:55 -0400 (EDT)
Subject: |SUCCESS| pw141960-141962 [PATCH] [v4,3/3] bus/pci: fix secondary pr
From: dpdklab@iol.unh.edu
To: Test Report <test-report@dpdk.org>
Cc: dpdk-test-reports@iol.unh.edu
In-Reply-To: <20240628073624.4122899-4-chaoyong.he@corigine.com>
References: <20240628073624.4122899-4-chaoyong.he@corigine.com>
Content-Type: text/plain
X-BeenThere: test-report@dpdk.org
X-Mailman-Version: 2.1.29
Precedence: list
List-Id: automatic DPDK test reports <test-report.dpdk.org>
List-Unsubscribe: <https://mails.dpdk.org/options/test-report>,
 <mailto:test-report-request@dpdk.org?subject=unsubscribe>
List-Archive: <http://mails.dpdk.org/archives/test-report/>
List-Post: <mailto:test-report@dpdk.org>
List-Help: <mailto:test-report-request@dpdk.org?subject=help>
List-Subscribe: <https://mails.dpdk.org/listinfo/test-report>,
 <mailto:test-report-request@dpdk.org?subject=subscribe>
Errors-To: test-report-bounces@dpdk.org

Test-Label: iol-unit-amd64-testing
Test-Status: SUCCESS
http://dpdk.org/patch/141962

_Testing PASS_

Submitter: Chaoyong He <chaoyong.he@corigine.com>
Date: Friday, June 28 2024 07:36:24 
DPDK git baseline: Repo:dpdk
  Branch: master
  CommitID:c15902587b538ff02cfb0fbb4dd481f1503d936b

141960-141962 --> testing pass

Test environment and result as below:

+-----------------+----------------+
|   Environment   | dpdk_unit_test |
+=================+================+
| Debian Bullseye | PASS           |
+-----------------+----------------+
| CentOS Stream 8 | PASS           |
+-----------------+----------------+
| CentOS Stream 9 | PASS           |
+-----------------+----------------+
| Debian 12       | PASS           |
+-----------------+----------------+


Debian Bullseye
	Kernel: 5.4.0-167-generic
	Compiler: gcc 10.2.1-6

CentOS Stream 8
	Kernel: 5.4.0-167-generic
	Compiler: gcc 8.5.0 20210514

CentOS Stream 9
	Kernel: 5.4.0-167-generic
	Compiler: gcc 11.4.1 20230605

Debian 12
	Kernel: Container Host Kernel
	Compiler: gcc 12.2.0

To view detailed results, visit:
https://lab.dpdk.org/results/dashboard/patchsets/30344/

UNH-IOL DPDK Community Lab

To manage your email subscriptions, visit: 
https://lab.dpdk.org/results/dashboard/preferences/subscriptions/