From mboxrd@z Thu Jan  1 00:00:00 1970
Return-Path: <test-report-bounces@dpdk.org>
Received: from mails.dpdk.org (mails.dpdk.org [217.70.189.124])
	by inbox.dpdk.org (Postfix) with ESMTP id 001E745528
	for <public@inbox.dpdk.org>; Fri, 28 Jun 2024 19:26:01 +0200 (CEST)
Received: from mails.dpdk.org (localhost [127.0.0.1])
	by mails.dpdk.org (Postfix) with ESMTP id ECCCB42831;
	Fri, 28 Jun 2024 19:26:01 +0200 (CEST)
Received: from mail-io1-f100.google.com (mail-io1-f100.google.com
 [209.85.166.100])
 by mails.dpdk.org (Postfix) with ESMTP id 82FC140E96
 for <test-report@dpdk.org>; Fri, 28 Jun 2024 19:25:35 +0200 (CEST)
Received: by mail-io1-f100.google.com with SMTP id
 ca18e2360f4ac-7f3ca6869d1so33341239f.0
 for <test-report@dpdk.org>; Fri, 28 Jun 2024 10:25:35 -0700 (PDT)
DKIM-Signature: v=1; a=rsa-sha256; c=relaxed/relaxed;
 d=iol.unh.edu; s=unh-iol; t=1719595535; x=1720200335; darn=dpdk.org;
 h=references:in-reply-to:cc:to:from:subject:message-id:date:from:to
 :cc:subject:date:message-id:reply-to;
 bh=vDcSK4RszvZK+DHKIkzBBWT5I4dH8dZN0d9eRlb/rZA=;
 b=FsuliCe14r9gniO9RYS+ebKcL4sX96OO3oJ9hefxZa+hqYHSYj8t4I8S/YPJ9Bt6YS
 UNQ/8PXbWdBqYKf++cSTlBwEbqvOiIwe6tpsIF5+GvNhNlr+NGY+xOUb/5HxhJJ/U45+
 f6jrCc47LAg9UlmINRUsgkTB+0z0FYyi88Trk=
X-Google-DKIM-Signature: v=1; a=rsa-sha256; c=relaxed/relaxed;
 d=1e100.net; s=20230601; t=1719595535; x=1720200335;
 h=references:in-reply-to:cc:to:from:subject:message-id:date
 :x-gm-message-state:from:to:cc:subject:date:message-id:reply-to;
 bh=vDcSK4RszvZK+DHKIkzBBWT5I4dH8dZN0d9eRlb/rZA=;
 b=kFGI4gsg4h0Y/O0rgfuJOXUJIEV19OzNAeg1OMb8h6bfzlT+cufHA4vTnsMChlESuI
 /HZ4QHw+FQ55jh3TaiJS0UHfYYtk46le2haqckYfgASOTRqbdDXRtzx51vkEF7QosYR2
 htHgiIlLePxveznHTpweGvnHYRbSpPfbp/mdXIvlswBobP8HbR5/TsvPYh1N5M9KsbU9
 Ub2eN5eMFhSgor4lqLWbsDLC2gHTLaSqgSXb1SZI2nwOYIK6T+e9fIV1eSZUf/iPJBsn
 Hs1IcHthlohU9oDK1onkNGpM2hdIk5EHawhu+qWWzxCOQqD6BDe6w/cw8S2lfBFLaVc9
 NmIw==
X-Gm-Message-State: AOJu0YxxDPrU5aL/msd+6hgWsJSWP3yy0/1R/DebCCeF4u/U/0Eesp8w
 Lh42OKQLzD5jmaWE8lKL63QDUrOxnbLXoS4wwTNQdplNkL6fX3NkCXWPe/teagxBenTPaqEChhE
 ShY5emplX6t69WZYH4SKNe2LlRZ5YZivwRz+KcBdk
X-Google-Smtp-Source: AGHT+IFx2cfo7MqdwnCu0x0h8A1nAO/WYS01+c5iAkl+SLQy37Rv/twwDLbJnB0xsGODBC3m5faDreEBhDBE
X-Received: by 2002:a05:6602:4fd7:b0:7f3:d795:d9f9 with SMTP id
 ca18e2360f4ac-7f3d795dac5mr655641639f.18.1719595534874; 
 Fri, 28 Jun 2024 10:25:34 -0700 (PDT)
Received: from postal.iol.unh.edu (postal.iol.unh.edu. [132.177.123.84])
 by smtp-relay.gmail.com with ESMTPS id
 8926c6da1cb9f-4bb73dff5f1sm63260173.20.2024.06.28.10.25.34
 (version=TLS1_2 cipher=ECDHE-ECDSA-AES128-GCM-SHA256 bits=128/128);
 Fri, 28 Jun 2024 10:25:34 -0700 (PDT)
X-Relaying-Domain: iol.unh.edu
Date: Fri, 28 Jun 2024 10:25:34 -0700 (PDT)
Message-ID: <667ef20e.050a0220.8a7a6.45eeSMTPIN_ADDED_MISSING@mx.google.com>
Received: from [172.21.0.8] (unknown [172.18.0.240])
 by postal.iol.unh.edu (Postfix) with ESMTP id 606F3605C373;
 Fri, 28 Jun 2024 13:25:34 -0400 (EDT)
Subject: |PENDING| pw141971-141973 [PATCH] [v4,3/3] dts: queue suite conf sch
From: dpdklab@iol.unh.edu
To: Test Report <test-report@dpdk.org>
Cc: dpdk-test-reports@iol.unh.edu
In-Reply-To: <20240628161930.15915-3-dmarx@iol.unh.edu>
References: <20240628161930.15915-3-dmarx@iol.unh.edu>
Content-Type: text/plain
X-BeenThere: test-report@dpdk.org
X-Mailman-Version: 2.1.29
Precedence: list
List-Id: automatic DPDK test reports <test-report.dpdk.org>
List-Unsubscribe: <https://mails.dpdk.org/options/test-report>,
 <mailto:test-report-request@dpdk.org?subject=unsubscribe>
List-Archive: <http://mails.dpdk.org/archives/test-report/>
List-Post: <mailto:test-report@dpdk.org>
List-Help: <mailto:test-report-request@dpdk.org?subject=help>
List-Subscribe: <https://mails.dpdk.org/listinfo/test-report>,
 <mailto:test-report-request@dpdk.org?subject=subscribe>
Errors-To: test-report-bounces@dpdk.org

Test-Label: iol-abi-testing
Test-Status: PENDING
http://dpdk.org/patch/141973

_Testing pending_

Submitter: Dean Marx <dmarx@iol.unh.edu>
Date: Friday, June 28 2024 16:19:30 
DPDK git baseline: Repo:dpdk
  Branch: master
  CommitID:c15902587b538ff02cfb0fbb4dd481f1503d936b

141971-141973 --> testing pending

Test environment and result as below:

+-------------------+----------+
|    Environment    | abi_test |
+===================+==========+
| CentOS Stream 8   | PASS     |
+-------------------+----------+
| CentOS Stream 9   | PEND     |
+-------------------+----------+
| Debian Bullseye   | PEND     |
+-------------------+----------+
| Fedora 37         | PEND     |
+-------------------+----------+
| Fedora 38 (Clang) | PEND     |
+-------------------+----------+
| Debian 12         | PASS     |
+-------------------+----------+
| Fedora 39 (Clang) | PEND     |
+-------------------+----------+
| Fedora 39         | PASS     |
+-------------------+----------+
| Fedora 38         | PEND     |
+-------------------+----------+
| Fedora 40 (Clang) | PEND     |
+-------------------+----------+
| RHEL8             | PEND     |
+-------------------+----------+
| openSUSE Leap 15  | PEND     |
+-------------------+----------+
| Fedora 40         | PEND     |
+-------------------+----------+
| Ubuntu 24.04      | PEND     |
+-------------------+----------+
| Ubuntu 22.04      | PEND     |
+-------------------+----------+
| RHEL9             | PEND     |
+-------------------+----------+


CentOS Stream 8
	Kernel: 5.4.0-167-generic
	Compiler: gcc 8.5.0 20210514

CentOS Stream 9
	Kernel: 5.4.0-167-generic
	Compiler: gcc 11.4.1 20230605

Debian Bullseye
	Kernel: 5.4.0-167-generic
	Compiler: gcc 10.2.1-6

Fedora 37
	Kernel: Depends on container host system
	Compiler: gcc 12.3.1

Fedora 38 (Clang)
	Kernel: Depends on container host
	Compiler: clang 16.0.6

Debian 12
	Kernel: Container Host Kernel
	Compiler: gcc 12.2.0

Fedora 39 (Clang)
	Kernel: Depends on container host
	Compiler: clang 17.0.6

Fedora 39
	Kernel: Depends on container host
	Compiler: gcc 13.2.1

Fedora 38
	Kernel: Depends on container host
	Compiler: gcc 13.2.1

Fedora 40 (Clang)
	Kernel: Depends on container host
	Compiler: clang 18.1.6

RHEL8
	Kernel: 5.4.0-167-generic
	Compiler: gcc 8.5.0 20210514 (Red Hat 8.5.0-20)

openSUSE Leap 15
	Kernel: 5.4.0-167-generic
	Compiler: gcc 7.5.0

Fedora 40
	Kernel: Depends on container host
	Compiler: gcc 14.1.1

Ubuntu 24.04
	Kernel: 5.4.0-167-generic
	Compiler: gcc 13.2.0

Ubuntu 22.04
	Kernel: 5.4.0-167-generic
	Compiler: gcc 11.4.0

RHEL9
	Kernel: Depends on container host
	Compiler: gcc 11.4.1

To view detailed results, visit:
https://lab.dpdk.org/results/dashboard/patchsets/30350/

UNH-IOL DPDK Community Lab

To manage your email subscriptions, visit: 
https://lab.dpdk.org/results/dashboard/preferences/subscriptions/