From mboxrd@z Thu Jan  1 00:00:00 1970
Return-Path: <test-report-bounces@dpdk.org>
Received: from mails.dpdk.org (mails.dpdk.org [217.70.189.124])
	by inbox.dpdk.org (Postfix) with ESMTP id 4D9F845529
	for <public@inbox.dpdk.org>; Fri, 28 Jun 2024 19:49:22 +0200 (CEST)
Received: from mails.dpdk.org (localhost [127.0.0.1])
	by mails.dpdk.org (Postfix) with ESMTP id 49D42427E2;
	Fri, 28 Jun 2024 19:49:22 +0200 (CEST)
Received: from mail-yb1-f226.google.com (mail-yb1-f226.google.com
 [209.85.219.226])
 by mails.dpdk.org (Postfix) with ESMTP id 5549440E96
 for <test-report@dpdk.org>; Fri, 28 Jun 2024 19:48:47 +0200 (CEST)
Received: by mail-yb1-f226.google.com with SMTP id
 3f1490d57ef6-df481bf6680so896668276.3
 for <test-report@dpdk.org>; Fri, 28 Jun 2024 10:48:47 -0700 (PDT)
DKIM-Signature: v=1; a=rsa-sha256; c=relaxed/relaxed;
 d=iol.unh.edu; s=unh-iol; t=1719596927; x=1720201727; darn=dpdk.org;
 h=references:in-reply-to:cc:to:from:subject:message-id:date:from:to
 :cc:subject:date:message-id:reply-to;
 bh=asi1BPHX3XgU0nlvkPNAAS73Jo0/nNxf/vYJWGm/N90=;
 b=XM0Nh6EQcJJYLUoX/0NUWnVeCRxGytCeYYZAbEM/QncRkinEtEXP0OIsbC+SIWek7p
 8KWrxM7lDG10mjN2bCgJHQ2n7gmatGGW3JgyK6IbzMvKibZNfG+Xk8xvA9a0z/ebzqQ7
 d6C6Y7CGyjkLjELFjrri/CfEkwNyVnJVFbqpY=
X-Google-DKIM-Signature: v=1; a=rsa-sha256; c=relaxed/relaxed;
 d=1e100.net; s=20230601; t=1719596927; x=1720201727;
 h=references:in-reply-to:cc:to:from:subject:message-id:date
 :x-gm-message-state:from:to:cc:subject:date:message-id:reply-to;
 bh=asi1BPHX3XgU0nlvkPNAAS73Jo0/nNxf/vYJWGm/N90=;
 b=ryip9J5SwdBu8kfGraCW83GXlwyiwOjH4BBx9ZniV0V+Ow3f9Z5DlotvhTtAAUml13
 Yx2G8MD2CKqhpZcFMdw9jlK/StBnvTACDzRv85VHyXKwkUApGI9zJieVXYtbs6Q+o8w9
 5CokVvZsY51Rb5HDqyHZq2US0f+lvtC35vq4oX/SYhB1Hc+/hDRzUuop7J0XWUfM9y1m
 fWagYdxJdTgMzvCBpf79gEU14sumr8FLe+fEDACyMPjZbFgsB6A7UJBu018kPIZCGpH9
 bOaKasnsD6h7mlpI/JrRk9lnjfJVflZ8lCZ6yA61/bbSwxIOSD5BYaOHR8Dk+Hhzrqwr
 xH5w==
X-Gm-Message-State: AOJu0YzGf1YvtJwPgK6QRUVANzKohqO7Fo76bIEZfoudrxFXqhC7xDBJ
 MaX1dQf4qW7KBCcMnKZEXnASjv4srRwCIUm6BkRPtvLGodqTkqX/HhDJeeQnqv46lSVVYmGMg6X
 GgSXmMuLUL4/UN1plcFQrML/bQJniTk90yBImI5g1
X-Google-Smtp-Source: AGHT+IF9aiB2yvAzOy6YJ5PGYQrdmpearoSVmNGzXYK4bzpklRoLd8LPn5kdn8kzKagVsB7WNgI19qAh3gGm
X-Received: by 2002:a25:df0c:0:b0:e03:4194:1e1a with SMTP id
 3f1490d57ef6-e0341941fc2mr7791260276.3.1719596926784; 
 Fri, 28 Jun 2024 10:48:46 -0700 (PDT)
Received: from postal.iol.unh.edu (postal.iol.unh.edu. [132.177.123.84])
 by smtp-relay.gmail.com with ESMTPS id
 3f1490d57ef6-e035407a0e4sm81900276.23.2024.06.28.10.48.46
 (version=TLS1_2 cipher=ECDHE-ECDSA-AES128-GCM-SHA256 bits=128/128);
 Fri, 28 Jun 2024 10:48:46 -0700 (PDT)
X-Relaying-Domain: iol.unh.edu
Date: Fri, 28 Jun 2024 10:48:46 -0700 (PDT)
Message-ID: <667ef77e.050a0220.e5635.5de2SMTPIN_ADDED_MISSING@mx.google.com>
Received: from [172.21.0.7] (unknown [172.18.0.240])
 by postal.iol.unh.edu (Postfix) with ESMTP id 6B3CF605C373;
 Fri, 28 Jun 2024 13:48:46 -0400 (EDT)
Subject: |PENDING| pw141971-141973 [PATCH] [v4,3/3] dts: queue suite conf sch
From: dpdklab@iol.unh.edu
To: Test Report <test-report@dpdk.org>
Cc: dpdk-test-reports@iol.unh.edu
In-Reply-To: <20240628161930.15915-3-dmarx@iol.unh.edu>
References: <20240628161930.15915-3-dmarx@iol.unh.edu>
Content-Type: text/plain
X-BeenThere: test-report@dpdk.org
X-Mailman-Version: 2.1.29
Precedence: list
List-Id: automatic DPDK test reports <test-report.dpdk.org>
List-Unsubscribe: <https://mails.dpdk.org/options/test-report>,
 <mailto:test-report-request@dpdk.org?subject=unsubscribe>
List-Archive: <http://mails.dpdk.org/archives/test-report/>
List-Post: <mailto:test-report@dpdk.org>
List-Help: <mailto:test-report-request@dpdk.org?subject=help>
List-Subscribe: <https://mails.dpdk.org/listinfo/test-report>,
 <mailto:test-report-request@dpdk.org?subject=subscribe>
Errors-To: test-report-bounces@dpdk.org

Test-Label: iol-abi-testing
Test-Status: PENDING
http://dpdk.org/patch/141973

_Testing pending_

Submitter: Dean Marx <dmarx@iol.unh.edu>
Date: Friday, June 28 2024 16:19:30 
DPDK git baseline: Repo:dpdk
  Branch: master
  CommitID:c15902587b538ff02cfb0fbb4dd481f1503d936b

141971-141973 --> testing pending

Test environment and result as below:

+-------------------+----------+
|    Environment    | abi_test |
+===================+==========+
| CentOS Stream 8   | PASS     |
+-------------------+----------+
| CentOS Stream 9   | PASS     |
+-------------------+----------+
| Debian Bullseye   | PASS     |
+-------------------+----------+
| Fedora 37         | PEND     |
+-------------------+----------+
| Fedora 38 (Clang) | PEND     |
+-------------------+----------+
| Debian 12         | PASS     |
+-------------------+----------+
| Fedora 39 (Clang) | PEND     |
+-------------------+----------+
| Fedora 39         | PASS     |
+-------------------+----------+
| Fedora 38         | PEND     |
+-------------------+----------+
| Fedora 40 (Clang) | PASS     |
+-------------------+----------+
| RHEL8             | PASS     |
+-------------------+----------+
| openSUSE Leap 15  | PASS     |
+-------------------+----------+
| Fedora 40         | PEND     |
+-------------------+----------+
| Ubuntu 24.04      | PEND     |
+-------------------+----------+
| Ubuntu 22.04      | PEND     |
+-------------------+----------+
| RHEL9             | PEND     |
+-------------------+----------+


CentOS Stream 8
	Kernel: 5.4.0-167-generic
	Compiler: gcc 8.5.0 20210514

CentOS Stream 9
	Kernel: 5.4.0-167-generic
	Compiler: gcc 11.4.1 20230605

Debian Bullseye
	Kernel: 5.4.0-167-generic
	Compiler: gcc 10.2.1-6

Fedora 37
	Kernel: Depends on container host system
	Compiler: gcc 12.3.1

Fedora 38 (Clang)
	Kernel: Depends on container host
	Compiler: clang 16.0.6

Debian 12
	Kernel: Container Host Kernel
	Compiler: gcc 12.2.0

Fedora 39 (Clang)
	Kernel: Depends on container host
	Compiler: clang 17.0.6

Fedora 39
	Kernel: Depends on container host
	Compiler: gcc 13.2.1

Fedora 38
	Kernel: Depends on container host
	Compiler: gcc 13.2.1

Fedora 40 (Clang)
	Kernel: Depends on container host
	Compiler: clang 18.1.6

RHEL8
	Kernel: 5.4.0-167-generic
	Compiler: gcc 8.5.0 20210514 (Red Hat 8.5.0-20)

openSUSE Leap 15
	Kernel: 5.4.0-167-generic
	Compiler: gcc 7.5.0

Fedora 40
	Kernel: Depends on container host
	Compiler: gcc 14.1.1

Ubuntu 24.04
	Kernel: 5.4.0-167-generic
	Compiler: gcc 13.2.0

Ubuntu 22.04
	Kernel: 5.4.0-167-generic
	Compiler: gcc 11.4.0

RHEL9
	Kernel: Depends on container host
	Compiler: gcc 11.4.1

To view detailed results, visit:
https://lab.dpdk.org/results/dashboard/patchsets/30350/

UNH-IOL DPDK Community Lab

To manage your email subscriptions, visit: 
https://lab.dpdk.org/results/dashboard/preferences/subscriptions/