From mboxrd@z Thu Jan  1 00:00:00 1970
Return-Path: <test-report-bounces@dpdk.org>
Received: from mails.dpdk.org (mails.dpdk.org [217.70.189.124])
	by inbox.dpdk.org (Postfix) with ESMTP id 5F4A445527
	for <public@inbox.dpdk.org>; Fri, 28 Jun 2024 20:22:17 +0200 (CEST)
Received: from mails.dpdk.org (localhost [127.0.0.1])
	by mails.dpdk.org (Postfix) with ESMTP id 5B1DE40E96;
	Fri, 28 Jun 2024 20:22:17 +0200 (CEST)
Received: from mail-qt1-f228.google.com (mail-qt1-f228.google.com
 [209.85.160.228])
 by mails.dpdk.org (Postfix) with ESMTP id E35B44064E
 for <test-report@dpdk.org>; Fri, 28 Jun 2024 20:22:15 +0200 (CEST)
Received: by mail-qt1-f228.google.com with SMTP id
 d75a77b69052e-446340c6608so7318541cf.1
 for <test-report@dpdk.org>; Fri, 28 Jun 2024 11:22:15 -0700 (PDT)
DKIM-Signature: v=1; a=rsa-sha256; c=relaxed/relaxed;
 d=iol.unh.edu; s=unh-iol; t=1719598935; x=1720203735; darn=dpdk.org;
 h=references:in-reply-to:cc:to:from:subject:message-id:date:from:to
 :cc:subject:date:message-id:reply-to;
 bh=1wyc7RJkvQzezdupN4VEkhf6AvT9QQC02+KeHKGo+kU=;
 b=hdfY7aIjhDboptQOEPr4MNSGGju2MUwqYBIqktaLskt57DIYkR7cYWq5oomB2vpuxx
 XNm9VY2BiK71L67dzrcRY52hxfprXzzMVml4sOt5dY4ycgy+qRyRhn76QHZBGjvH5ddr
 kEeYrAmOiYvNvhWc5tkMwn3LiSXEuLl2rnUvE=
X-Google-DKIM-Signature: v=1; a=rsa-sha256; c=relaxed/relaxed;
 d=1e100.net; s=20230601; t=1719598935; x=1720203735;
 h=references:in-reply-to:cc:to:from:subject:message-id:date
 :x-gm-message-state:from:to:cc:subject:date:message-id:reply-to;
 bh=1wyc7RJkvQzezdupN4VEkhf6AvT9QQC02+KeHKGo+kU=;
 b=GOSwa4xtqDHsumYCjkLowuYggt0nr//YNcATkx6ywdK+/TECGCW8qvuUGyM/B3diB8
 A0lFHgCXCSzr6YCa1sHQq6NcQmRDj2EWN79trtA/G+TjQCZbtlnL2XzRltfCdiAQ0Bbq
 Oypur7vk7sQeS+gywXxQLPBkmmxEYoQ9cjNzzVLm8lh1CWFEc5aIEjml8RABQN4yacW9
 6tYk6xmrd3BGMjdoCDp5JmwIPuqYZTLkg9HR2yL3PizSeBNDvybRFuvBYXXIDDz5AqeA
 z6b36eLc+wYzFfpxh5fJZ9w1AcqCmVxC/4uGly//d0epYdsv6nBfrwkNRNH4eiIImftT
 9xLw==
X-Gm-Message-State: AOJu0YwOUpTth8wX0nzW3smtZHPaTKG1msOdeh8TYve5xMi0o7mbRR4e
 YsXIYP2LBnHw/iFCc/ZUQlpW361lzOC6H6OeRQF/+pwZRdKzvPypWfgFN4tf/0ejOtqeY88C0ZC
 Jja16n6DONMpwHLsXRs5KzXHuO/QRLjOaStR2u1NhS0zYBtlW3JULMHDn
X-Google-Smtp-Source: AGHT+IFknf1LyYE/lLBDdl0ow/VDN+HiGVPiP8ELr/x3xpgLrB5SOh9hKe4eZZaqcl6h3UuVtONYJG7HEq1U
X-Received: by 2002:a05:622a:1213:b0:444:ef14:e427 with SMTP id
 d75a77b69052e-444ef16dcb5mr145689111cf.52.1719598935342; 
 Fri, 28 Jun 2024 11:22:15 -0700 (PDT)
Received: from postal.iol.unh.edu (postal.iol.unh.edu.
 [2606:4100:3880:1234::84]) by smtp-relay.gmail.com with ESMTPS id
 d75a77b69052e-446514b5c40sm573621cf.27.2024.06.28.11.22.15
 (version=TLS1_2 cipher=ECDHE-ECDSA-AES128-GCM-SHA256 bits=128/128);
 Fri, 28 Jun 2024 11:22:15 -0700 (PDT)
X-Relaying-Domain: iol.unh.edu
Date: Fri, 28 Jun 2024 11:22:15 -0700 (PDT)
Message-ID: <667eff57.050a0220.987c1.4377SMTPIN_ADDED_MISSING@mx.google.com>
Received: from [172.21.0.7] (unknown [172.18.0.240])
 by postal.iol.unh.edu (Postfix) with ESMTP id 0E6D5605C373;
 Fri, 28 Jun 2024 14:22:15 -0400 (EDT)
Subject: |PENDING| pw141971-141973 [PATCH] [v4,3/3] dts: queue suite conf sch
From: dpdklab@iol.unh.edu
To: Test Report <test-report@dpdk.org>
Cc: dpdk-test-reports@iol.unh.edu
In-Reply-To: <20240628161930.15915-3-dmarx@iol.unh.edu>
References: <20240628161930.15915-3-dmarx@iol.unh.edu>
Content-Type: text/plain
X-BeenThere: test-report@dpdk.org
X-Mailman-Version: 2.1.29
Precedence: list
List-Id: automatic DPDK test reports <test-report.dpdk.org>
List-Unsubscribe: <https://mails.dpdk.org/options/test-report>,
 <mailto:test-report-request@dpdk.org?subject=unsubscribe>
List-Archive: <http://mails.dpdk.org/archives/test-report/>
List-Post: <mailto:test-report@dpdk.org>
List-Help: <mailto:test-report-request@dpdk.org?subject=help>
List-Subscribe: <https://mails.dpdk.org/listinfo/test-report>,
 <mailto:test-report-request@dpdk.org?subject=subscribe>
Errors-To: test-report-bounces@dpdk.org

Test-Label: iol-compile-arm64-testing
Test-Status: PENDING
http://dpdk.org/patch/141973

_Testing pending_

Submitter: Dean Marx <dmarx@iol.unh.edu>
Date: Friday, June 28 2024 16:19:30 
DPDK git baseline: Repo:dpdk
  Branch: master
  CommitID:c15902587b538ff02cfb0fbb4dd481f1503d936b

141971-141973 --> testing pending

Test environment and result as below:

+----------------------------------------+--------------------+
|              Environment               | dpdk_meson_compile |
+========================================+====================+
| RHEL9 (ARM)                            | PASS               |
+----------------------------------------+--------------------+
| Ubuntu 20.04 ARM SVE                   | PASS               |
+----------------------------------------+--------------------+
| Fedora 37 (ARM)                        | PASS               |
+----------------------------------------+--------------------+
| Ubuntu 20.04 ARM GCC Cross Compile     | PEND               |
+----------------------------------------+--------------------+
| Fedora 38 (ARM Clang)                  | PEND               |
+----------------------------------------+--------------------+
| Fedora 38 (ARM)                        | PASS               |
+----------------------------------------+--------------------+
| Fedora 39 (ARM Clang)                  | PEND               |
+----------------------------------------+--------------------+
| Fedora 39 (ARM)                        | PASS               |
+----------------------------------------+--------------------+
| Ubuntu 24.04 (ARM)                     | PASS               |
+----------------------------------------+--------------------+
| Fedora 40 (ARM Clang)                  | PEND               |
+----------------------------------------+--------------------+
| Ubuntu 22.04 (ARM)                     | PEND               |
+----------------------------------------+--------------------+
| Ubuntu 20.04 (ARM)                     | PEND               |
+----------------------------------------+--------------------+
| Debian 11 (Buster) (ARM)               | PEND               |
+----------------------------------------+--------------------+
| CentOS Stream 9 (ARM)                  | PEND               |
+----------------------------------------+--------------------+
| Debian 12 (arm)                        | PEND               |
+----------------------------------------+--------------------+
| Ubuntu 20.04 ARM Clang Cross Compile   | PEND               |
+----------------------------------------+--------------------+
| Ubuntu 20.04 aarch32 GCC Cross Compile | PEND               |
+----------------------------------------+--------------------+


RHEL9 (ARM)
	Kernel: Depends on container host
	Compiler: gcc 11.4.1

Ubuntu 20.04 ARM SVE
	Kernel: 5.4.0-167-generic
	Compiler: gcc (Ubuntu 10.5.0-1ubuntu1~20.04) 10.5.0

Fedora 37 (ARM)
	Kernel: Depends on container host
	Compiler: gcc 12.3.1

Ubuntu 20.04 ARM GCC Cross Compile
	Kernel: 5.4.0-167-generic
	Compiler: aarch64-linux-gnu-gcc (Ubuntu 9.4.0-1ubuntu1~20.04.2) 9.4.0

Fedora 38 (ARM Clang)
	Kernel: Depends on container host
	Compiler: clang 16.0.6

Fedora 38 (ARM)
	Kernel: Depends on container host
	Compiler: gcc 13.2.1

Fedora 39 (ARM Clang)
	Kernel: Depends on container host
	Compiler: clang 17.0.6

Fedora 39 (ARM)
	Kernel: Depends on container host
	Compiler: gcc 13.2.1

Ubuntu 24.04 (ARM)
	Kernel: 5.4.0-167-generic
	Compiler: gcc 13.2.0

Fedora 40 (ARM Clang)
	Kernel: Depends on container host
	Compiler: clang 18.1.6

Ubuntu 22.04 (ARM)
	Kernel: Container Host Kernel
	Compiler: gcc 11.4.0

Ubuntu 20.04 (ARM)
	Kernel: Container Host Kernel
	Compiler: gcc 9.4.0

Debian 11 (Buster) (ARM)
	Kernel: Container Host Kernel
	Compiler: gcc 10.2.1

CentOS Stream 9 (ARM)
	Kernel: Container Host Kernel
	Compiler: gcc 11.4.1

Debian 12 (arm)
	Kernel: Container Host Kernel
	Compiler: gcc 12.2.0

Ubuntu 20.04 ARM Clang Cross Compile
	Kernel: 5.4.0-72-generic
	Compiler: clang 10.0.0-4ubuntu1

Ubuntu 20.04 aarch32 GCC Cross Compile
	Kernel: 5.4.0-167-generic
	Compiler: gcc 9.4.0

To view detailed results, visit:
https://lab.dpdk.org/results/dashboard/patchsets/30350/

UNH-IOL DPDK Community Lab

To manage your email subscriptions, visit: 
https://lab.dpdk.org/results/dashboard/preferences/subscriptions/