From mboxrd@z Thu Jan  1 00:00:00 1970
Return-Path: <test-report-bounces@dpdk.org>
Received: from mails.dpdk.org (mails.dpdk.org [217.70.189.124])
	by inbox.dpdk.org (Postfix) with ESMTP id F2EF045527
	for <public@inbox.dpdk.org>; Fri, 28 Jun 2024 22:32:54 +0200 (CEST)
Received: from mails.dpdk.org (localhost [127.0.0.1])
	by mails.dpdk.org (Postfix) with ESMTP id EF2AE40EE2;
	Fri, 28 Jun 2024 22:32:54 +0200 (CEST)
Received: from mail-il1-f228.google.com (mail-il1-f228.google.com
 [209.85.166.228])
 by mails.dpdk.org (Postfix) with ESMTP id DD0E740E96
 for <test-report@dpdk.org>; Fri, 28 Jun 2024 22:32:53 +0200 (CEST)
Received: by mail-il1-f228.google.com with SMTP id
 e9e14a558f8ab-3762abfe005so4076585ab.2
 for <test-report@dpdk.org>; Fri, 28 Jun 2024 13:32:53 -0700 (PDT)
DKIM-Signature: v=1; a=rsa-sha256; c=relaxed/relaxed;
 d=iol.unh.edu; s=unh-iol; t=1719606773; x=1720211573; darn=dpdk.org;
 h=references:in-reply-to:cc:to:from:subject:message-id:date:from:to
 :cc:subject:date:message-id:reply-to;
 bh=FJ5t2Rqkw1ghr0qmlx0ukXFkS719qBJV+LEW7R2Rvbc=;
 b=hhuGxhRDFKbMQS5GUfrDPb9hgllUIoI7HeBw8vEoOgq2pcb0rj5eaNSnBIcd/9ApKt
 S9s8HgI2jhQKHy18f3T7K00Vb4LEy3aeMtD/MJbfiQUbGuv+R01u3+ztYH6gAw8ieqqf
 0+fJ2EJo+pfFKgXlEtM8poRUsJ6z8JYBW2IWE=
X-Google-DKIM-Signature: v=1; a=rsa-sha256; c=relaxed/relaxed;
 d=1e100.net; s=20230601; t=1719606773; x=1720211573;
 h=references:in-reply-to:cc:to:from:subject:message-id:date
 :x-gm-message-state:from:to:cc:subject:date:message-id:reply-to;
 bh=FJ5t2Rqkw1ghr0qmlx0ukXFkS719qBJV+LEW7R2Rvbc=;
 b=eTIRku1CgDQizdmsuIGTukbm4YReILK26v2W7GUAnE+XWW0L/k/7kecLqSTqYyHoID
 l4HI/lM/FvBYkFCN15BbQxcTtiZk+7ft7qnTs+MNAtda9zJUNBrNJxMyE6+ufhfmuk+l
 CoOhuj0/MPHoUKmz+TARi18FuFgsZcH6RAwpdNGyogizX+iXLjAk3H6izASmq3asAQyZ
 TsdEYWG/tMRgeJBjPWE1VvrkEghbaWgM+rFk/gN2omcP++gkI4Rbhs9lHg5q9z9nCkxi
 BxAsBTVAHjr/LcR2GiK8W7NfJH8MPLAKSv7/fxAkdFIwV+7D4dizVPQ0M028EJSiJzqL
 lX7w==
X-Gm-Message-State: AOJu0YwsT0MFPejjO9TK65Ezq3wALMgORwJqod4abJqZTwrwpfxCILy2
 9Lbs5ztseQVAzymbwaf6Xi7AWUWufLGwTzYjG7aRkA9ULn5Tuq7DjqphaG6QUOlSe8Mp/+nETWR
 i1pEszhekNSEhq/X3EWAD/e4rQ6QitXWT3H7jcc+R
X-Google-Smtp-Source: AGHT+IEux46bf8Qpaho4T6bJK9tYGhFKbj6LqXXS66P94dHLxTLgARdgdZW2WMTGA5PDlYpidiU4zC1XaPWo
X-Received: by 2002:a05:6e02:2162:b0:374:93d5:e370 with SMTP id
 e9e14a558f8ab-3763f6cc395mr239932165ab.23.1719606773198; 
 Fri, 28 Jun 2024 13:32:53 -0700 (PDT)
Received: from postal.iol.unh.edu (postal.iol.unh.edu. [132.177.123.84])
 by smtp-relay.gmail.com with ESMTPS id
 e9e14a558f8ab-37ad2f4058dsm1036965ab.38.2024.06.28.13.32.53
 (version=TLS1_2 cipher=ECDHE-ECDSA-AES128-GCM-SHA256 bits=128/128);
 Fri, 28 Jun 2024 13:32:53 -0700 (PDT)
X-Relaying-Domain: iol.unh.edu
Date: Fri, 28 Jun 2024 13:32:53 -0700 (PDT)
Message-ID: <667f1df5.920a0220.0b3f.7467SMTPIN_ADDED_MISSING@mx.google.com>
Received: from [172.21.0.6] (unknown [172.18.0.240])
 by postal.iol.unh.edu (Postfix) with ESMTP id C9787605C373;
 Fri, 28 Jun 2024 16:32:52 -0400 (EDT)
Subject: |PENDING| pw141966-141968 [PATCH] [v8,3/3] dts: config schema
From: dpdklab@iol.unh.edu
To: Test Report <test-report@dpdk.org>
Cc: dpdk-test-reports@iol.unh.edu
In-Reply-To: <20240628140010.27425-3-dmarx@iol.unh.edu>
References: <20240628140010.27425-3-dmarx@iol.unh.edu>
Content-Type: text/plain
X-BeenThere: test-report@dpdk.org
X-Mailman-Version: 2.1.29
Precedence: list
List-Id: automatic DPDK test reports <test-report.dpdk.org>
List-Unsubscribe: <https://mails.dpdk.org/options/test-report>,
 <mailto:test-report-request@dpdk.org?subject=unsubscribe>
List-Archive: <http://mails.dpdk.org/archives/test-report/>
List-Post: <mailto:test-report@dpdk.org>
List-Help: <mailto:test-report-request@dpdk.org?subject=help>
List-Subscribe: <https://mails.dpdk.org/listinfo/test-report>,
 <mailto:test-report-request@dpdk.org?subject=subscribe>
Errors-To: test-report-bounces@dpdk.org

Test-Label: iol-unit-amd64-testing
Test-Status: PENDING
http://dpdk.org/patch/141968

_Testing pending_

Submitter: Dean Marx <dmarx@iol.unh.edu>
Date: Friday, June 28 2024 14:00:10 
DPDK git baseline: Repo:dpdk
  Branch: master
  CommitID:c15902587b538ff02cfb0fbb4dd481f1503d936b

141966-141968 --> testing pending

Test environment and result as below:

+-------------------+----------------+
|    Environment    | dpdk_unit_test |
+===================+================+
| CentOS Stream 8   | PASS           |
+-------------------+----------------+
| CentOS Stream 9   | PASS           |
+-------------------+----------------+
| Debian 12         | PASS           |
+-------------------+----------------+
| Fedora 38         | PASS           |
+-------------------+----------------+
| Fedora 37         | PASS           |
+-------------------+----------------+
| Fedora 38 (Clang) | PASS           |
+-------------------+----------------+
| Fedora 39         | PASS           |
+-------------------+----------------+
| Fedora 39 (Clang) | PASS           |
+-------------------+----------------+
| Fedora 40 (Clang) | PEND           |
+-------------------+----------------+
| Fedora 40         | PASS           |
+-------------------+----------------+
| openSUSE Leap 15  | PEND           |
+-------------------+----------------+
| RHEL8             | PEND           |
+-------------------+----------------+
| RHEL9             | PEND           |
+-------------------+----------------+
| Ubuntu 20.04      | PEND           |
+-------------------+----------------+
| Ubuntu 22.04      | PEND           |
+-------------------+----------------+
| Ubuntu 24.04      | PEND           |
+-------------------+----------------+
| Debian Bullseye   | PEND           |
+-------------------+----------------+


CentOS Stream 8
	Kernel: 5.4.0-167-generic
	Compiler: gcc 8.5.0 20210514

CentOS Stream 9
	Kernel: 5.4.0-167-generic
	Compiler: gcc 11.4.1 20230605

Debian 12
	Kernel: Container Host Kernel
	Compiler: gcc 12.2.0

Fedora 38
	Kernel: Depends on container host
	Compiler: gcc 13.2.1

Fedora 37
	Kernel: Depends on container host system
	Compiler: gcc 12.3.1

Fedora 38 (Clang)
	Kernel: Depends on container host
	Compiler: clang 16.0.6

Fedora 39
	Kernel: Depends on container host
	Compiler: gcc 13.2.1

Fedora 39 (Clang)
	Kernel: Depends on container host
	Compiler: clang 17.0.6

Fedora 40 (Clang)
	Kernel: Depends on container host
	Compiler: clang 18.1.6

Fedora 40
	Kernel: Depends on container host
	Compiler: gcc 14.1.1

openSUSE Leap 15
	Kernel: 5.4.0-167-generic
	Compiler: gcc 7.5.0

RHEL8
	Kernel: 5.4.0-167-generic
	Compiler: gcc 8.5.0 20210514 (Red Hat 8.5.0-20)

RHEL9
	Kernel: Depends on container host
	Compiler: gcc 11.4.1

Ubuntu 20.04
	Kernel: 5.4.0-167-generic
	Compiler: gcc 9.4.0-1ubuntu1~20.04.1

Ubuntu 22.04
	Kernel: 5.4.0-167-generic
	Compiler: gcc 11.4.0

Ubuntu 24.04
	Kernel: 5.4.0-167-generic
	Compiler: gcc 13.2.0

Debian Bullseye
	Kernel: 5.4.0-167-generic
	Compiler: gcc 10.2.1-6

To view detailed results, visit:
https://lab.dpdk.org/results/dashboard/patchsets/30348/

UNH-IOL DPDK Community Lab

To manage your email subscriptions, visit: 
https://lab.dpdk.org/results/dashboard/preferences/subscriptions/