From mboxrd@z Thu Jan  1 00:00:00 1970
Return-Path: <test-report-bounces@dpdk.org>
Received: from mails.dpdk.org (mails.dpdk.org [217.70.189.124])
	by inbox.dpdk.org (Postfix) with ESMTP id 9D3A645527
	for <public@inbox.dpdk.org>; Fri, 28 Jun 2024 22:49:04 +0200 (CEST)
Received: from mails.dpdk.org (localhost [127.0.0.1])
	by mails.dpdk.org (Postfix) with ESMTP id 98E5E40EE2;
	Fri, 28 Jun 2024 22:49:04 +0200 (CEST)
Received: from mail-qk1-f227.google.com (mail-qk1-f227.google.com
 [209.85.222.227])
 by mails.dpdk.org (Postfix) with ESMTP id 841EA40E96
 for <test-report@dpdk.org>; Fri, 28 Jun 2024 22:49:03 +0200 (CEST)
Received: by mail-qk1-f227.google.com with SMTP id
 af79cd13be357-79c0abd3ea5so47375785a.2
 for <test-report@dpdk.org>; Fri, 28 Jun 2024 13:49:03 -0700 (PDT)
DKIM-Signature: v=1; a=rsa-sha256; c=relaxed/relaxed;
 d=iol.unh.edu; s=unh-iol; t=1719607743; x=1720212543; darn=dpdk.org;
 h=references:in-reply-to:cc:to:from:subject:message-id:date:from:to
 :cc:subject:date:message-id:reply-to;
 bh=8G9oQL/RiqJcbe/5QyVXyihgwgdi2fiJfrYcDzy5bTw=;
 b=DmpJcfe2e90b67+t5TUS7siO3tRLZE7lzLNJuCAz/X1tBqcbT4S/jnVUZmrBhZa+XL
 Y27rxE55Vaht2Da2051jLX7iZ4hhzZ1OsA2Hy9rmfKbtk8wcng6C164+A5L0DHmI7uBk
 UVD4t2ounhwRcCJbYgKqrIPtUpaPQRuwcOED4=
X-Google-DKIM-Signature: v=1; a=rsa-sha256; c=relaxed/relaxed;
 d=1e100.net; s=20230601; t=1719607743; x=1720212543;
 h=references:in-reply-to:cc:to:from:subject:message-id:date
 :x-gm-message-state:from:to:cc:subject:date:message-id:reply-to;
 bh=8G9oQL/RiqJcbe/5QyVXyihgwgdi2fiJfrYcDzy5bTw=;
 b=HBqw33/8qZylFNBX07oYwTAwwsZN7CMHzZY7U4FRXpnQVTVUxoisyIzHLv/he2lfWA
 WyjjI3mZb2LszsFXpL1inkG7S7La2H3/9i27j7dQFgnSbGE5tqXM+e01VkOr83cZdpbe
 MXN1gBhyBPzFuJ0eZedL30LSFKIE5yCcfQiSbjMKE5se7YVEcC8V7kbizJHTF7YXMlLO
 K8fWuzn8JszfDrdQAHe5Vh/OOfJUGFt+VnQhZKMpfWhMlOdfeWuw9+3YOsBkyM1Jnpy4
 2M0DOBABPjNnVJrw6SW2pZqjFgq0A9NrFRVZqQDxJOmjS9zx07+tnshikTK+Qi3XeF7a
 nseA==
X-Gm-Message-State: AOJu0YzC7+MNRbRNAkErLS4sIdp12sfosE608Gwd+q5TINXrH6VG+hr8
 GEkVhR9yAIcVQmyhdPN1pqdfyOTJb6OFWNbpGqP6Txhz/fR6mheStRSTgvEDRwjkbI4RIwy5oae
 OatvPQVxSnnZnhcRwWxZdZ3S65uDhF7XZpHDAVSga62rnIh2A/xQL/fRd
X-Google-Smtp-Source: AGHT+IHiM29G68HzjSaYK3NBKJVeTAXpBmsGgId4jUZD2i27iCwHlwbgjOUFjz+n5RVacJrVAtVEGZTOwEUD
X-Received: by 2002:a05:620a:2a04:b0:79d:74c3:b60a with SMTP id
 af79cd13be357-79d74c3babamr181328285a.72.1719607742883; 
 Fri, 28 Jun 2024 13:49:02 -0700 (PDT)
Received: from postal.iol.unh.edu (postal.iol.unh.edu.
 [2606:4100:3880:1234::84]) by smtp-relay.gmail.com with ESMTPS id
 af79cd13be357-79d6929c8a5sm1837885a.3.2024.06.28.13.49.02
 (version=TLS1_2 cipher=ECDHE-ECDSA-AES128-GCM-SHA256 bits=128/128);
 Fri, 28 Jun 2024 13:49:02 -0700 (PDT)
X-Relaying-Domain: iol.unh.edu
Date: Fri, 28 Jun 2024 13:49:02 -0700 (PDT)
Message-ID: <667f21be.050a0220.39522.1502SMTPIN_ADDED_MISSING@mx.google.com>
Received: from [172.21.0.6] (unknown [172.18.0.240])
 by postal.iol.unh.edu (Postfix) with ESMTP id 8EA4F605C373;
 Fri, 28 Jun 2024 16:49:02 -0400 (EDT)
Subject: |PENDING| pw141969-141970 [PATCH] [2/2] maintainers: update maintain
From: dpdklab@iol.unh.edu
To: Test Report <test-report@dpdk.org>
Cc: dpdk-test-reports@iol.unh.edu
In-Reply-To: <20240628161139.943999-2-jack.bond-preston@foss.arm.com>
References: <20240628161139.943999-2-jack.bond-preston@foss.arm.com>
Content-Type: text/plain
X-BeenThere: test-report@dpdk.org
X-Mailman-Version: 2.1.29
Precedence: list
List-Id: automatic DPDK test reports <test-report.dpdk.org>
List-Unsubscribe: <https://mails.dpdk.org/options/test-report>,
 <mailto:test-report-request@dpdk.org?subject=unsubscribe>
List-Archive: <http://mails.dpdk.org/archives/test-report/>
List-Post: <mailto:test-report@dpdk.org>
List-Help: <mailto:test-report-request@dpdk.org?subject=help>
List-Subscribe: <https://mails.dpdk.org/listinfo/test-report>,
 <mailto:test-report-request@dpdk.org?subject=subscribe>
Errors-To: test-report-bounces@dpdk.org

Test-Label: iol-unit-arm64-testing
Test-Status: PENDING
http://dpdk.org/patch/141970

_Testing pending_

Submitter: Jack Bond-Preston <jack.bond-preston@foss.arm.com>
Date: Friday, June 28 2024 16:11:39 
DPDK git baseline: Repo:dpdk
  Branch: master
  CommitID:c15902587b538ff02cfb0fbb4dd481f1503d936b

141969-141970 --> testing pending

Test environment and result as below:

+-----------------------------+--------------+----------------+
|         Environment         | lpm_autotest | dpdk_unit_test |
+=============================+==============+================+
| Ubuntu 20.04 ARM SVE        | PASS         | SKIPPED        |
+-----------------------------+--------------+----------------+
| Debian 11 (Buster) (ARM)    | SKIPPED      | PASS           |
+-----------------------------+--------------+----------------+
| CentOS Stream 9 (ARM)       | SKIPPED      | PASS           |
+-----------------------------+--------------+----------------+
| Fedora 37 (ARM)             | SKIPPED      | PASS           |
+-----------------------------+--------------+----------------+
| Debian 12 (arm)             | SKIPPED      | PASS           |
+-----------------------------+--------------+----------------+
| Fedora 38 (ARM)             | SKIPPED      | PASS           |
+-----------------------------+--------------+----------------+
| Fedora 38 (ARM Clang)       | SKIPPED      | PASS           |
+-----------------------------+--------------+----------------+
| Fedora 39 (ARM Clang)       | SKIPPED      | PASS           |
+-----------------------------+--------------+----------------+
| Fedora 40 (ARM)             | SKIPPED      | PASS           |
+-----------------------------+--------------+----------------+
| Fedora 39 (ARM)             | SKIPPED      | PASS           |
+-----------------------------+--------------+----------------+
| Fedora 40 (ARM Clang)       | SKIPPED      | PEND           |
+-----------------------------+--------------+----------------+
| 32-bit Ubuntu 20.04.4 (ARM) | SKIPPED      | PASS           |
+-----------------------------+--------------+----------------+
| RHEL9 (ARM)                 | SKIPPED      | PEND           |
+-----------------------------+--------------+----------------+
| Ubuntu 22.04 (ARM)          | SKIPPED      | PEND           |
+-----------------------------+--------------+----------------+
| Ubuntu 20.04 (ARM)          | SKIPPED      | PEND           |
+-----------------------------+--------------+----------------+
| Ubuntu 24.04 (ARM)          | SKIPPED      | PEND           |
+-----------------------------+--------------+----------------+


Ubuntu 20.04 ARM SVE
	Kernel: 5.4.0-167-generic
	Compiler: gcc (Ubuntu 10.5.0-1ubuntu1~20.04) 10.5.0

Debian 11 (Buster) (ARM)
	Kernel: Container Host Kernel
	Compiler: gcc 10.2.1

CentOS Stream 9 (ARM)
	Kernel: Container Host Kernel
	Compiler: gcc 11.4.1

Fedora 37 (ARM)
	Kernel: Depends on container host
	Compiler: gcc 12.3.1

Debian 12 (arm)
	Kernel: Container Host Kernel
	Compiler: gcc 12.2.0

Fedora 38 (ARM)
	Kernel: Depends on container host
	Compiler: gcc 13.2.1

Fedora 38 (ARM Clang)
	Kernel: Depends on container host
	Compiler: clang 16.0.6

Fedora 39 (ARM Clang)
	Kernel: Depends on container host
	Compiler: clang 17.0.6

Fedora 40 (ARM)
	Kernel: Depends on container host
	Compiler: gcc 14.1.1

Fedora 39 (ARM)
	Kernel: Depends on container host
	Compiler: gcc 13.2.1

Fedora 40 (ARM Clang)
	Kernel: Depends on container host
	Compiler: clang 18.1.6

32-bit Ubuntu 20.04.4 (ARM)
	Kernel: 5.4.0-155-generic aarch64
	Compiler: gcc 9.4

RHEL9 (ARM)
	Kernel: Depends on container host
	Compiler: gcc 11.4.1

Ubuntu 22.04 (ARM)
	Kernel: Container Host Kernel
	Compiler: gcc 11.4.0

Ubuntu 20.04 (ARM)
	Kernel: Container Host Kernel
	Compiler: gcc 9.4.0

Ubuntu 24.04 (ARM)
	Kernel: 5.4.0-167-generic
	Compiler: gcc 13.2.0

To view detailed results, visit:
https://lab.dpdk.org/results/dashboard/patchsets/30349/

UNH-IOL DPDK Community Lab

To manage your email subscriptions, visit: 
https://lab.dpdk.org/results/dashboard/preferences/subscriptions/