From mboxrd@z Thu Jan  1 00:00:00 1970
Return-Path: <test-report-bounces@dpdk.org>
Received: from mails.dpdk.org (mails.dpdk.org [217.70.189.124])
	by inbox.dpdk.org (Postfix) with ESMTP id 090E445527
	for <public@inbox.dpdk.org>; Fri, 28 Jun 2024 23:08:57 +0200 (CEST)
Received: from mails.dpdk.org (localhost [127.0.0.1])
	by mails.dpdk.org (Postfix) with ESMTP id 05C7A42DC5;
	Fri, 28 Jun 2024 23:08:57 +0200 (CEST)
Received: from mail-qv1-f100.google.com (mail-qv1-f100.google.com
 [209.85.219.100])
 by mails.dpdk.org (Postfix) with ESMTP id D6D8E40EE2
 for <test-report@dpdk.org>; Fri, 28 Jun 2024 23:08:44 +0200 (CEST)
Received: by mail-qv1-f100.google.com with SMTP id
 6a1803df08f44-6b5834b3a94so7869846d6.2
 for <test-report@dpdk.org>; Fri, 28 Jun 2024 14:08:44 -0700 (PDT)
DKIM-Signature: v=1; a=rsa-sha256; c=relaxed/relaxed;
 d=iol.unh.edu; s=unh-iol; t=1719608924; x=1720213724; darn=dpdk.org;
 h=references:in-reply-to:cc:to:from:subject:message-id:date:from:to
 :cc:subject:date:message-id:reply-to;
 bh=E1xcru4Zk7ELHSnZ9y52NyGeLEACpv/ckwLh766ucnc=;
 b=AJuWTeFP9ndw/20g/9OJUoukRTD0+0EmvXgXfBPqoIMG5fon+RGz7QrctmeIP+ww0y
 zGAJs24pOb/eoGyjI5/1nsbQ0kyxWGx9yLUnDYwdHBzJQGjstUNjWbVdiLbPTdwnfF8H
 tTo/hiJfWLSOjPXAcCxEM3J/+iKoelT/aWadU=
X-Google-DKIM-Signature: v=1; a=rsa-sha256; c=relaxed/relaxed;
 d=1e100.net; s=20230601; t=1719608924; x=1720213724;
 h=references:in-reply-to:cc:to:from:subject:message-id:date
 :x-gm-message-state:from:to:cc:subject:date:message-id:reply-to;
 bh=E1xcru4Zk7ELHSnZ9y52NyGeLEACpv/ckwLh766ucnc=;
 b=VoKXXdtRmH6g0OYSQb0DMYQxEaMP9Zh8QstFaN3p/caahuSJG8ONHLt2qCorSn2Q3s
 erYUOmMijfVhUSaYvoB+65BB02O0o8rJZXK5hElx6NRhqaPMV79+WaTCbOf4GRPMKokH
 xVT5JQ/vvGmwAKCpD0TpK6p98IucFRzBHYG8VOkTcdkjx6u1BmISbgVR/Wi8Np4EErza
 p705OpMbLgn0qs0cXP8dsJC4nWY8kxSNy7I6WitnEOj7Cf73D43PpqAiG6W2NAto/HTF
 n9yykdG1uN/qAt0hrpQRlPx+dQI3/46RWQCQIofU1pLmc6iJtovEBv9dY+85cqwAfXW2
 ev/A==
X-Gm-Message-State: AOJu0YyoAcwiyMu0Y6qCnKCJjrQ5eu4rAitnXatqeSBQuCKd/jVN9QLe
 y6ZtvlMEJqTTwWAKhn0G0CCDyT0dCWaDPHDkEP8JJwWUK5X/j7tyraE3vAu33+RctrS+c0Lm1BL
 GcKu1157K6rFMyreVgu9u/Xi7xDfnlukj/sYKqHMP+/DNzeSiMdOb1kKm
X-Google-Smtp-Source: AGHT+IEQRmQuQXZ8GYXEVq+8ocGRMJgmG++mgP/9S0XBUUfSkTgpGdXlSg0gB7UupzlqtEnoLxoI9fbsAX9y
X-Received: by 2002:ad4:5fc8:0:b0:6b5:4335:3af0 with SMTP id
 6a1803df08f44-6b543353b3fmr248818406d6.62.1719608924252; 
 Fri, 28 Jun 2024 14:08:44 -0700 (PDT)
Received: from postal.iol.unh.edu (postal.iol.unh.edu.
 [2606:4100:3880:1234::84]) by smtp-relay.gmail.com with ESMTPS id
 6a1803df08f44-6b59e5f9e99sm1222416d6.63.2024.06.28.14.08.44
 (version=TLS1_2 cipher=ECDHE-ECDSA-AES128-GCM-SHA256 bits=128/128);
 Fri, 28 Jun 2024 14:08:44 -0700 (PDT)
X-Relaying-Domain: iol.unh.edu
Date: Fri, 28 Jun 2024 14:08:44 -0700 (PDT)
Message-ID: <667f265c.050a0220.4a3ea.87b7SMTPIN_ADDED_MISSING@mx.google.com>
Received: from [172.17.0.3] (unknown [172.18.0.217])
 by postal.iol.unh.edu (Postfix) with ESMTP id ED432605C373;
 Fri, 28 Jun 2024 17:08:43 -0400 (EDT)
Subject: |PENDING| pw141966-141968 [PATCH] [v8,3/3] dts: config schema
From: dpdklab@iol.unh.edu
To: Test Report <test-report@dpdk.org>
Cc: dpdk-test-reports@iol.unh.edu
In-Reply-To: <20240628140010.27425-3-dmarx@iol.unh.edu>
References: <20240628140010.27425-3-dmarx@iol.unh.edu>
Content-Type: text/plain
X-BeenThere: test-report@dpdk.org
X-Mailman-Version: 2.1.29
Precedence: list
List-Id: automatic DPDK test reports <test-report.dpdk.org>
List-Unsubscribe: <https://mails.dpdk.org/options/test-report>,
 <mailto:test-report-request@dpdk.org?subject=unsubscribe>
List-Archive: <http://mails.dpdk.org/archives/test-report/>
List-Post: <mailto:test-report@dpdk.org>
List-Help: <mailto:test-report-request@dpdk.org?subject=help>
List-Subscribe: <https://mails.dpdk.org/listinfo/test-report>,
 <mailto:test-report-request@dpdk.org?subject=subscribe>
Errors-To: test-report-bounces@dpdk.org

Test-Label: iol-compile-amd64-testing
Test-Status: PENDING
http://dpdk.org/patch/141968

_Testing pending_

Submitter: Dean Marx <dmarx@iol.unh.edu>
Date: Friday, June 28 2024 14:00:10 
DPDK git baseline: Repo:dpdk
  Branch: master
  CommitID:c15902587b538ff02cfb0fbb4dd481f1503d936b

141966-141968 --> testing pending

Test environment and result as below:

+---------------------+--------------------+----------------------+-------------------+------------------+-------------------+
|     Environment     | dpdk_meson_compile | dpdk_mingw64_compile | dpdk_msvc_compile | dpdk_compile_ovs | dpdk_compile_spdk |
+=====================+====================+======================+===================+==================+===================+
| Windows Server 2019 | PASS               | PASS                 | SKIPPED           | SKIPPED          | SKIPPED           |
+---------------------+--------------------+----------------------+-------------------+------------------+-------------------+
| Windows Server 2022 | PASS               | PASS                 | PASS              | SKIPPED          | SKIPPED           |
+---------------------+--------------------+----------------------+-------------------+------------------+-------------------+
| FreeBSD 13.3        | PASS               | SKIPPED              | SKIPPED           | SKIPPED          | SKIPPED           |
+---------------------+--------------------+----------------------+-------------------+------------------+-------------------+
| FreeBSD 14.1        | PASS               | SKIPPED              | SKIPPED           | SKIPPED          | SKIPPED           |
+---------------------+--------------------+----------------------+-------------------+------------------+-------------------+
| CentOS Stream 8     | PASS               | SKIPPED              | SKIPPED           | PASS             | PASS              |
+---------------------+--------------------+----------------------+-------------------+------------------+-------------------+
| CentOS Stream 9     | PASS               | SKIPPED              | SKIPPED           | PASS             | PASS              |
+---------------------+--------------------+----------------------+-------------------+------------------+-------------------+
| Debian Bullseye     | PASS               | SKIPPED              | SKIPPED           | PASS             | PASS              |
+---------------------+--------------------+----------------------+-------------------+------------------+-------------------+
| Debian 12           | PASS               | SKIPPED              | SKIPPED           | PASS             | PASS              |
+---------------------+--------------------+----------------------+-------------------+------------------+-------------------+
| Fedora 37           | PASS               | SKIPPED              | SKIPPED           | PASS             | PASS              |
+---------------------+--------------------+----------------------+-------------------+------------------+-------------------+
| Fedora 38 (Clang)   | PASS               | SKIPPED              | SKIPPED           | PASS             | PASS              |
+---------------------+--------------------+----------------------+-------------------+------------------+-------------------+
| Fedora 38           | PASS               | SKIPPED              | SKIPPED           | PASS             | PASS              |
+---------------------+--------------------+----------------------+-------------------+------------------+-------------------+
| Fedora 39 (Clang)   | PEND               | SKIPPED              | SKIPPED           | PEND             | PEND              |
+---------------------+--------------------+----------------------+-------------------+------------------+-------------------+
| Fedora 39           | PASS               | SKIPPED              | SKIPPED           | PASS             | PASS              |
+---------------------+--------------------+----------------------+-------------------+------------------+-------------------+
| Fedora 40 (Clang)   | PEND               | SKIPPED              | SKIPPED           | PEND             | PEND              |
+---------------------+--------------------+----------------------+-------------------+------------------+-------------------+
| Fedora 40           | PASS               | SKIPPED              | SKIPPED           | PASS             | PASS              |
+---------------------+--------------------+----------------------+-------------------+------------------+-------------------+
| openSUSE Leap 15    | PASS               | SKIPPED              | SKIPPED           | PASS             | SKIPPED           |
+---------------------+--------------------+----------------------+-------------------+------------------+-------------------+
| RHEL9               | PASS               | SKIPPED              | SKIPPED           | PASS             | SKIPPED           |
+---------------------+--------------------+----------------------+-------------------+------------------+-------------------+
| Ubuntu 20.04        | PASS               | SKIPPED              | SKIPPED           | PASS             | SKIPPED           |
+---------------------+--------------------+----------------------+-------------------+------------------+-------------------+
| Ubuntu 22.04        | PASS               | SKIPPED              | SKIPPED           | PASS             | PASS              |
+---------------------+--------------------+----------------------+-------------------+------------------+-------------------+
| Ubuntu 24.04        | PASS               | SKIPPED              | SKIPPED           | PASS             | PASS              |
+---------------------+--------------------+----------------------+-------------------+------------------+-------------------+
| Alpine              | PEND               | SKIPPED              | SKIPPED           | PEND             | SKIPPED           |
+---------------------+--------------------+----------------------+-------------------+------------------+-------------------+
| RHEL8               | PASS               | SKIPPED              | SKIPPED           | PASS             | SKIPPED           |
+---------------------+--------------------+----------------------+-------------------+------------------+-------------------+


Windows Server 2019
	Kernel: 10.0.17763
	Compiler: clang 14.0 and gcc 8.1.0 (MinGW)

Windows Server 2022
	Kernel: 10.0.20348.2031
	Compiler: clang 15.0.7, gcc 8.1.0 (MinGW), and MSVC VS 17.9

FreeBSD 13.3
	Kernel: 13.3-RELEASE-p1
	Compiler: clang 17.0.6

FreeBSD 14.1
	Kernel: 14.1
	Compiler: clang 18.1.5

CentOS Stream 8
	Kernel: 5.4.0-167-generic
	Compiler: gcc 8.5.0 20210514

CentOS Stream 9
	Kernel: 5.4.0-167-generic
	Compiler: gcc 11.4.1 20230605

Debian Bullseye
	Kernel: 5.4.0-167-generic
	Compiler: gcc 10.2.1-6

Debian 12
	Kernel: Container Host Kernel
	Compiler: gcc 12.2.0

Fedora 37
	Kernel: Depends on container host system
	Compiler: gcc 12.3.1

Fedora 38 (Clang)
	Kernel: Depends on container host
	Compiler: clang 16.0.6

Fedora 38
	Kernel: Depends on container host
	Compiler: gcc 13.2.1

Fedora 39 (Clang)
	Kernel: Depends on container host
	Compiler: clang 17.0.6

Fedora 39
	Kernel: Depends on container host
	Compiler: gcc 13.2.1

Fedora 40 (Clang)
	Kernel: Depends on container host
	Compiler: clang 18.1.6

Fedora 40
	Kernel: Depends on container host
	Compiler: gcc 14.1.1

openSUSE Leap 15
	Kernel: 5.4.0-167-generic
	Compiler: gcc 7.5.0

RHEL9
	Kernel: Depends on container host
	Compiler: gcc 11.4.1

Ubuntu 20.04
	Kernel: 5.4.0-167-generic
	Compiler: gcc 9.4.0-1ubuntu1~20.04.1

Ubuntu 22.04
	Kernel: 5.4.0-167-generic
	Compiler: gcc 11.4.0

Ubuntu 24.04
	Kernel: 5.4.0-167-generic
	Compiler: gcc 13.2.0

Alpine
	Kernel: 5.4.0-167-generic
	Compiler: gcc (Alpine 13.2.1_git20231014) 13.2.1 20231014

RHEL8
	Kernel: 5.4.0-167-generic
	Compiler: gcc 8.5.0 20210514 (Red Hat 8.5.0-20)

To view detailed results, visit:
https://lab.dpdk.org/results/dashboard/patchsets/30348/

UNH-IOL DPDK Community Lab

To manage your email subscriptions, visit: 
https://lab.dpdk.org/results/dashboard/preferences/subscriptions/