From mboxrd@z Thu Jan  1 00:00:00 1970
Return-Path: <test-report-bounces@dpdk.org>
Received: from mails.dpdk.org (mails.dpdk.org [217.70.189.124])
	by inbox.dpdk.org (Postfix) with ESMTP id B3B4F45511
	for <public@inbox.dpdk.org>; Sat, 29 Jun 2024 01:49:03 +0200 (CEST)
Received: from mails.dpdk.org (localhost [127.0.0.1])
	by mails.dpdk.org (Postfix) with ESMTP id AE296402A2;
	Sat, 29 Jun 2024 01:49:03 +0200 (CEST)
Received: from mail-oa1-f99.google.com (mail-oa1-f99.google.com
 [209.85.160.99]) by mails.dpdk.org (Postfix) with ESMTP id 2306540280
 for <test-report@dpdk.org>; Sat, 29 Jun 2024 01:49:03 +0200 (CEST)
Received: by mail-oa1-f99.google.com with SMTP id
 586e51a60fabf-25ca30072eeso642463fac.3
 for <test-report@dpdk.org>; Fri, 28 Jun 2024 16:49:03 -0700 (PDT)
DKIM-Signature: v=1; a=rsa-sha256; c=relaxed/relaxed;
 d=iol.unh.edu; s=unh-iol; t=1719618542; x=1720223342; darn=dpdk.org;
 h=references:in-reply-to:cc:to:from:subject:message-id:date:from:to
 :cc:subject:date:message-id:reply-to;
 bh=V5rgehFxpoulRi/lG/lguH0fBCgvEJsn0tl/Gx6b80c=;
 b=MB2RqXcxFYV9GRU2qc5huB1ROScnPcHHHWAZdWUL5afWGCj4tht3wKp73/+Ea+rAuE
 rLNhMOqOPxu3Y4zrpTuCKm+bk6bN6oeXTiMx4eySw8NL2A4nQnE0bRn2KYAYCw1Rnt80
 9xsqUhhKxrPEqVsgj/YKPL3FSQrorL+/xa4OM=
X-Google-DKIM-Signature: v=1; a=rsa-sha256; c=relaxed/relaxed;
 d=1e100.net; s=20230601; t=1719618542; x=1720223342;
 h=references:in-reply-to:cc:to:from:subject:message-id:date
 :x-gm-message-state:from:to:cc:subject:date:message-id:reply-to;
 bh=V5rgehFxpoulRi/lG/lguH0fBCgvEJsn0tl/Gx6b80c=;
 b=Hvdt5BrTlFH40Fz1QsOkRLL1FMqL+gRtx18KxSEfUGF9CrES3zmSQ5OyiF4PJayQKc
 5FjlNqPJNpjUmBppy160PQL5M4dvfDdG9/EEm6JBfLjoZKHwwJ7VpXOE1a6GYPl0taPf
 ag3rtTxsbYmU0bRKJboEZfViFXI1kTUGQi0eZRufYHSrfw0CyR6QDGcbKOn38OkknTMa
 F3Cw81o1G7XPOK5cDeNMPfF5dxC8TVyQRm+3fkDFFVISYeG9hSincxtOeC0XNPHM9GRr
 3DeSIeUDBzv3ZEGbAaU+TxAKalbtIHx7f7HOhnq3AkxOpw6fUPZ1Z/BuaQ879GqX3OIk
 BFfg==
X-Gm-Message-State: AOJu0YxhOqS03OK28ju1Ra1hQcW5cPud4sfc6rGO53kOOa4xNcsLWNHw
 uU9p/q5xc7K+ZDpQgAMQhIhomZe6zfWAtaoElk0N308ClR4uCtw1It4F4LBgQUq/Tm5TExKMzak
 O0ZtydldLBVDhIaXZbh8Pp92q6hHktLOBD5WOAJgAbbKTLA2tGv3H71Q+
X-Google-Smtp-Source: AGHT+IFr6sym6P3He0RfUfAQZpZP2OuWgd9NRzswD/HXRsqy8L4pjLcxyhpNgyG6iFagQlA4UMs3X7RrI1jg
X-Received: by 2002:a05:6870:ec89:b0:25d:6e16:5ba with SMTP id
 586e51a60fabf-25d6e162ec3mr6018077fac.30.1719618542286; 
 Fri, 28 Jun 2024 16:49:02 -0700 (PDT)
Received: from postal.iol.unh.edu (postal.iol.unh.edu.
 [2606:4100:3880:1234::84]) by smtp-relay.gmail.com with ESMTPS id
 586e51a60fabf-25da1d9aab0sm52356fac.33.2024.06.28.16.49.02
 (version=TLS1_2 cipher=ECDHE-ECDSA-AES128-GCM-SHA256 bits=128/128);
 Fri, 28 Jun 2024 16:49:02 -0700 (PDT)
X-Relaying-Domain: iol.unh.edu
Date: Fri, 28 Jun 2024 16:49:02 -0700 (PDT)
Message-ID: <667f4bee.050a0220.7ee83.3a54SMTPIN_ADDED_MISSING@mx.google.com>
Received: from [172.17.0.3] (unknown [172.18.0.217])
 by postal.iol.unh.edu (Postfix) with ESMTP id DEF5B605C373;
 Fri, 28 Jun 2024 19:49:01 -0400 (EDT)
Subject: |PENDING| pw141963 [PATCH] [v4] config/arm: add Ampere AmpereOneAC04
From: dpdklab@iol.unh.edu
To: Test Report <test-report@dpdk.org>
Cc: dpdk-test-reports@iol.unh.edu
In-Reply-To: <20240628032247.10414-1-jiangyutang@os.amperecomputing.com>
References: <20240628032247.10414-1-jiangyutang@os.amperecomputing.com>
Content-Type: text/plain
X-BeenThere: test-report@dpdk.org
X-Mailman-Version: 2.1.29
Precedence: list
List-Id: automatic DPDK test reports <test-report.dpdk.org>
List-Unsubscribe: <https://mails.dpdk.org/options/test-report>,
 <mailto:test-report-request@dpdk.org?subject=unsubscribe>
List-Archive: <http://mails.dpdk.org/archives/test-report/>
List-Post: <mailto:test-report@dpdk.org>
List-Help: <mailto:test-report-request@dpdk.org?subject=help>
List-Subscribe: <https://mails.dpdk.org/listinfo/test-report>,
 <mailto:test-report-request@dpdk.org?subject=subscribe>
Errors-To: test-report-bounces@dpdk.org

Test-Label: iol-compile-arm64-testing
Test-Status: PENDING
http://dpdk.org/patch/141963

_Testing pending_

Submitter: Yutang Jiang <jiangyutang@os.amperecomputing.com>
Date: Friday, June 28 2024 03:22:47 
DPDK git baseline: Repo:dpdk
  Branch: master
  CommitID:c15902587b538ff02cfb0fbb4dd481f1503d936b

141963 --> testing pending

Test environment and result as below:

+----------------------------------------+--------------------+
|              Environment               | dpdk_meson_compile |
+========================================+====================+
| Ubuntu 20.04 aarch32 GCC Cross Compile | PASS               |
+----------------------------------------+--------------------+
| Ubuntu 20.04 ARM Clang Cross Compile   | PASS               |
+----------------------------------------+--------------------+
| Debian 12 (arm)                        | PASS               |
+----------------------------------------+--------------------+
| Debian 11 (Buster) (ARM)               | PASS               |
+----------------------------------------+--------------------+
| CentOS Stream 9 (ARM)                  | PASS               |
+----------------------------------------+--------------------+
| Ubuntu 24.04 (ARM)                     | PASS               |
+----------------------------------------+--------------------+
| Ubuntu 22.04 (ARM)                     | PASS               |
+----------------------------------------+--------------------+
| Ubuntu 20.04 (ARM)                     | PASS               |
+----------------------------------------+--------------------+
| Fedora 40 (ARM Clang)                  | PEND               |
+----------------------------------------+--------------------+
| Fedora 40 (ARM)                        | PASS               |
+----------------------------------------+--------------------+
| Fedora 39 (ARM Clang)                  | PEND               |
+----------------------------------------+--------------------+
| Fedora 38 (ARM Clang)                  | PEND               |
+----------------------------------------+--------------------+
| Fedora 39 (ARM)                        | PASS               |
+----------------------------------------+--------------------+
| Fedora 38 (ARM)                        | PASS               |
+----------------------------------------+--------------------+
| Fedora 37 (ARM)                        | PEND               |
+----------------------------------------+--------------------+
| Debian 12 with MUSDK                   | PEND               |
+----------------------------------------+--------------------+
| Ubuntu 20.04 ARM SVE                   | PEND               |
+----------------------------------------+--------------------+
| Ubuntu 20.04 ARM GCC Cross Compile     | PASS               |
+----------------------------------------+--------------------+
| RHEL9 (ARM)                            | PEND               |
+----------------------------------------+--------------------+


Ubuntu 20.04 aarch32 GCC Cross Compile
	Kernel: 5.4.0-167-generic
	Compiler: gcc 9.4.0

Ubuntu 20.04 ARM Clang Cross Compile
	Kernel: 5.4.0-72-generic
	Compiler: clang 10.0.0-4ubuntu1

Debian 12 (arm)
	Kernel: Container Host Kernel
	Compiler: gcc 12.2.0

Debian 11 (Buster) (ARM)
	Kernel: Container Host Kernel
	Compiler: gcc 10.2.1

CentOS Stream 9 (ARM)
	Kernel: Container Host Kernel
	Compiler: gcc 11.4.1

Ubuntu 24.04 (ARM)
	Kernel: 5.4.0-167-generic
	Compiler: gcc 13.2.0

Ubuntu 22.04 (ARM)
	Kernel: Container Host Kernel
	Compiler: gcc 11.4.0

Ubuntu 20.04 (ARM)
	Kernel: Container Host Kernel
	Compiler: gcc 9.4.0

Fedora 40 (ARM Clang)
	Kernel: Depends on container host
	Compiler: clang 18.1.6

Fedora 40 (ARM)
	Kernel: Depends on container host
	Compiler: gcc 14.1.1

Fedora 39 (ARM Clang)
	Kernel: Depends on container host
	Compiler: clang 17.0.6

Fedora 38 (ARM Clang)
	Kernel: Depends on container host
	Compiler: clang 16.0.6

Fedora 39 (ARM)
	Kernel: Depends on container host
	Compiler: gcc 13.2.1

Fedora 38 (ARM)
	Kernel: Depends on container host
	Compiler: gcc 13.2.1

Fedora 37 (ARM)
	Kernel: Depends on container host
	Compiler: gcc 12.3.1

Debian 12 with MUSDK
	Kernel: Container Host Kernel
	Compiler: gcc 12.2.0

Ubuntu 20.04 ARM SVE
	Kernel: 5.4.0-167-generic
	Compiler: gcc (Ubuntu 10.5.0-1ubuntu1~20.04) 10.5.0

Ubuntu 20.04 ARM GCC Cross Compile
	Kernel: 5.4.0-167-generic
	Compiler: aarch64-linux-gnu-gcc (Ubuntu 9.4.0-1ubuntu1~20.04.2) 9.4.0

RHEL9 (ARM)
	Kernel: Depends on container host
	Compiler: gcc 11.4.1

To view detailed results, visit:
https://lab.dpdk.org/results/dashboard/patchsets/30345/

UNH-IOL DPDK Community Lab

To manage your email subscriptions, visit: 
https://lab.dpdk.org/results/dashboard/preferences/subscriptions/