From mboxrd@z Thu Jan  1 00:00:00 1970
Return-Path: <test-report-bounces@dpdk.org>
Received: from mails.dpdk.org (mails.dpdk.org [217.70.189.124])
	by inbox.dpdk.org (Postfix) with ESMTP id 1952041F45
	for <public@inbox.dpdk.org>; Sat, 29 Jun 2024 05:14:36 +0200 (CEST)
Received: from mails.dpdk.org (localhost [127.0.0.1])
	by mails.dpdk.org (Postfix) with ESMTP id E754C402BE;
	Sat, 29 Jun 2024 05:14:35 +0200 (CEST)
Received: from mail-yb1-f225.google.com (mail-yb1-f225.google.com
 [209.85.219.225])
 by mails.dpdk.org (Postfix) with ESMTP id AD774402A2
 for <test-report@dpdk.org>; Sat, 29 Jun 2024 05:14:34 +0200 (CEST)
Received: by mail-yb1-f225.google.com with SMTP id
 3f1490d57ef6-e036105251eso1070963276.0
 for <test-report@dpdk.org>; Fri, 28 Jun 2024 20:14:34 -0700 (PDT)
DKIM-Signature: v=1; a=rsa-sha256; c=relaxed/relaxed;
 d=iol.unh.edu; s=unh-iol; t=1719630874; x=1720235674; darn=dpdk.org;
 h=references:in-reply-to:cc:to:from:subject:message-id:date:from:to
 :cc:subject:date:message-id:reply-to;
 bh=fW3QXUpICB2eLzL06jQ6ceV4gsRih8pAAMeJQZUwAwE=;
 b=KBX4g02BWlgAc9B1VGIyxfWcNCCt1dJVQX/ugqbBUXki7IkBuVS15PSChD20Iv4blF
 A45GxPxDHcAhJ/WoCU+thaEBpvekt+/dMfQvDLIghKZrmI5uFBAbcbqusqdqw4Z/74le
 0Q51ITvOOOvBL/uoWSFnKwGsXv1zW7CcOmy0Y=
X-Google-DKIM-Signature: v=1; a=rsa-sha256; c=relaxed/relaxed;
 d=1e100.net; s=20230601; t=1719630874; x=1720235674;
 h=references:in-reply-to:cc:to:from:subject:message-id:date
 :x-gm-message-state:from:to:cc:subject:date:message-id:reply-to;
 bh=fW3QXUpICB2eLzL06jQ6ceV4gsRih8pAAMeJQZUwAwE=;
 b=tP3eFBO2g2/fCvwETaSfsVuTSeVZRQicdiLjRTm6oVvaXwZZrwrQ0BhE4gPgIsbCvK
 FqQ8s5A5iM6xzm2tv8xf91T62tnkJXKhXFzPtR8uCpwzgSY2bPuHAmdU97AgxEalCXTm
 8wnFrDw8NjOuMZ1jnjAjJ6G5OQItOpbK/3wGQ44h7+GxQGXTpvAtuHEz8QTLZM9tQG7N
 Y0Eob7pb2mTIebKTaR1bi8DwG/L4imJJxXQpMjWnLoxDAuw3KGz5/eADvWuZS5Qfo5ML
 TpQrhvD00h6jiDzOuF7efkdnbNwblDa43M0yuil8P34hlaYEmkL0FVCJlmVXwPjwVyqg
 irsg==
X-Gm-Message-State: AOJu0YzCQSQ2i0ikubBwlybi14ntI1Mr71BOUtyt6aU/qVBtGy5wZE0F
 QBR1iMV2RkwY0Yn5Psspq/Xp1ULx43i8esiTWdKfXlJWHjZrM21TuZ4vbomuif8YFlokjlMux7y
 r0W6OFfckFDXut8Be5WwMSP3HKShPqVFRap8Tge8NrLr/EFQA7CE+Kuoy
X-Google-Smtp-Source: AGHT+IH2RgvlvViYE5BLrvtzN3K1ZZaCm6Ot1mUsVz404/ck3MeL3xjH918nX/zkNM8WD+GpWUqfj+T9s7/A
X-Received: by 2002:a25:c588:0:b0:e03:63a5:abe5 with SMTP id
 3f1490d57ef6-e036ec90f1amr25464276.62.1719630874033; 
 Fri, 28 Jun 2024 20:14:34 -0700 (PDT)
Received: from postal.iol.unh.edu (postal.iol.unh.edu.
 [2606:4100:3880:1234::84]) by smtp-relay.gmail.com with ESMTPS id
 3f1490d57ef6-e035407a0e4sm116126276.23.2024.06.28.20.14.33
 (version=TLS1_2 cipher=ECDHE-ECDSA-AES128-GCM-SHA256 bits=128/128);
 Fri, 28 Jun 2024 20:14:34 -0700 (PDT)
X-Relaying-Domain: iol.unh.edu
Date: Fri, 28 Jun 2024 20:14:34 -0700 (PDT)
Message-ID: <667f7c1a.050a0220.e5635.85ecSMTPIN_ADDED_MISSING@mx.google.com>
Received: from [172.17.0.3] (unknown [172.18.0.217])
 by postal.iol.unh.edu (Postfix) with ESMTP id 990DD605C373;
 Fri, 28 Jun 2024 23:14:33 -0400 (EDT)
Subject: |SUCCESS| pw141966-141968 [PATCH] [v8,3/3] dts: config schema
From: dpdklab@iol.unh.edu
To: Test Report <test-report@dpdk.org>
Cc: dpdk-test-reports@iol.unh.edu
In-Reply-To: <20240628140010.27425-3-dmarx@iol.unh.edu>
References: <20240628140010.27425-3-dmarx@iol.unh.edu>
Content-Type: text/plain
X-BeenThere: test-report@dpdk.org
X-Mailman-Version: 2.1.29
Precedence: list
List-Id: automatic DPDK test reports <test-report.dpdk.org>
List-Unsubscribe: <https://mails.dpdk.org/options/test-report>,
 <mailto:test-report-request@dpdk.org?subject=unsubscribe>
List-Archive: <http://mails.dpdk.org/archives/test-report/>
List-Post: <mailto:test-report@dpdk.org>
List-Help: <mailto:test-report-request@dpdk.org?subject=help>
List-Subscribe: <https://mails.dpdk.org/listinfo/test-report>,
 <mailto:test-report-request@dpdk.org?subject=subscribe>
Errors-To: test-report-bounces@dpdk.org

Test-Label: iol-unit-amd64-testing
Test-Status: SUCCESS
http://dpdk.org/patch/141968

_Testing PASS_

Submitter: Dean Marx <dmarx@iol.unh.edu>
Date: Friday, June 28 2024 14:00:10 
DPDK git baseline: Repo:dpdk
  Branch: master
  CommitID:c15902587b538ff02cfb0fbb4dd481f1503d936b

141966-141968 --> testing pass

Test environment and result as below:

+---------------------+----------------+
|     Environment     | dpdk_unit_test |
+=====================+================+
| CentOS Stream 8     | PASS           |
+---------------------+----------------+
| CentOS Stream 9     | PASS           |
+---------------------+----------------+
| Debian 12           | PASS           |
+---------------------+----------------+
| Fedora 38           | PASS           |
+---------------------+----------------+
| Fedora 37           | PASS           |
+---------------------+----------------+
| Fedora 38 (Clang)   | PASS           |
+---------------------+----------------+
| Fedora 39           | PASS           |
+---------------------+----------------+
| Fedora 39 (Clang)   | PASS           |
+---------------------+----------------+
| Fedora 40 (Clang)   | PASS           |
+---------------------+----------------+
| Fedora 40           | PASS           |
+---------------------+----------------+
| openSUSE Leap 15    | PASS           |
+---------------------+----------------+
| RHEL8               | PASS           |
+---------------------+----------------+
| RHEL9               | PASS           |
+---------------------+----------------+
| Ubuntu 20.04        | PASS           |
+---------------------+----------------+
| Ubuntu 22.04        | PASS           |
+---------------------+----------------+
| Ubuntu 24.04        | PASS           |
+---------------------+----------------+
| Debian Bullseye     | PASS           |
+---------------------+----------------+
| Windows Server 2019 | PASS           |
+---------------------+----------------+
| Windows Server 2022 | PASS           |
+---------------------+----------------+


CentOS Stream 8
	Kernel: 5.4.0-167-generic
	Compiler: gcc 8.5.0 20210514

CentOS Stream 9
	Kernel: 5.4.0-167-generic
	Compiler: gcc 11.4.1 20230605

Debian 12
	Kernel: Container Host Kernel
	Compiler: gcc 12.2.0

Fedora 38
	Kernel: Depends on container host
	Compiler: gcc 13.2.1

Fedora 37
	Kernel: Depends on container host system
	Compiler: gcc 12.3.1

Fedora 38 (Clang)
	Kernel: Depends on container host
	Compiler: clang 16.0.6

Fedora 39
	Kernel: Depends on container host
	Compiler: gcc 13.2.1

Fedora 39 (Clang)
	Kernel: Depends on container host
	Compiler: clang 17.0.6

Fedora 40 (Clang)
	Kernel: Depends on container host
	Compiler: clang 18.1.6

Fedora 40
	Kernel: Depends on container host
	Compiler: gcc 14.1.1

openSUSE Leap 15
	Kernel: 5.4.0-167-generic
	Compiler: gcc 7.5.0

RHEL8
	Kernel: 5.4.0-167-generic
	Compiler: gcc 8.5.0 20210514 (Red Hat 8.5.0-20)

RHEL9
	Kernel: Depends on container host
	Compiler: gcc 11.4.1

Ubuntu 20.04
	Kernel: 5.4.0-167-generic
	Compiler: gcc 9.4.0-1ubuntu1~20.04.1

Ubuntu 22.04
	Kernel: 5.4.0-167-generic
	Compiler: gcc 11.4.0

Ubuntu 24.04
	Kernel: 5.4.0-167-generic
	Compiler: gcc 13.2.0

Debian Bullseye
	Kernel: 5.4.0-167-generic
	Compiler: gcc 10.2.1-6

Windows Server 2019
	Kernel: 10.0.17763
	Compiler: clang 14.0 and gcc 8.1.0 (MinGW)

Windows Server 2022
	Kernel: 10.0.20348.2031
	Compiler: clang 15.0.7, gcc 8.1.0 (MinGW), and MSVC VS 17.9

To view detailed results, visit:
https://lab.dpdk.org/results/dashboard/patchsets/30348/

UNH-IOL DPDK Community Lab

To manage your email subscriptions, visit: 
https://lab.dpdk.org/results/dashboard/preferences/subscriptions/