From: dpdklab@iol.unh.edu
To: Test Report <test-report@dpdk.org>
Cc: dpdk-test-reports@iol.unh.edu
Subject: |PENDING| [GIT MASTER] a6ec5765cf83d3d58cbd6d4ed5b92b4a06f8a808
Date: Sat, 29 Jun 2024 00:20:32 -0700 (PDT) [thread overview]
Message-ID: <667fb5c0.630a0220.38244.75b5SMTPIN_ADDED_MISSING@mx.google.com> (raw)
_Testing pending_
Branch: tags/v23.11
a6ec5765cf83d3d58cbd6d4ed5b92b4a06f8a808 --> testing pending
Test environment and result as below:
+-----------------------------+--------------+----------------+---------------------------+------------------------------+
| Environment | lpm_autotest | dpdk_unit_test | cryptodev_sw_zuc_autotest | cryptodev_sw_snow3g_autotest |
+=============================+==============+================+===========================+==============================+
| Ubuntu 20.04 ARM SVE | PASS | SKIPPED | SKIPPED | SKIPPED |
+-----------------------------+--------------+----------------+---------------------------+------------------------------+
| 32-bit Ubuntu 20.04.4 (ARM) | SKIPPED | PASS | SKIPPED | SKIPPED |
+-----------------------------+--------------+----------------+---------------------------+------------------------------+
| CentOS Stream 9 (ARM) | SKIPPED | PASS | SKIPPED | SKIPPED |
+-----------------------------+--------------+----------------+---------------------------+------------------------------+
| Debian 12 (arm) | SKIPPED | PASS | PASS | PASS |
+-----------------------------+--------------+----------------+---------------------------+------------------------------+
| Debian 11 (Buster) (ARM) | SKIPPED | PASS | SKIPPED | SKIPPED |
+-----------------------------+--------------+----------------+---------------------------+------------------------------+
| Fedora 37 (ARM) | SKIPPED | PASS | SKIPPED | SKIPPED |
+-----------------------------+--------------+----------------+---------------------------+------------------------------+
| Fedora 38 (ARM) | SKIPPED | PASS | SKIPPED | SKIPPED |
+-----------------------------+--------------+----------------+---------------------------+------------------------------+
| Fedora 38 (ARM Clang) | SKIPPED | PASS | SKIPPED | SKIPPED |
+-----------------------------+--------------+----------------+---------------------------+------------------------------+
| Fedora 39 (ARM) | SKIPPED | PASS | SKIPPED | SKIPPED |
+-----------------------------+--------------+----------------+---------------------------+------------------------------+
| Fedora 39 (ARM Clang) | SKIPPED | PEND | SKIPPED | SKIPPED |
+-----------------------------+--------------+----------------+---------------------------+------------------------------+
| Fedora 40 (ARM) | SKIPPED | PASS | SKIPPED | SKIPPED |
+-----------------------------+--------------+----------------+---------------------------+------------------------------+
| Fedora 40 (ARM Clang) | SKIPPED | PEND | SKIPPED | SKIPPED |
+-----------------------------+--------------+----------------+---------------------------+------------------------------+
| RHEL9 (ARM) | SKIPPED | PEND | SKIPPED | SKIPPED |
+-----------------------------+--------------+----------------+---------------------------+------------------------------+
| Ubuntu 20.04 (ARM) | SKIPPED | PEND | SKIPPED | SKIPPED |
+-----------------------------+--------------+----------------+---------------------------+------------------------------+
| Ubuntu 22.04 (ARM) | SKIPPED | PEND | SKIPPED | SKIPPED |
+-----------------------------+--------------+----------------+---------------------------+------------------------------+
| Ubuntu 24.04 (ARM) | SKIPPED | PEND | SKIPPED | SKIPPED |
+-----------------------------+--------------+----------------+---------------------------+------------------------------+
Ubuntu 20.04 ARM SVE
Kernel: 5.4.0-167-generic
Compiler: gcc (Ubuntu 10.5.0-1ubuntu1~20.04) 10.5.0
32-bit Ubuntu 20.04.4 (ARM)
Kernel: 5.4.0-155-generic aarch64
Compiler: gcc 9.4
CentOS Stream 9 (ARM)
Kernel: Container Host Kernel
Compiler: gcc 11.4.1
Debian 12 (arm)
Kernel: Container Host Kernel
Compiler: gcc 12.2.0
Debian 11 (Buster) (ARM)
Kernel: Container Host Kernel
Compiler: gcc 10.2.1
Fedora 37 (ARM)
Kernel: Depends on container host
Compiler: gcc 12.3.1
Fedora 38 (ARM)
Kernel: Depends on container host
Compiler: gcc 13.2.1
Fedora 38 (ARM Clang)
Kernel: Depends on container host
Compiler: clang 16.0.6
Fedora 39 (ARM)
Kernel: Depends on container host
Compiler: gcc 13.2.1
Fedora 39 (ARM Clang)
Kernel: Depends on container host
Compiler: clang 17.0.6
Fedora 40 (ARM)
Kernel: Depends on container host
Compiler: gcc 14.1.1
Fedora 40 (ARM Clang)
Kernel: Depends on container host
Compiler: clang 18.1.6
RHEL9 (ARM)
Kernel: Depends on container host
Compiler: gcc 11.4.1
Ubuntu 20.04 (ARM)
Kernel: Container Host Kernel
Compiler: gcc 9.4.0
Ubuntu 22.04 (ARM)
Kernel: Container Host Kernel
Compiler: gcc 11.4.0
Ubuntu 24.04 (ARM)
Kernel: 5.4.0-167-generic
Compiler: gcc 13.2.0
To view detailed results, visit:
https://lab.dpdk.org/results/dashboard/tarballs/29642/
UNH-IOL DPDK Community Lab
To manage your email subscriptions, visit:
https://lab.dpdk.org/results/dashboard/preferences/subscriptions/
next reply other threads:[~2024-06-29 7:20 UTC|newest]
Thread overview: 550+ messages / expand[flat|nested] mbox.gz Atom feed top
2024-06-29 7:20 dpdklab [this message]
-- strict thread matches above, loose matches on Subject: below --
2024-07-13 9:00 dpdklab
2024-07-13 8:59 dpdklab
2024-07-13 8:55 dpdklab
2024-07-13 8:54 dpdklab
2024-07-13 8:52 dpdklab
2024-07-13 8:48 dpdklab
2024-07-13 8:44 dpdklab
2024-07-13 8:42 dpdklab
2024-07-13 8:41 dpdklab
2024-07-13 8:35 dpdklab
2024-07-13 8:30 dpdklab
2024-07-13 8:27 dpdklab
2024-07-13 8:09 dpdklab
2024-07-13 8:08 dpdklab
2024-07-13 8:05 dpdklab
2024-07-13 8:05 dpdklab
2024-07-13 7:56 dpdklab
2024-07-13 7:22 dpdklab
2024-07-13 7:15 dpdklab
2024-07-13 7:12 dpdklab
2024-07-13 7:11 dpdklab
2024-07-13 7:04 dpdklab
2024-07-13 6:33 dpdklab
2024-07-13 6:30 dpdklab
2024-07-13 6:26 dpdklab
2024-07-13 6:21 dpdklab
2024-07-13 6:17 dpdklab
2024-07-13 6:14 dpdklab
2024-07-13 6:14 dpdklab
2024-07-13 6:11 dpdklab
2024-07-13 6:07 dpdklab
2024-07-13 6:07 dpdklab
2024-07-13 6:03 dpdklab
2024-07-13 5:56 dpdklab
2024-07-13 5:55 dpdklab
2024-07-13 5:53 dpdklab
2024-07-13 5:48 dpdklab
2024-07-13 5:48 dpdklab
2024-07-13 5:47 dpdklab
2024-07-13 5:44 dpdklab
2024-07-12 8:03 dpdklab
2024-07-12 8:01 dpdklab
2024-07-12 8:00 dpdklab
2024-07-12 7:53 dpdklab
2024-07-12 7:52 dpdklab
2024-07-12 7:52 dpdklab
2024-07-12 7:51 dpdklab
2024-07-12 7:48 dpdklab
2024-07-12 7:45 dpdklab
2024-07-12 7:44 dpdklab
2024-07-12 7:43 dpdklab
2024-07-12 7:39 dpdklab
2024-07-12 7:37 dpdklab
2024-07-12 7:31 dpdklab
2024-07-12 7:27 dpdklab
2024-07-12 7:27 dpdklab
2024-07-12 7:27 dpdklab
2024-07-12 7:23 dpdklab
2024-07-12 7:20 dpdklab
2024-07-12 7:15 dpdklab
2024-07-12 7:12 dpdklab
2024-07-12 7:10 dpdklab
2024-07-12 7:08 dpdklab
2024-07-12 6:06 dpdklab
2024-07-12 5:48 dpdklab
2024-07-12 5:48 dpdklab
2024-07-12 5:44 dpdklab
2024-07-12 5:43 dpdklab
2024-07-12 5:43 dpdklab
2024-07-12 5:33 dpdklab
2024-07-12 5:26 dpdklab
2024-07-12 5:25 dpdklab
2024-07-12 5:25 dpdklab
2024-07-12 5:17 dpdklab
2024-07-12 5:17 dpdklab
2024-07-12 5:16 dpdklab
2024-07-12 5:11 dpdklab
2024-07-12 5:09 dpdklab
2024-07-12 5:08 dpdklab
2024-07-12 5:08 dpdklab
2024-07-12 5:06 dpdklab
2024-07-12 5:03 dpdklab
2024-07-11 5:44 dpdklab
2024-07-11 5:44 dpdklab
2024-07-11 5:38 dpdklab
2024-07-11 5:38 dpdklab
2024-07-11 5:37 dpdklab
2024-07-11 5:34 dpdklab
2024-07-11 5:33 dpdklab
2024-07-11 5:30 dpdklab
2024-07-11 5:29 dpdklab
2024-07-11 5:29 dpdklab
2024-07-11 5:27 dpdklab
2024-07-11 5:27 dpdklab
2024-07-11 5:25 dpdklab
2024-07-11 5:23 dpdklab
2024-07-11 5:17 dpdklab
2024-07-11 5:16 dpdklab
2024-07-11 5:13 dpdklab
2024-07-11 5:13 dpdklab
2024-07-11 5:08 dpdklab
2024-07-11 5:03 dpdklab
2024-07-11 5:03 dpdklab
2024-07-11 4:59 dpdklab
2024-07-11 4:58 dpdklab
2024-07-11 4:58 dpdklab
2024-07-11 4:54 dpdklab
2024-07-11 4:54 dpdklab
2024-07-11 4:54 dpdklab
2024-07-11 4:52 dpdklab
2024-07-11 4:43 dpdklab
2024-07-11 4:43 dpdklab
2024-07-11 4:42 dpdklab
2024-07-11 4:42 dpdklab
2024-07-11 4:39 dpdklab
2024-07-11 4:38 dpdklab
2024-07-11 4:38 dpdklab
2024-07-11 4:34 dpdklab
2024-07-11 4:34 dpdklab
2024-07-11 4:32 dpdklab
2024-07-10 10:28 dpdklab
2024-07-10 10:26 dpdklab
2024-07-10 9:44 dpdklab
2024-07-10 9:42 dpdklab
2024-07-10 9:41 dpdklab
2024-07-10 9:40 dpdklab
2024-07-10 9:40 dpdklab
2024-07-10 9:37 dpdklab
2024-07-10 9:34 dpdklab
2024-07-10 9:30 dpdklab
2024-07-10 9:30 dpdklab
2024-07-10 9:28 dpdklab
2024-07-10 9:26 dpdklab
2024-07-10 9:25 dpdklab
2024-07-10 9:25 dpdklab
2024-07-10 9:21 dpdklab
2024-07-10 9:20 dpdklab
2024-07-10 9:16 dpdklab
2024-07-10 9:13 dpdklab
2024-07-10 8:46 dpdklab
2024-07-10 8:33 dpdklab
2024-07-10 8:28 dpdklab
2024-07-10 8:26 dpdklab
2024-07-10 8:23 dpdklab
2024-07-10 8:12 dpdklab
2024-07-10 8:05 dpdklab
2024-07-10 7:57 dpdklab
2024-07-10 7:54 dpdklab
2024-07-10 7:53 dpdklab
2024-07-10 7:48 dpdklab
2024-07-10 7:40 dpdklab
2024-07-10 7:36 dpdklab
2024-07-10 7:24 dpdklab
2024-07-10 7:24 dpdklab
2024-07-10 7:24 dpdklab
2024-07-10 7:22 dpdklab
2024-07-10 7:21 dpdklab
2024-07-10 7:20 dpdklab
2024-07-10 7:18 dpdklab
2024-07-10 7:16 dpdklab
2024-07-09 18:25 dpdklab
2024-07-09 18:23 dpdklab
2024-07-09 18:14 dpdklab
2024-07-09 17:59 dpdklab
2024-07-09 17:59 dpdklab
2024-07-09 17:56 dpdklab
2024-07-09 17:40 dpdklab
2024-07-09 17:31 dpdklab
2024-07-09 17:29 dpdklab
2024-07-09 17:26 dpdklab
2024-07-09 16:35 dpdklab
2024-07-09 16:31 dpdklab
2024-07-09 12:46 dpdklab
2024-07-09 11:57 dpdklab
2024-07-09 11:54 dpdklab
2024-07-09 11:51 dpdklab
2024-07-09 11:43 dpdklab
2024-07-09 11:42 dpdklab
2024-07-09 11:32 dpdklab
2024-07-09 11:32 dpdklab
2024-07-09 11:30 dpdklab
2024-07-09 11:21 dpdklab
2024-07-09 11:16 dpdklab
2024-07-09 11:14 dpdklab
2024-07-09 11:09 dpdklab
2024-07-09 11:08 dpdklab
2024-07-09 10:57 dpdklab
2024-07-09 10:55 dpdklab
2024-07-09 10:53 dpdklab
2024-07-09 10:45 dpdklab
2024-07-09 10:38 dpdklab
2024-07-09 10:33 dpdklab
2024-07-09 7:10 dpdklab
2024-07-09 6:52 dpdklab
2024-07-09 6:52 dpdklab
2024-07-09 6:33 dpdklab
2024-07-09 6:32 dpdklab
2024-07-09 6:31 dpdklab
2024-07-09 6:28 dpdklab
2024-07-09 6:06 dpdklab
2024-07-08 9:56 dpdklab
2024-07-08 9:33 dpdklab
2024-07-08 9:30 dpdklab
2024-07-08 9:27 dpdklab
2024-07-08 9:26 dpdklab
2024-07-08 9:20 dpdklab
2024-07-08 9:20 dpdklab
2024-07-08 9:18 dpdklab
2024-07-08 9:15 dpdklab
2024-07-08 9:12 dpdklab
2024-07-08 9:12 dpdklab
2024-07-08 9:03 dpdklab
2024-07-08 9:00 dpdklab
2024-07-08 8:57 dpdklab
2024-07-08 8:51 dpdklab
2024-07-08 8:44 dpdklab
2024-07-08 8:43 dpdklab
2024-07-08 8:43 dpdklab
2024-07-08 8:42 dpdklab
2024-07-08 8:36 dpdklab
2024-07-08 6:56 dpdklab
2024-07-08 6:25 dpdklab
2024-07-08 6:17 dpdklab
2024-07-08 6:17 dpdklab
2024-07-08 6:06 dpdklab
2024-07-08 6:01 dpdklab
2024-07-08 5:48 dpdklab
2024-07-08 5:47 dpdklab
2024-07-08 5:47 dpdklab
2024-07-08 5:44 dpdklab
2024-07-08 5:44 dpdklab
2024-07-08 5:41 dpdklab
2024-07-07 7:18 dpdklab
2024-07-07 7:17 dpdklab
2024-07-07 7:10 dpdklab
2024-07-07 7:09 dpdklab
2024-07-07 7:06 dpdklab
2024-07-07 7:06 dpdklab
2024-07-07 7:03 dpdklab
2024-07-07 7:00 dpdklab
2024-07-07 6:54 dpdklab
2024-07-07 6:50 dpdklab
2024-07-07 6:49 dpdklab
2024-07-07 6:38 dpdklab
2024-07-07 6:35 dpdklab
2024-07-07 6:35 dpdklab
2024-07-07 6:33 dpdklab
2024-07-07 6:31 dpdklab
2024-07-07 6:30 dpdklab
2024-07-07 6:28 dpdklab
2024-07-07 6:23 dpdklab
2024-07-07 6:17 dpdklab
2024-07-07 6:14 dpdklab
2024-07-07 6:11 dpdklab
2024-07-07 6:07 dpdklab
2024-07-07 5:39 dpdklab
2024-07-07 5:39 dpdklab
2024-07-07 5:38 dpdklab
2024-07-07 5:34 dpdklab
2024-07-07 5:33 dpdklab
2024-07-07 5:31 dpdklab
2024-07-07 5:28 dpdklab
2024-07-07 5:24 dpdklab
2024-07-07 0:37 dpdklab
2024-07-06 23:43 dpdklab
2024-07-06 23:42 dpdklab
2024-07-06 23:41 dpdklab
2024-07-06 23:39 dpdklab
2024-07-06 23:35 dpdklab
2024-07-06 23:30 dpdklab
2024-07-06 23:29 dpdklab
2024-07-06 23:18 dpdklab
2024-07-06 14:59 dpdklab
2024-07-06 12:01 dpdklab
2024-07-06 11:12 dpdklab
2024-07-06 11:03 dpdklab
2024-07-06 10:43 dpdklab
2024-07-06 10:38 dpdklab
2024-07-06 10:38 dpdklab
2024-07-06 10:36 dpdklab
2024-07-06 10:34 dpdklab
2024-07-06 10:33 dpdklab
2024-07-06 3:06 dpdklab
2024-07-06 2:59 dpdklab
2024-07-06 2:53 dpdklab
2024-07-06 2:43 dpdklab
2024-07-06 2:35 dpdklab
2024-07-06 2:30 dpdklab
2024-07-06 2:27 dpdklab
2024-07-06 2:23 dpdklab
2024-07-06 2:15 dpdklab
2024-07-06 1:58 dpdklab
2024-07-06 1:48 dpdklab
2024-07-06 1:43 dpdklab
2024-07-06 1:41 dpdklab
2024-07-06 0:43 dpdklab
2024-07-06 0:37 dpdklab
2024-07-05 23:46 dpdklab
2024-07-05 23:39 dpdklab
2024-07-05 23:38 dpdklab
2024-07-05 23:31 dpdklab
2024-07-05 23:30 dpdklab
2024-07-05 18:15 dpdklab
2024-07-05 18:12 dpdklab
2024-07-05 18:12 dpdklab
2024-07-05 18:11 dpdklab
2024-07-05 18:08 dpdklab
2024-07-05 18:01 dpdklab
2024-07-05 18:00 dpdklab
2024-07-05 17:56 dpdklab
2024-07-05 17:52 dpdklab
2024-07-05 17:52 dpdklab
2024-07-05 17:49 dpdklab
2024-07-05 17:45 dpdklab
2024-07-05 17:39 dpdklab
2024-07-05 17:35 dpdklab
2024-07-05 17:32 dpdklab
2024-07-05 17:30 dpdklab
2024-07-05 17:24 dpdklab
2024-07-05 17:13 dpdklab
2024-07-05 17:12 dpdklab
2024-07-05 17:05 dpdklab
2024-07-05 10:51 dpdklab
2024-07-05 7:02 dpdklab
2024-07-05 6:30 dpdklab
2024-07-05 6:22 dpdklab
2024-07-05 6:15 dpdklab
2024-07-05 6:10 dpdklab
2024-07-05 5:50 dpdklab
2024-07-05 5:41 dpdklab
2024-07-05 5:40 dpdklab
2024-07-05 5:36 dpdklab
2024-07-05 5:29 dpdklab
2024-07-05 5:24 dpdklab
2024-07-05 5:01 dpdklab
2024-07-05 4:59 dpdklab
2024-07-05 4:59 dpdklab
2024-07-05 4:57 dpdklab
2024-07-05 4:55 dpdklab
2024-07-05 4:55 dpdklab
2024-07-05 4:53 dpdklab
2024-07-05 4:50 dpdklab
2024-07-05 4:44 dpdklab
2024-07-05 4:42 dpdklab
2024-07-05 4:40 dpdklab
2024-07-05 4:26 dpdklab
2024-07-05 4:20 dpdklab
2024-07-05 4:13 dpdklab
2024-07-05 4:10 dpdklab
2024-07-05 4:07 dpdklab
2024-07-05 4:00 dpdklab
2024-07-05 3:51 dpdklab
2024-07-05 3:45 dpdklab
2024-07-05 3:36 dpdklab
2024-07-05 3:05 dpdklab
2024-07-05 3:03 dpdklab
2024-07-05 2:35 dpdklab
2024-07-05 2:33 dpdklab
2024-07-05 2:07 dpdklab
2024-07-05 2:05 dpdklab
2024-07-05 1:56 dpdklab
2024-07-05 1:35 dpdklab
2024-07-05 1:19 dpdklab
2024-07-04 20:24 dpdklab
2024-07-04 19:17 dpdklab
2024-07-04 18:51 dpdklab
2024-07-04 18:43 dpdklab
2024-07-04 18:28 dpdklab
2024-07-04 18:23 dpdklab
2024-07-04 18:21 dpdklab
2024-07-04 18:20 dpdklab
2024-07-04 18:17 dpdklab
2024-07-04 18:15 dpdklab
2024-07-04 6:53 dpdklab
2024-07-04 6:52 dpdklab
2024-07-02 15:40 dpdklab
2024-07-02 15:33 dpdklab
2024-07-02 15:31 dpdklab
2024-07-02 15:24 dpdklab
2024-07-02 15:09 dpdklab
2024-07-02 14:55 dpdklab
2024-07-02 14:53 dpdklab
2024-07-02 14:43 dpdklab
2024-07-02 14:24 dpdklab
2024-07-02 14:15 dpdklab
2024-07-02 14:11 dpdklab
2024-07-02 14:08 dpdklab
2024-07-02 14:05 dpdklab
2024-07-02 13:57 dpdklab
2024-07-02 11:07 dpdklab
2024-07-02 11:01 dpdklab
2024-07-02 10:57 dpdklab
2024-07-02 10:55 dpdklab
2024-07-02 10:48 dpdklab
2024-07-02 10:48 dpdklab
2024-07-02 10:46 dpdklab
2024-07-02 10:46 dpdklab
2024-07-02 10:42 dpdklab
2024-07-02 10:38 dpdklab
2024-07-02 10:34 dpdklab
2024-07-02 10:24 dpdklab
2024-07-02 10:20 dpdklab
2024-07-02 10:17 dpdklab
2024-07-02 10:14 dpdklab
2024-07-02 10:07 dpdklab
2024-07-02 10:03 dpdklab
2024-07-02 9:59 dpdklab
2024-07-02 9:50 dpdklab
2024-07-02 9:46 dpdklab
2024-07-02 9:43 dpdklab
2024-07-02 9:36 dpdklab
2024-07-02 9:28 dpdklab
2024-07-02 9:25 dpdklab
2024-07-02 9:13 dpdklab
2024-07-02 8:11 dpdklab
2024-07-02 7:37 dpdklab
2024-07-02 7:35 dpdklab
2024-07-01 6:39 dpdklab
2024-07-01 6:38 dpdklab
2024-07-01 6:32 dpdklab
2024-07-01 6:25 dpdklab
2024-07-01 6:17 dpdklab
2024-07-01 6:15 dpdklab
2024-07-01 5:50 dpdklab
2024-07-01 5:50 dpdklab
2024-07-01 5:47 dpdklab
2024-07-01 5:47 dpdklab
2024-07-01 5:47 dpdklab
2024-07-01 5:45 dpdklab
2024-07-01 5:45 dpdklab
2024-07-01 5:41 dpdklab
2024-07-01 5:40 dpdklab
2024-07-01 5:39 dpdklab
2024-07-01 5:38 dpdklab
2024-07-01 5:37 dpdklab
2024-07-01 5:37 dpdklab
2024-07-01 5:37 dpdklab
2024-07-01 5:35 dpdklab
2024-07-01 5:35 dpdklab
2024-07-01 5:31 dpdklab
2024-07-01 5:31 dpdklab
2024-07-01 5:25 dpdklab
2024-07-01 5:23 dpdklab
2024-07-01 5:23 dpdklab
2024-07-01 5:21 dpdklab
2024-07-01 5:21 dpdklab
2024-07-01 5:17 dpdklab
2024-07-01 5:16 dpdklab
2024-07-01 5:14 dpdklab
2024-07-01 5:14 dpdklab
2024-07-01 5:13 dpdklab
2024-07-01 5:13 dpdklab
2024-07-01 5:13 dpdklab
2024-07-01 5:13 dpdklab
2024-07-01 5:13 dpdklab
2024-07-01 5:11 dpdklab
2024-07-01 5:07 dpdklab
2024-07-01 5:07 dpdklab
2024-07-01 4:59 dpdklab
2024-07-01 4:52 dpdklab
2024-07-01 4:50 dpdklab
2024-07-01 4:50 dpdklab
2024-07-01 4:48 dpdklab
2024-07-01 4:47 dpdklab
2024-07-01 4:46 dpdklab
2024-07-01 4:44 dpdklab
2024-06-30 5:41 dpdklab
2024-06-30 5:37 dpdklab
2024-06-30 5:31 dpdklab
2024-06-30 5:23 dpdklab
2024-06-30 5:18 dpdklab
2024-06-30 5:11 dpdklab
2024-06-30 5:11 dpdklab
2024-06-30 5:09 dpdklab
2024-06-30 5:07 dpdklab
2024-06-30 5:07 dpdklab
2024-06-30 5:03 dpdklab
2024-06-30 5:02 dpdklab
2024-06-30 4:59 dpdklab
2024-06-30 4:57 dpdklab
2024-06-30 4:57 dpdklab
2024-06-30 4:55 dpdklab
2024-06-30 4:51 dpdklab
2024-06-30 4:50 dpdklab
2024-06-30 4:48 dpdklab
2024-06-30 4:48 dpdklab
2024-06-30 4:48 dpdklab
2024-06-30 4:47 dpdklab
2024-06-30 4:47 dpdklab
2024-06-30 4:47 dpdklab
2024-06-30 4:46 dpdklab
2024-06-30 4:44 dpdklab
2024-06-30 4:42 dpdklab
2024-06-30 4:41 dpdklab
2024-06-30 4:40 dpdklab
2024-06-30 4:40 dpdklab
2024-06-30 4:39 dpdklab
2024-06-30 4:38 dpdklab
2024-06-30 4:34 dpdklab
2024-06-30 4:32 dpdklab
2024-06-30 4:30 dpdklab
2024-06-30 4:29 dpdklab
2024-06-30 4:28 dpdklab
2024-06-30 4:28 dpdklab
2024-06-30 4:27 dpdklab
2024-06-30 4:26 dpdklab
2024-06-30 4:25 dpdklab
2024-06-30 4:24 dpdklab
2024-06-30 4:24 dpdklab
2024-06-30 4:23 dpdklab
2024-06-30 4:22 dpdklab
2024-06-30 4:20 dpdklab
2024-06-29 8:09 dpdklab
2024-06-29 8:00 dpdklab
2024-06-29 7:44 dpdklab
2024-06-29 7:29 dpdklab
2024-06-29 7:12 dpdklab
2024-06-29 7:02 dpdklab
2024-06-29 6:39 dpdklab
2024-06-29 6:32 dpdklab
2024-06-29 6:31 dpdklab
2024-06-29 6:25 dpdklab
2024-06-29 6:17 dpdklab
2024-06-29 6:10 dpdklab
2024-06-29 5:58 dpdklab
2024-06-29 5:53 dpdklab
2024-06-29 5:49 dpdklab
2024-06-29 5:48 dpdklab
2024-06-29 5:43 dpdklab
2024-06-29 5:39 dpdklab
2024-06-29 5:36 dpdklab
2024-06-29 5:29 dpdklab
2024-06-29 5:28 dpdklab
2024-06-29 5:24 dpdklab
2024-06-29 5:21 dpdklab
2024-06-29 5:18 dpdklab
2024-06-29 5:14 dpdklab
2024-06-29 5:09 dpdklab
2024-06-29 5:05 dpdklab
2024-06-29 5:05 dpdklab
2024-06-29 5:03 dpdklab
2024-06-29 4:48 dpdklab
2024-06-29 4:32 dpdklab
2024-06-29 4:32 dpdklab
2024-06-29 4:31 dpdklab
2024-06-29 4:30 dpdklab
2024-06-29 4:27 dpdklab
2024-06-29 4:26 dpdklab
2024-06-29 4:25 dpdklab
Reply instructions:
You may reply publicly to this message via plain-text email
using any one of the following methods:
* Save the following mbox file, import it into your mail client,
and reply-to-all from there: mbox
Avoid top-posting and favor interleaved quoting:
https://en.wikipedia.org/wiki/Posting_style#Interleaved_style
* Reply using the --to, --cc, and --in-reply-to
switches of git-send-email(1):
git send-email \
--in-reply-to=667fb5c0.630a0220.38244.75b5SMTPIN_ADDED_MISSING@mx.google.com \
--to=dpdklab@iol.unh.edu \
--cc=dpdk-test-reports@iol.unh.edu \
--cc=test-report@dpdk.org \
/path/to/YOUR_REPLY
https://kernel.org/pub/software/scm/git/docs/git-send-email.html
* If your mail client supports setting the In-Reply-To header
via mailto: links, try the mailto: link
Be sure your reply has a Subject: header at the top and a blank line
before the message body.
This is a public inbox, see mirroring instructions
for how to clone and mirror all data and code used for this inbox;
as well as URLs for NNTP newsgroup(s).