From mboxrd@z Thu Jan  1 00:00:00 1970
Return-Path: <test-report-bounces@dpdk.org>
Received: from mails.dpdk.org (mails.dpdk.org [217.70.189.124])
	by inbox.dpdk.org (Postfix) with ESMTP id 85A5A4553C
	for <public@inbox.dpdk.org>; Sun, 30 Jun 2024 17:07:36 +0200 (CEST)
Received: from mails.dpdk.org (localhost [127.0.0.1])
	by mails.dpdk.org (Postfix) with ESMTP id 80278402CB;
	Sun, 30 Jun 2024 17:07:36 +0200 (CEST)
Received: from mail-pg1-f228.google.com (mail-pg1-f228.google.com
 [209.85.215.228])
 by mails.dpdk.org (Postfix) with ESMTP id 4C9FA402C9
 for <test-report@dpdk.org>; Sun, 30 Jun 2024 17:07:35 +0200 (CEST)
Received: by mail-pg1-f228.google.com with SMTP id
 41be03b00d2f7-656d8b346d2so1115723a12.2
 for <test-report@dpdk.org>; Sun, 30 Jun 2024 08:07:35 -0700 (PDT)
DKIM-Signature: v=1; a=rsa-sha256; c=relaxed/relaxed;
 d=iol.unh.edu; s=unh-iol; t=1719760054; x=1720364854; darn=dpdk.org;
 h=references:in-reply-to:cc:to:from:subject:message-id:date:from:to
 :cc:subject:date:message-id:reply-to;
 bh=dIJ+h/MQN+eJjQBRydyD18a8tsGDKOHSzQhtAlVx57I=;
 b=Ved+Yi+/B/BPvkoHULEczm7GyxCEFs3BRmgC88AEylRleKQ5wuBdgWJ49U3ERqIAZF
 Kz7J29M6vptJcej+8SZnbYmRtc+l16dBFHAlhBslBwv5Bsa391VzgcSBKU7RdF9o3wxe
 7Olq0Zxjtl2RNmqwiTO50rVDy9y2UReXEoOVY=
X-Google-DKIM-Signature: v=1; a=rsa-sha256; c=relaxed/relaxed;
 d=1e100.net; s=20230601; t=1719760054; x=1720364854;
 h=references:in-reply-to:cc:to:from:subject:message-id:date
 :x-gm-message-state:from:to:cc:subject:date:message-id:reply-to;
 bh=dIJ+h/MQN+eJjQBRydyD18a8tsGDKOHSzQhtAlVx57I=;
 b=MY4za1VDmlT2ZqIT5bACr5y+YDzB3XyimemnLnB+4wWJCp5Fr2zUKstfTqc+W4En/8
 tYB4Ab+4ae7HeuW3723DF5m1PZvebr22WL1YjiTsLRpAg5PAzoP6h6JiO/ukJA+hcpZY
 TRdN0R419zxHQaB8n1XaED17Gc7h1rvAFZAJm/ViK8QyXg3kDE/IQBoAE3KVlI9dPN0d
 uVfawUjOV1bZCDupvwaka9bjQxwMwOw8wTYUb2fI5rVyANlYeZitMbXkRhPBsVUliEpX
 MG4Lhb+xlggpu/B34mjPKBsqoyUHpHQcg2W4VruvdEfnZHMMirVvq1T7r/UnfrgW7f/Y
 OhAw==
X-Gm-Message-State: AOJu0YyavtSbbpSJTffuneVSycqT9D0EC34uK5T33hZ+ARIGeZd3KENv
 uAQDXmDiTIoY4do5jgbMILsbPBf1HEeW/O82L1hfKOanjqrGoictQ3c1aYVYVdxAtDPad74rGG/
 OREnwnPcSmA7K7MoL+84o2jbbfPXdIKNeeNzsvDoBG+lHc0OKxiKVvux4
X-Google-Smtp-Source: AGHT+IGzDAa/okyi3MM7Zy0oZFbbhGmJcgSOt9SOdq/vOHSbvVvwLN1RfPtAmfhk227q1j0ZnRZ0roGvZOr2
X-Received: by 2002:a05:6a20:12c1:b0:1bd:22e8:5d00 with SMTP id
 adf61e73a8af0-1bef610d098mr2568184637.33.1719760054430; 
 Sun, 30 Jun 2024 08:07:34 -0700 (PDT)
Received: from postal.iol.unh.edu (postal.iol.unh.edu.
 [2606:4100:3880:1234::84]) by smtp-relay.gmail.com with ESMTPS id
 d9443c01a7336-1facea0c527sm1506185ad.7.2024.06.30.08.07.34
 (version=TLS1_2 cipher=ECDHE-ECDSA-AES128-GCM-SHA256 bits=128/128);
 Sun, 30 Jun 2024 08:07:34 -0700 (PDT)
X-Relaying-Domain: iol.unh.edu
Date: Sun, 30 Jun 2024 08:07:34 -0700 (PDT)
Message-ID: <668174b6.170a0220.5b661.bb64SMTPIN_ADDED_MISSING@mx.google.com>
Received: from [172.21.0.6] (unknown [172.18.0.240])
 by postal.iol.unh.edu (Postfix) with ESMTP id C9B936050A9C;
 Sun, 30 Jun 2024 11:07:33 -0400 (EDT)
Subject: |PENDING| pw141979 [PATCH] [v2] net/memif: fix buffer overflow in ze
From: dpdklab@iol.unh.edu
To: Test Report <test-report@dpdk.org>
Cc: dpdk-test-reports@iol.unh.edu
In-Reply-To: <c3a72bcb-24b0-4c42-9a07-427eadce029a@broadcom.com>
References: <c3a72bcb-24b0-4c42-9a07-427eadce029a@broadcom.com>
Content-Type: text/plain
X-BeenThere: test-report@dpdk.org
X-Mailman-Version: 2.1.29
Precedence: list
List-Id: automatic DPDK test reports <test-report.dpdk.org>
List-Unsubscribe: <https://mails.dpdk.org/options/test-report>,
 <mailto:test-report-request@dpdk.org?subject=unsubscribe>
List-Archive: <http://mails.dpdk.org/archives/test-report/>
List-Post: <mailto:test-report@dpdk.org>
List-Help: <mailto:test-report-request@dpdk.org?subject=help>
List-Subscribe: <https://mails.dpdk.org/listinfo/test-report>,
 <mailto:test-report-request@dpdk.org?subject=subscribe>
Errors-To: test-report-bounces@dpdk.org

Test-Label: iol-compile-arm64-testing
Test-Status: PENDING
http://dpdk.org/patch/141979

_Testing pending_

Submitter: Mihai Brodschi <mihai.brodschi@broadcom.com>
Date: Friday, June 28 2024 21:01:29 
DPDK git baseline: Repo:dpdk
  Branch: master
  CommitID:fbba6db3640f9f623c29c452e1a6b057073e81d2

141979 --> testing pending

Test environment and result as below:

+----------------------------------------+--------------------+
|              Environment               | dpdk_meson_compile |
+========================================+====================+
| RHEL9 (ARM)                            | PASS               |
+----------------------------------------+--------------------+
| Ubuntu 20.04 ARM GCC Cross Compile     | PASS               |
+----------------------------------------+--------------------+
| Fedora 39 (ARM)                        | PEND               |
+----------------------------------------+--------------------+
| Debian 12 with MUSDK                   | PASS               |
+----------------------------------------+--------------------+
| Fedora 38 (ARM Clang)                  | PASS               |
+----------------------------------------+--------------------+
| Ubuntu 20.04 ARM SVE                   | PASS               |
+----------------------------------------+--------------------+
| Fedora 37 (ARM)                        | PEND               |
+----------------------------------------+--------------------+
| Fedora 38 (ARM)                        | PEND               |
+----------------------------------------+--------------------+
| Ubuntu 24.04 (ARM)                     | PASS               |
+----------------------------------------+--------------------+
| Debian 11 (Buster) (ARM)               | PASS               |
+----------------------------------------+--------------------+
| Fedora 39 (ARM Clang)                  | PASS               |
+----------------------------------------+--------------------+
| Fedora 40 (ARM Clang)                  | PASS               |
+----------------------------------------+--------------------+
| Ubuntu 20.04 (ARM)                     | PASS               |
+----------------------------------------+--------------------+
| Debian 12 (arm)                        | PASS               |
+----------------------------------------+--------------------+
| Ubuntu 20.04 aarch32 GCC Cross Compile | PASS               |
+----------------------------------------+--------------------+
| CentOS Stream 9 (ARM)                  | PASS               |
+----------------------------------------+--------------------+
| Ubuntu 22.04 (ARM)                     | PEND               |
+----------------------------------------+--------------------+
| Ubuntu 20.04 ARM Clang Cross Compile   | PASS               |
+----------------------------------------+--------------------+
| Fedora 40 (ARM)                        | PEND               |
+----------------------------------------+--------------------+


RHEL9 (ARM)
	Kernel: Depends on container host
	Compiler: gcc 11.4.1

Ubuntu 20.04 ARM GCC Cross Compile
	Kernel: 5.4.0-167-generic
	Compiler: aarch64-linux-gnu-gcc (Ubuntu 9.4.0-1ubuntu1~20.04.2) 9.4.0

Fedora 39 (ARM)
	Kernel: Depends on container host
	Compiler: gcc 13.2.1

Debian 12 with MUSDK
	Kernel: Container Host Kernel
	Compiler: gcc 12.2.0

Fedora 38 (ARM Clang)
	Kernel: Depends on container host
	Compiler: clang 16.0.6

Ubuntu 20.04 ARM SVE
	Kernel: 5.4.0-167-generic
	Compiler: gcc (Ubuntu 10.5.0-1ubuntu1~20.04) 10.5.0

Fedora 37 (ARM)
	Kernel: Depends on container host
	Compiler: gcc 12.3.1

Fedora 38 (ARM)
	Kernel: Depends on container host
	Compiler: gcc 13.2.1

Ubuntu 24.04 (ARM)
	Kernel: 5.4.0-167-generic
	Compiler: gcc 13.2.0

Debian 11 (Buster) (ARM)
	Kernel: Container Host Kernel
	Compiler: gcc 10.2.1

Fedora 39 (ARM Clang)
	Kernel: Depends on container host
	Compiler: clang 17.0.6

Fedora 40 (ARM Clang)
	Kernel: Depends on container host
	Compiler: clang 18.1.6

Ubuntu 20.04 (ARM)
	Kernel: Container Host Kernel
	Compiler: gcc 9.4.0

Debian 12 (arm)
	Kernel: Container Host Kernel
	Compiler: gcc 12.2.0

Ubuntu 20.04 aarch32 GCC Cross Compile
	Kernel: 5.4.0-167-generic
	Compiler: gcc 9.4.0

CentOS Stream 9 (ARM)
	Kernel: Container Host Kernel
	Compiler: gcc 11.4.1

Ubuntu 22.04 (ARM)
	Kernel: Container Host Kernel
	Compiler: gcc 11.4.0

Ubuntu 20.04 ARM Clang Cross Compile
	Kernel: 5.4.0-72-generic
	Compiler: clang 10.0.0-4ubuntu1

Fedora 40 (ARM)
	Kernel: Depends on container host
	Compiler: gcc 14.1.1

To view detailed results, visit:
https://lab.dpdk.org/results/dashboard/patchsets/30353/

UNH-IOL DPDK Community Lab

To manage your email subscriptions, visit: 
https://lab.dpdk.org/results/dashboard/preferences/subscriptions/