From mboxrd@z Thu Jan  1 00:00:00 1970
Return-Path: <test-report-bounces@dpdk.org>
Received: from mails.dpdk.org (mails.dpdk.org [217.70.189.124])
	by inbox.dpdk.org (Postfix) with ESMTP id 69EFF4553C
	for <public@inbox.dpdk.org>; Sun, 30 Jun 2024 17:12:14 +0200 (CEST)
Received: from mails.dpdk.org (localhost [127.0.0.1])
	by mails.dpdk.org (Postfix) with ESMTP id 649DD402CB;
	Sun, 30 Jun 2024 17:12:14 +0200 (CEST)
Received: from mail-yb1-f228.google.com (mail-yb1-f228.google.com
 [209.85.219.228])
 by mails.dpdk.org (Postfix) with ESMTP id 21C37402C9
 for <test-report@dpdk.org>; Sun, 30 Jun 2024 17:12:13 +0200 (CEST)
Received: by mail-yb1-f228.google.com with SMTP id
 3f1490d57ef6-dfef5980a69so2396119276.3
 for <test-report@dpdk.org>; Sun, 30 Jun 2024 08:12:13 -0700 (PDT)
DKIM-Signature: v=1; a=rsa-sha256; c=relaxed/relaxed;
 d=iol.unh.edu; s=unh-iol; t=1719760332; x=1720365132; darn=dpdk.org;
 h=references:in-reply-to:cc:to:from:subject:message-id:date:from:to
 :cc:subject:date:message-id:reply-to;
 bh=gWa5Lh2YWqsyZ1Yaa/pg0VBJimcJKPkdLmvwlXme9b8=;
 b=jeg3AJU+Wz3XpRwbzmLcQg6mnGgFHkVwG1hI8GjqsariQsN+tEznp5XSoGiRHCEoQ4
 6Vw8JEWFuVeblm6on/gVvKq1avatIRqS/xnrQOJeTPQ0VXXzGM9Sve2NDCTaL1l10LI+
 jDask15XFozoaGgS97oXMwZwE4pbEL1UwFcOM=
X-Google-DKIM-Signature: v=1; a=rsa-sha256; c=relaxed/relaxed;
 d=1e100.net; s=20230601; t=1719760332; x=1720365132;
 h=references:in-reply-to:cc:to:from:subject:message-id:date
 :x-gm-message-state:from:to:cc:subject:date:message-id:reply-to;
 bh=gWa5Lh2YWqsyZ1Yaa/pg0VBJimcJKPkdLmvwlXme9b8=;
 b=c3yWwi9n29XgIcYVm/P9wng5AK/0hrBbZU+n39FUHJpaXS/+wL67fcTf7YzwPk/nQG
 Px9QKn0KnWcIrUCtOSY/VYf1GkprhIIJRvkSkokqpIMDSW0vwEhT4VpruGdO0kKwzufB
 eJ+f4iGr4BItj+3Xfkcr7O5/CZJNEdKunxNGL7MH20Cg7/h1a+IMPfWPmvbNhZuRRBRU
 mlp5KVEX0qfjqaDvH+kXGAbf5bAQ7TUsGR6D91ApXEE+QE3b/JG/HTnIwYDP2eOa571+
 1SuLegC1jtni9i9qSOj6gjxxqxvHeBRBL7BC9RemYxkFCpvtduf8+B/+bNUw80UvQoNY
 BhZQ==
X-Gm-Message-State: AOJu0YwwJI9RG7gHk3dXQzJNsbuwC2SCLD9Rk/0fAe3imBJUljPdZmgr
 BDt/n9AKe7zQrJQ2jz5woODnofsJNyCksQjk/HFQlY+nguAWLP0NUSkC9LEFA6h1ucHRgvmc8CB
 ym+AN7Fporcmzwa5i3/4/mOMaq+iMkH3klB8Okwio
X-Google-Smtp-Source: AGHT+IEzlK3Zk2TJa3ssXLlIe5uusVMvhTDOTq8WJhfpQAYMUpoUNws4h6BUwouCfR/cTJ/XJwtfVdLPf145
X-Received: by 2002:a25:6b03:0:b0:e02:6e8b:af87 with SMTP id
 3f1490d57ef6-e036eb45069mr3315901276.20.1719760332511; 
 Sun, 30 Jun 2024 08:12:12 -0700 (PDT)
Received: from postal.iol.unh.edu (postal.iol.unh.edu. [132.177.123.84])
 by smtp-relay.gmail.com with ESMTPS id
 3f1490d57ef6-e035409dec9sm202220276.30.2024.06.30.08.12.12
 (version=TLS1_2 cipher=ECDHE-ECDSA-AES128-GCM-SHA256 bits=128/128);
 Sun, 30 Jun 2024 08:12:12 -0700 (PDT)
X-Relaying-Domain: iol.unh.edu
Date: Sun, 30 Jun 2024 08:12:12 -0700 (PDT)
Message-ID: <668175cc.050a0220.2826bb.f2a7SMTPIN_ADDED_MISSING@mx.google.com>
Received: from [172.21.0.6] (unknown [172.18.0.240])
 by postal.iol.unh.edu (Postfix) with ESMTP id 1A98D6050A9C;
 Sun, 30 Jun 2024 11:12:12 -0400 (EDT)
Subject: |PENDING| pw141979 [PATCH] [v2] net/memif: fix buffer overflow in ze
From: dpdklab@iol.unh.edu
To: Test Report <test-report@dpdk.org>
Cc: dpdk-test-reports@iol.unh.edu
In-Reply-To: <c3a72bcb-24b0-4c42-9a07-427eadce029a@broadcom.com>
References: <c3a72bcb-24b0-4c42-9a07-427eadce029a@broadcom.com>
Content-Type: text/plain
X-BeenThere: test-report@dpdk.org
X-Mailman-Version: 2.1.29
Precedence: list
List-Id: automatic DPDK test reports <test-report.dpdk.org>
List-Unsubscribe: <https://mails.dpdk.org/options/test-report>,
 <mailto:test-report-request@dpdk.org?subject=unsubscribe>
List-Archive: <http://mails.dpdk.org/archives/test-report/>
List-Post: <mailto:test-report@dpdk.org>
List-Help: <mailto:test-report-request@dpdk.org?subject=help>
List-Subscribe: <https://mails.dpdk.org/listinfo/test-report>,
 <mailto:test-report-request@dpdk.org?subject=subscribe>
Errors-To: test-report-bounces@dpdk.org

Test-Label: iol-unit-amd64-testing
Test-Status: PENDING
http://dpdk.org/patch/141979

_Testing pending_

Submitter: Mihai Brodschi <mihai.brodschi@broadcom.com>
Date: Friday, June 28 2024 21:01:29 
DPDK git baseline: Repo:dpdk
  Branch: master
  CommitID:fbba6db3640f9f623c29c452e1a6b057073e81d2

141979 --> testing pending

Test environment and result as below:

+---------------------+----------------+
|     Environment     | dpdk_unit_test |
+=====================+================+
| Windows Server 2019 | PASS           |
+---------------------+----------------+
| CentOS Stream 8     | PASS           |
+---------------------+----------------+
| CentOS Stream 9     | PASS           |
+---------------------+----------------+
| Debian Bullseye     | PASS           |
+---------------------+----------------+
| Fedora 37           | PASS           |
+---------------------+----------------+
| Debian 12           | PASS           |
+---------------------+----------------+
| Fedora 38 (Clang)   | PASS           |
+---------------------+----------------+
| Fedora 39 (Clang)   | PASS           |
+---------------------+----------------+
| Fedora 38           | PASS           |
+---------------------+----------------+
| Fedora 39           | PASS           |
+---------------------+----------------+
| Fedora 40           | PEND           |
+---------------------+----------------+
| Fedora 40 (Clang)   | PASS           |
+---------------------+----------------+
| RHEL8               | PASS           |
+---------------------+----------------+
| openSUSE Leap 15    | PEND           |
+---------------------+----------------+
| Ubuntu 20.04        | PEND           |
+---------------------+----------------+
| Ubuntu 22.04        | PEND           |
+---------------------+----------------+
| RHEL9               | PEND           |
+---------------------+----------------+
| Ubuntu 24.04        | PEND           |
+---------------------+----------------+
| Windows Server 2022 | PASS           |
+---------------------+----------------+


Windows Server 2019
	Kernel: 10.0.17763
	Compiler: clang 14.0 and gcc 8.1.0 (MinGW)

CentOS Stream 8
	Kernel: 5.4.0-167-generic
	Compiler: gcc 8.5.0 20210514

CentOS Stream 9
	Kernel: 5.4.0-167-generic
	Compiler: gcc 11.4.1 20230605

Debian Bullseye
	Kernel: 5.4.0-167-generic
	Compiler: gcc 10.2.1-6

Fedora 37
	Kernel: Depends on container host system
	Compiler: gcc 12.3.1

Debian 12
	Kernel: Container Host Kernel
	Compiler: gcc 12.2.0

Fedora 38 (Clang)
	Kernel: Depends on container host
	Compiler: clang 16.0.6

Fedora 39 (Clang)
	Kernel: Depends on container host
	Compiler: clang 17.0.6

Fedora 38
	Kernel: Depends on container host
	Compiler: gcc 13.2.1

Fedora 39
	Kernel: Depends on container host
	Compiler: gcc 13.2.1

Fedora 40
	Kernel: Depends on container host
	Compiler: gcc 14.1.1

Fedora 40 (Clang)
	Kernel: Depends on container host
	Compiler: clang 18.1.6

RHEL8
	Kernel: 5.4.0-167-generic
	Compiler: gcc 8.5.0 20210514 (Red Hat 8.5.0-20)

openSUSE Leap 15
	Kernel: 5.4.0-167-generic
	Compiler: gcc 7.5.0

Ubuntu 20.04
	Kernel: 5.4.0-167-generic
	Compiler: gcc 9.4.0-1ubuntu1~20.04.1

Ubuntu 22.04
	Kernel: 5.4.0-167-generic
	Compiler: gcc 11.4.0

RHEL9
	Kernel: Depends on container host
	Compiler: gcc 11.4.1

Ubuntu 24.04
	Kernel: 5.4.0-167-generic
	Compiler: gcc 13.2.0

Windows Server 2022
	Kernel: 10.0.20348.2031
	Compiler: clang 15.0.7, gcc 8.1.0 (MinGW), and MSVC VS 17.9

To view detailed results, visit:
https://lab.dpdk.org/results/dashboard/patchsets/30353/

UNH-IOL DPDK Community Lab

To manage your email subscriptions, visit: 
https://lab.dpdk.org/results/dashboard/preferences/subscriptions/