From mboxrd@z Thu Jan  1 00:00:00 1970
Return-Path: <test-report-bounces@dpdk.org>
Received: from mails.dpdk.org (mails.dpdk.org [217.70.189.124])
	by inbox.dpdk.org (Postfix) with ESMTP id A79BC4553E
	for <public@inbox.dpdk.org>; Sun, 30 Jun 2024 17:27:33 +0200 (CEST)
Received: from mails.dpdk.org (localhost [127.0.0.1])
	by mails.dpdk.org (Postfix) with ESMTP id A57F2402CB;
	Sun, 30 Jun 2024 17:27:33 +0200 (CEST)
Received: from mail-pl1-f225.google.com (mail-pl1-f225.google.com
 [209.85.214.225])
 by mails.dpdk.org (Postfix) with ESMTP id 78BDC402C9
 for <test-report@dpdk.org>; Sun, 30 Jun 2024 17:27:32 +0200 (CEST)
Received: by mail-pl1-f225.google.com with SMTP id
 d9443c01a7336-1fa244db0b2so14728545ad.3
 for <test-report@dpdk.org>; Sun, 30 Jun 2024 08:27:32 -0700 (PDT)
DKIM-Signature: v=1; a=rsa-sha256; c=relaxed/relaxed;
 d=iol.unh.edu; s=unh-iol; t=1719761251; x=1720366051; darn=dpdk.org;
 h=references:in-reply-to:cc:to:from:subject:message-id:date:from:to
 :cc:subject:date:message-id:reply-to;
 bh=+ArW+Winsd1Cc9jRYGSE6x4dvUnWxURZUJNCTv6vdYw=;
 b=R+/qsCWZrEsWzOYHDctrduLhPtz3Uef+xWU0ve9M2b2y+5ogjvUcnWkE1aNL7y61sE
 QRbV7p2ucBIPhk7HPPak2PygQ+J4rFGBJYGoH1FoaV8vjLx4Hr0++4nJBeLUCyOsvwFO
 9IajABjTTYrvS4L5tofDhqvXwkZ7kVRXbiCBQ=
X-Google-DKIM-Signature: v=1; a=rsa-sha256; c=relaxed/relaxed;
 d=1e100.net; s=20230601; t=1719761251; x=1720366051;
 h=references:in-reply-to:cc:to:from:subject:message-id:date
 :x-gm-message-state:from:to:cc:subject:date:message-id:reply-to;
 bh=+ArW+Winsd1Cc9jRYGSE6x4dvUnWxURZUJNCTv6vdYw=;
 b=jIYATt5SMTkUx/dVwOmUizKenEhjIUaDa9pSZMdJd7Nqy0pIxMFgu1ucHzzvoSU53A
 QmCxfQWQ/zpCzSABkKlF3ek71SlsVjpJDPmOlXVoVidHd3TxktF2BccgC01/7R7BVBSG
 k559GGr+iKJaHSDjRvF1tMjHKp7KKbRkBpsFBT1K9rlJXRjAXnvK5AI82Nf8dY/Zb234
 c6Z2AjJvhHY6A0dJxMcCoswqqaifE0PodeuhQoHpPAQolbCJnMC51OKyTjOVDxsPHtFV
 b/H9oFpFobCLdYgov6w1iiXBUDaUI2QAV7GbZKJhJ0B1qV8rlRUQgwad+QnJHNSHg9n+
 nHcg==
X-Gm-Message-State: AOJu0Yy1tGlHOlggFYupAtR4YUmDXeMuNaNFEMWWBiwrADSVK5evCewk
 N7A3KdS1rtwK0TxljG6BPqh+qxnw6sy5CoeaJYsKYOAtkXVJV7Mcast5esSsKHrvMbdbV7RuCdY
 vNtE2ueG7U1RxAvbuRHlHWoJ3lKZbPzCMhJfzkO7AzXdNYvKF4PxxVvBQ
X-Google-Smtp-Source: AGHT+IGZ4aE/l19yS9pQE70tbD7AaN0M00KNBEzyLwm1hoyd91s/s5tN62ZX80Dxj3y5AyZTM55TetTJcMip
X-Received: by 2002:a05:6a20:c4a7:b0:1bd:2d0b:e143 with SMTP id
 adf61e73a8af0-1bef626e94dmr1976183637.52.1719761251584; 
 Sun, 30 Jun 2024 08:27:31 -0700 (PDT)
Received: from postal.iol.unh.edu (postal.iol.unh.edu.
 [2606:4100:3880:1234::84]) by smtp-relay.gmail.com with ESMTPS id
 d9443c01a7336-1fac15b3316sm1694645ad.149.2024.06.30.08.27.31
 (version=TLS1_2 cipher=ECDHE-ECDSA-AES128-GCM-SHA256 bits=128/128);
 Sun, 30 Jun 2024 08:27:31 -0700 (PDT)
X-Relaying-Domain: iol.unh.edu
Date: Sun, 30 Jun 2024 08:27:31 -0700 (PDT)
Message-ID: <66817963.170a0220.efe46.cc5aSMTPIN_ADDED_MISSING@mx.google.com>
Received: from [172.21.0.6] (unknown [172.18.0.240])
 by postal.iol.unh.edu (Postfix) with ESMTP id A9AC76050A9C;
 Sun, 30 Jun 2024 11:27:30 -0400 (EDT)
Subject: |SUCCESS| pw141979 [PATCH] [v2] net/memif: fix buffer overflow in ze
From: dpdklab@iol.unh.edu
To: Test Report <test-report@dpdk.org>
Cc: dpdk-test-reports@iol.unh.edu
In-Reply-To: <c3a72bcb-24b0-4c42-9a07-427eadce029a@broadcom.com>
References: <c3a72bcb-24b0-4c42-9a07-427eadce029a@broadcom.com>
Content-Type: text/plain
X-BeenThere: test-report@dpdk.org
X-Mailman-Version: 2.1.29
Precedence: list
List-Id: automatic DPDK test reports <test-report.dpdk.org>
List-Unsubscribe: <https://mails.dpdk.org/options/test-report>,
 <mailto:test-report-request@dpdk.org?subject=unsubscribe>
List-Archive: <http://mails.dpdk.org/archives/test-report/>
List-Post: <mailto:test-report@dpdk.org>
List-Help: <mailto:test-report-request@dpdk.org?subject=help>
List-Subscribe: <https://mails.dpdk.org/listinfo/test-report>,
 <mailto:test-report-request@dpdk.org?subject=subscribe>
Errors-To: test-report-bounces@dpdk.org

Test-Label: iol-unit-amd64-testing
Test-Status: SUCCESS
http://dpdk.org/patch/141979

_Testing PASS_

Submitter: Mihai Brodschi <mihai.brodschi@broadcom.com>
Date: Friday, June 28 2024 21:01:29 
DPDK git baseline: Repo:dpdk
  Branch: master
  CommitID:fbba6db3640f9f623c29c452e1a6b057073e81d2

141979 --> testing pass

Test environment and result as below:

+---------------------+----------------+
|     Environment     | dpdk_unit_test |
+=====================+================+
| Windows Server 2019 | PASS           |
+---------------------+----------------+
| CentOS Stream 8     | PASS           |
+---------------------+----------------+
| CentOS Stream 9     | PASS           |
+---------------------+----------------+
| Debian Bullseye     | PASS           |
+---------------------+----------------+
| Fedora 37           | PASS           |
+---------------------+----------------+
| Debian 12           | PASS           |
+---------------------+----------------+
| Fedora 38 (Clang)   | PASS           |
+---------------------+----------------+
| Fedora 39 (Clang)   | PASS           |
+---------------------+----------------+
| Fedora 38           | PASS           |
+---------------------+----------------+
| Fedora 39           | PASS           |
+---------------------+----------------+
| Fedora 40           | PASS           |
+---------------------+----------------+
| Fedora 40 (Clang)   | PASS           |
+---------------------+----------------+
| RHEL8               | PASS           |
+---------------------+----------------+
| openSUSE Leap 15    | PASS           |
+---------------------+----------------+
| Ubuntu 20.04        | PASS           |
+---------------------+----------------+
| Ubuntu 22.04        | PASS           |
+---------------------+----------------+
| RHEL9               | PASS           |
+---------------------+----------------+
| Ubuntu 24.04        | PASS           |
+---------------------+----------------+
| Windows Server 2022 | PASS           |
+---------------------+----------------+


Windows Server 2019
	Kernel: 10.0.17763
	Compiler: clang 14.0 and gcc 8.1.0 (MinGW)

CentOS Stream 8
	Kernel: 5.4.0-167-generic
	Compiler: gcc 8.5.0 20210514

CentOS Stream 9
	Kernel: 5.4.0-167-generic
	Compiler: gcc 11.4.1 20230605

Debian Bullseye
	Kernel: 5.4.0-167-generic
	Compiler: gcc 10.2.1-6

Fedora 37
	Kernel: Depends on container host system
	Compiler: gcc 12.3.1

Debian 12
	Kernel: Container Host Kernel
	Compiler: gcc 12.2.0

Fedora 38 (Clang)
	Kernel: Depends on container host
	Compiler: clang 16.0.6

Fedora 39 (Clang)
	Kernel: Depends on container host
	Compiler: clang 17.0.6

Fedora 38
	Kernel: Depends on container host
	Compiler: gcc 13.2.1

Fedora 39
	Kernel: Depends on container host
	Compiler: gcc 13.2.1

Fedora 40
	Kernel: Depends on container host
	Compiler: gcc 14.1.1

Fedora 40 (Clang)
	Kernel: Depends on container host
	Compiler: clang 18.1.6

RHEL8
	Kernel: 5.4.0-167-generic
	Compiler: gcc 8.5.0 20210514 (Red Hat 8.5.0-20)

openSUSE Leap 15
	Kernel: 5.4.0-167-generic
	Compiler: gcc 7.5.0

Ubuntu 20.04
	Kernel: 5.4.0-167-generic
	Compiler: gcc 9.4.0-1ubuntu1~20.04.1

Ubuntu 22.04
	Kernel: 5.4.0-167-generic
	Compiler: gcc 11.4.0

RHEL9
	Kernel: Depends on container host
	Compiler: gcc 11.4.1

Ubuntu 24.04
	Kernel: 5.4.0-167-generic
	Compiler: gcc 13.2.0

Windows Server 2022
	Kernel: 10.0.20348.2031
	Compiler: clang 15.0.7, gcc 8.1.0 (MinGW), and MSVC VS 17.9

To view detailed results, visit:
https://lab.dpdk.org/results/dashboard/patchsets/30353/

UNH-IOL DPDK Community Lab

To manage your email subscriptions, visit: 
https://lab.dpdk.org/results/dashboard/preferences/subscriptions/