From: dpdklab@iol.unh.edu
To: Test Report <test-report@dpdk.org>
Cc: dpdk-test-reports@iol.unh.edu
Subject: |PENDING| pw141981 [PATCH] net/netvsc: fix mtu_set in netvsc devices
Date: Sun, 30 Jun 2024 08:35:34 -0700 (PDT) [thread overview]
Message-ID: <66817b46.050a0220.8d19d.32aaSMTPIN_ADDED_MISSING@mx.google.com> (raw)
In-Reply-To: <20240628163503.15893-1-askorichenko@netgate.com>
Test-Label: iol-compile-amd64-testing
Test-Status: PENDING
http://dpdk.org/patch/141981
_Testing pending_
Submitter: Alexander Skorichenko <askorichenko@netgate.com>
Date: Friday, June 28 2024 16:35:03
DPDK git baseline: Repo:dpdk
Branch: master
CommitID:fbba6db3640f9f623c29c452e1a6b057073e81d2
141981 --> testing pending
Test environment and result as below:
+---------------------+--------------------+----------------------+-------------------+------------------+-------------------+
| Environment | dpdk_meson_compile | dpdk_mingw64_compile | dpdk_msvc_compile | dpdk_compile_ovs | dpdk_compile_spdk |
+=====================+====================+======================+===================+==================+===================+
| Windows Server 2019 | PASS | PASS | SKIPPED | SKIPPED | SKIPPED |
+---------------------+--------------------+----------------------+-------------------+------------------+-------------------+
| FreeBSD 13.3 | PASS | SKIPPED | SKIPPED | SKIPPED | SKIPPED |
+---------------------+--------------------+----------------------+-------------------+------------------+-------------------+
| FreeBSD 14.1 | PASS | SKIPPED | SKIPPED | SKIPPED | SKIPPED |
+---------------------+--------------------+----------------------+-------------------+------------------+-------------------+
| Windows Server 2022 | PASS | PASS | PASS | SKIPPED | SKIPPED |
+---------------------+--------------------+----------------------+-------------------+------------------+-------------------+
| CentOS Stream 8 | PASS | SKIPPED | SKIPPED | PASS | PASS |
+---------------------+--------------------+----------------------+-------------------+------------------+-------------------+
| CentOS Stream 9 | PASS | SKIPPED | SKIPPED | PASS | PASS |
+---------------------+--------------------+----------------------+-------------------+------------------+-------------------+
| Debian Bullseye | PEND | SKIPPED | SKIPPED | PEND | PEND |
+---------------------+--------------------+----------------------+-------------------+------------------+-------------------+
| Debian 12 | PASS | SKIPPED | SKIPPED | PASS | PASS |
+---------------------+--------------------+----------------------+-------------------+------------------+-------------------+
| Fedora 37 | PASS | SKIPPED | SKIPPED | PASS | PASS |
+---------------------+--------------------+----------------------+-------------------+------------------+-------------------+
| Fedora 38 (Clang) | PEND | SKIPPED | SKIPPED | PEND | PEND |
+---------------------+--------------------+----------------------+-------------------+------------------+-------------------+
| Fedora 38 | PEND | SKIPPED | SKIPPED | PEND | PEND |
+---------------------+--------------------+----------------------+-------------------+------------------+-------------------+
| Fedora 39 (Clang) | PEND | SKIPPED | SKIPPED | PEND | PEND |
+---------------------+--------------------+----------------------+-------------------+------------------+-------------------+
| Fedora 39 | PEND | SKIPPED | SKIPPED | PEND | PEND |
+---------------------+--------------------+----------------------+-------------------+------------------+-------------------+
| Fedora 40 (Clang) | PEND | SKIPPED | SKIPPED | PEND | PEND |
+---------------------+--------------------+----------------------+-------------------+------------------+-------------------+
| Fedora 40 | PEND | SKIPPED | SKIPPED | PEND | PEND |
+---------------------+--------------------+----------------------+-------------------+------------------+-------------------+
| openSUSE Leap 15 | PEND | SKIPPED | SKIPPED | PEND | SKIPPED |
+---------------------+--------------------+----------------------+-------------------+------------------+-------------------+
| RHEL8 | PEND | SKIPPED | SKIPPED | PEND | SKIPPED |
+---------------------+--------------------+----------------------+-------------------+------------------+-------------------+
| RHEL9 | PEND | SKIPPED | SKIPPED | PEND | SKIPPED |
+---------------------+--------------------+----------------------+-------------------+------------------+-------------------+
Windows Server 2019
Kernel: 10.0.17763
Compiler: clang 14.0 and gcc 8.1.0 (MinGW)
FreeBSD 13.3
Kernel: 13.3-RELEASE-p1
Compiler: clang 17.0.6
FreeBSD 14.1
Kernel: 14.1
Compiler: clang 18.1.5
Windows Server 2022
Kernel: 10.0.20348.2031
Compiler: clang 15.0.7, gcc 8.1.0 (MinGW), and MSVC VS 17.9
CentOS Stream 8
Kernel: 5.4.0-167-generic
Compiler: gcc 8.5.0 20210514
CentOS Stream 9
Kernel: 5.4.0-167-generic
Compiler: gcc 11.4.1 20230605
Debian Bullseye
Kernel: 5.4.0-167-generic
Compiler: gcc 10.2.1-6
Debian 12
Kernel: Container Host Kernel
Compiler: gcc 12.2.0
Fedora 37
Kernel: Depends on container host system
Compiler: gcc 12.3.1
Fedora 38 (Clang)
Kernel: Depends on container host
Compiler: clang 16.0.6
Fedora 38
Kernel: Depends on container host
Compiler: gcc 13.2.1
Fedora 39 (Clang)
Kernel: Depends on container host
Compiler: clang 17.0.6
Fedora 39
Kernel: Depends on container host
Compiler: gcc 13.2.1
Fedora 40 (Clang)
Kernel: Depends on container host
Compiler: clang 18.1.6
Fedora 40
Kernel: Depends on container host
Compiler: gcc 14.1.1
openSUSE Leap 15
Kernel: 5.4.0-167-generic
Compiler: gcc 7.5.0
RHEL8
Kernel: 5.4.0-167-generic
Compiler: gcc 8.5.0 20210514 (Red Hat 8.5.0-20)
RHEL9
Kernel: Depends on container host
Compiler: gcc 11.4.1
To view detailed results, visit:
https://lab.dpdk.org/results/dashboard/patchsets/30355/
UNH-IOL DPDK Community Lab
To manage your email subscriptions, visit:
https://lab.dpdk.org/results/dashboard/preferences/subscriptions/
next prev parent reply other threads:[~2024-06-30 15:35 UTC|newest]
Thread overview: 116+ messages / expand[flat|nested] mbox.gz Atom feed top
[not found] <20240628163503.15893-1-askorichenko@netgate.com>
2024-06-30 12:19 ` |SUCCESS| " qemudev
2024-06-30 12:23 ` qemudev
2024-06-30 12:47 ` checkpatch
2024-06-30 13:57 ` dpdklab
2024-06-30 13:59 ` dpdklab
2024-06-30 14:01 ` dpdklab
2024-06-30 14:02 ` |PENDING| " dpdklab
2024-06-30 14:04 ` |SUCCESS| " dpdklab
2024-06-30 14:05 ` dpdklab
2024-06-30 14:06 ` |PENDING| " dpdklab
2024-06-30 14:08 ` dpdklab
2024-06-30 14:10 ` dpdklab
2024-06-30 14:11 ` dpdklab
2024-06-30 14:12 ` dpdklab
2024-06-30 14:13 ` |SUCCESS| " dpdklab
2024-06-30 14:13 ` dpdklab
2024-06-30 14:16 ` dpdklab
2024-06-30 14:18 ` dpdklab
2024-06-30 14:19 ` dpdklab
2024-06-30 14:20 ` dpdklab
2024-06-30 14:24 ` dpdklab
2024-06-30 14:28 ` |PENDING| " dpdklab
2024-06-30 14:42 ` dpdklab
2024-06-30 14:45 ` dpdklab
2024-06-30 14:49 ` |SUCCESS| " dpdklab
2024-06-30 14:53 ` dpdklab
2024-06-30 14:54 ` |PENDING| " dpdklab
2024-06-30 14:57 ` |SUCCESS| " dpdklab
2024-06-30 15:02 ` |PENDING| " dpdklab
2024-06-30 15:04 ` dpdklab
2024-06-30 15:10 ` dpdklab
2024-06-30 15:11 ` dpdklab
2024-06-30 15:13 ` dpdklab
2024-06-30 15:14 ` dpdklab
2024-06-30 15:16 ` |SUCCESS| " dpdklab
2024-06-30 15:17 ` |PENDING| " dpdklab
2024-06-30 15:18 ` dpdklab
2024-06-30 15:21 ` dpdklab
2024-06-30 15:23 ` dpdklab
2024-06-30 15:28 ` dpdklab
2024-06-30 15:28 ` dpdklab
2024-06-30 15:30 ` dpdklab
2024-06-30 15:30 ` dpdklab
2024-06-30 15:32 ` dpdklab
2024-06-30 15:33 ` dpdklab
2024-06-30 15:35 ` dpdklab [this message]
2024-06-30 15:35 ` dpdklab
2024-06-30 15:36 ` dpdklab
2024-06-30 15:42 ` dpdklab
2024-06-30 15:43 ` dpdklab
2024-06-30 15:44 ` |SUCCESS| " dpdklab
2024-06-30 15:45 ` |PENDING| " dpdklab
2024-06-30 15:45 ` dpdklab
2024-06-30 15:45 ` dpdklab
2024-06-30 15:49 ` dpdklab
2024-06-30 15:50 ` |SUCCESS| " dpdklab
2024-06-30 15:51 ` |PENDING| " dpdklab
2024-06-30 15:51 ` dpdklab
2024-06-30 15:52 ` dpdklab
2024-06-30 15:52 ` dpdklab
2024-06-30 15:53 ` dpdklab
2024-06-30 15:53 ` dpdklab
2024-06-30 15:53 ` dpdklab
2024-06-30 15:56 ` dpdklab
2024-06-30 15:59 ` dpdklab
2024-06-30 16:00 ` dpdklab
2024-06-30 16:00 ` dpdklab
2024-06-30 16:01 ` dpdklab
2024-06-30 16:03 ` dpdklab
2024-06-30 16:04 ` dpdklab
2024-06-30 16:05 ` dpdklab
2024-06-30 16:05 ` dpdklab
2024-06-30 16:05 ` dpdklab
2024-06-30 16:06 ` dpdklab
2024-06-30 16:09 ` dpdklab
2024-06-30 16:09 ` dpdklab
2024-06-30 16:10 ` dpdklab
2024-06-30 16:11 ` dpdklab
2024-06-30 16:12 ` dpdklab
2024-06-30 16:14 ` dpdklab
2024-06-30 16:14 ` dpdklab
2024-06-30 16:17 ` |SUCCESS| " dpdklab
2024-06-30 16:18 ` |PENDING| " dpdklab
2024-06-30 16:23 ` dpdklab
2024-06-30 16:25 ` |SUCCESS| " dpdklab
2024-06-30 16:35 ` |PENDING| " dpdklab
2024-06-30 16:55 ` dpdklab
2024-06-30 16:59 ` dpdklab
2024-06-30 17:11 ` dpdklab
2024-06-30 17:28 ` dpdklab
2024-06-30 17:34 ` dpdklab
2024-06-30 17:35 ` dpdklab
2024-06-30 17:39 ` dpdklab
2024-06-30 17:41 ` dpdklab
2024-06-30 17:42 ` dpdklab
2024-06-30 17:42 ` dpdklab
2024-06-30 17:44 ` dpdklab
2024-06-30 17:44 ` dpdklab
2024-06-30 17:47 ` dpdklab
2024-06-30 17:49 ` dpdklab
2024-06-30 17:52 ` dpdklab
2024-06-30 17:54 ` dpdklab
2024-06-30 18:00 ` dpdklab
2024-06-30 18:02 ` dpdklab
2024-06-30 18:07 ` dpdklab
2024-06-30 18:12 ` dpdklab
2024-06-30 18:22 ` dpdklab
2024-06-30 18:29 ` dpdklab
2024-06-30 18:30 ` dpdklab
2024-06-30 18:37 ` dpdklab
2024-06-30 18:37 ` dpdklab
2024-06-30 18:40 ` dpdklab
2024-06-30 18:42 ` dpdklab
2024-06-30 18:44 ` dpdklab
2024-06-30 19:09 ` |SUCCESS| " dpdklab
2024-06-30 19:36 ` dpdklab
Reply instructions:
You may reply publicly to this message via plain-text email
using any one of the following methods:
* Save the following mbox file, import it into your mail client,
and reply-to-all from there: mbox
Avoid top-posting and favor interleaved quoting:
https://en.wikipedia.org/wiki/Posting_style#Interleaved_style
* Reply using the --to, --cc, and --in-reply-to
switches of git-send-email(1):
git send-email \
--in-reply-to=66817b46.050a0220.8d19d.32aaSMTPIN_ADDED_MISSING@mx.google.com \
--to=dpdklab@iol.unh.edu \
--cc=dpdk-test-reports@iol.unh.edu \
--cc=test-report@dpdk.org \
/path/to/YOUR_REPLY
https://kernel.org/pub/software/scm/git/docs/git-send-email.html
* If your mail client supports setting the In-Reply-To header
via mailto: links, try the mailto: link
Be sure your reply has a Subject: header at the top and a blank line
before the message body.
This is a public inbox, see mirroring instructions
for how to clone and mirror all data and code used for this inbox;
as well as URLs for NNTP newsgroup(s).