From mboxrd@z Thu Jan  1 00:00:00 1970
Return-Path: <test-report-bounces@dpdk.org>
Received: from mails.dpdk.org (mails.dpdk.org [217.70.189.124])
	by inbox.dpdk.org (Postfix) with ESMTP id A92264552E
	for <public@inbox.dpdk.org>; Mon,  1 Jul 2024 13:19:41 +0200 (CEST)
Received: from mails.dpdk.org (localhost [127.0.0.1])
	by mails.dpdk.org (Postfix) with ESMTP id A40084279D;
	Mon,  1 Jul 2024 13:19:41 +0200 (CEST)
Received: from mail-pj1-f99.google.com (mail-pj1-f99.google.com
 [209.85.216.99]) by mails.dpdk.org (Postfix) with ESMTP id 322FF42686
 for <test-report@dpdk.org>; Mon,  1 Jul 2024 13:19:40 +0200 (CEST)
Received: by mail-pj1-f99.google.com with SMTP id
 98e67ed59e1d1-2c92d00059eso1645551a91.3
 for <test-report@dpdk.org>; Mon, 01 Jul 2024 04:19:40 -0700 (PDT)
DKIM-Signature: v=1; a=rsa-sha256; c=relaxed/relaxed;
 d=iol.unh.edu; s=unh-iol; t=1719832779; x=1720437579; darn=dpdk.org;
 h=references:in-reply-to:cc:to:from:subject:message-id:date:from:to
 :cc:subject:date:message-id:reply-to;
 bh=8pfDnjPsRlw1Ri3waVP9RIAwWCP8soY8DglpasRQgP4=;
 b=EaktxgJp6V2Q864iREyMK7ragOuKtwpuc2Q2YCeZmjF7BeKSTONfrrJjZBUjUlTuXI
 H3+t+zK1+K9OyHfv7NIF3UQalKJBJ+DXkhxXOWpnTbhZRnW0jvsaFDiuG1wr8leXcpY1
 m6A7TRhvXVb3yJzSHJDOz6CR6lb+JgwQ+gMw4=
X-Google-DKIM-Signature: v=1; a=rsa-sha256; c=relaxed/relaxed;
 d=1e100.net; s=20230601; t=1719832779; x=1720437579;
 h=references:in-reply-to:cc:to:from:subject:message-id:date
 :x-gm-message-state:from:to:cc:subject:date:message-id:reply-to;
 bh=8pfDnjPsRlw1Ri3waVP9RIAwWCP8soY8DglpasRQgP4=;
 b=lRtMkyTCvXOrm8i0cwn5G12QMDB91eOZu4yhJE27E+xtE1EngCbddx1bKWRBSgOpxA
 4Cc0KHqIukkYbLAaI75FArrF2XSXAX+iEqI14CliXUj928MQmHh2bM59K7zwEQIHJNAF
 s59/iTKc8SDMNS13ft4IqjdWfbJ6i4yn/e9EswHEgc+qW2/537VMjOOgdgvQUjqgQ58m
 lbzA2GYKtuk0GBBQLAtVtU3SEJ89hZiB4khoIs1uSjoeCcEvvrKDnOaq0G+Q1M0r6AnZ
 7u0jpHzBWsPiTask3kQb5u8RifsmWqK2syCgQ0Y2D5ycmhaOT9dkmHu6Ru6288SCzQpf
 ztkg==
X-Gm-Message-State: AOJu0YwNrnl4ZFOuxPkDIu/dmEN8dndXLtDrHJ57S9eDTWk3AM6cdM8w
 0k2c8+q29JmA9mQ8jwv6J3DliUjDrxMF1jPYAUsL3HT75RlpmX+bnvsS3F3WEuRD88jVIv7Wdus
 Kpqbi2dRIybXYCuZLW+geKkTUF9/RrIlUa2YzFsGo
X-Google-Smtp-Source: AGHT+IFCLiLOBhM/NsHMPNu7MyTjTpDxZDDxfmdsFEZXyPsjZnsPMgi1T38Gu2IjQalvhUnG+M/VOD3oo3qL
X-Received: by 2002:a17:90b:4002:b0:2c7:af63:9581 with SMTP id
 98e67ed59e1d1-2c93d61ff71mr2802578a91.0.1719832779303; 
 Mon, 01 Jul 2024 04:19:39 -0700 (PDT)
Received: from postal.iol.unh.edu (postal.iol.unh.edu. [132.177.123.84])
 by smtp-relay.gmail.com with ESMTPS id
 98e67ed59e1d1-2c93bb01710sm37591a91.1.2024.07.01.04.19.39
 (version=TLS1_2 cipher=ECDHE-ECDSA-AES128-GCM-SHA256 bits=128/128);
 Mon, 01 Jul 2024 04:19:39 -0700 (PDT)
X-Relaying-Domain: iol.unh.edu
Date: Mon, 01 Jul 2024 04:19:39 -0700 (PDT)
Message-ID: <668290cb.170a0220.d2733.28acSMTPIN_ADDED_MISSING@mx.google.com>
Received: from [172.21.0.7] (unknown [172.18.0.240])
 by postal.iol.unh.edu (Postfix) with ESMTP id 78B1C605C373;
 Mon,  1 Jul 2024 07:19:38 -0400 (EDT)
Subject: |PENDING| pw141982-141988 [PATCH] [v6,7/7] doc: updated the document
From: dpdklab@iol.unh.edu
To: Test Report <test-report@dpdk.org>
Cc: dpdk-test-reports@iol.unh.edu
In-Reply-To: <20240701091351.2550283-8-soumyadeep.hore@intel.com>
References: <20240701091351.2550283-8-soumyadeep.hore@intel.com>
Content-Type: text/plain
X-BeenThere: test-report@dpdk.org
X-Mailman-Version: 2.1.29
Precedence: list
List-Id: automatic DPDK test reports <test-report.dpdk.org>
List-Unsubscribe: <https://mails.dpdk.org/options/test-report>,
 <mailto:test-report-request@dpdk.org?subject=unsubscribe>
List-Archive: <http://mails.dpdk.org/archives/test-report/>
List-Post: <mailto:test-report@dpdk.org>
List-Help: <mailto:test-report-request@dpdk.org?subject=help>
List-Subscribe: <https://mails.dpdk.org/listinfo/test-report>,
 <mailto:test-report-request@dpdk.org?subject=subscribe>
Errors-To: test-report-bounces@dpdk.org

Test-Label: iol-unit-amd64-testing
Test-Status: PENDING
http://dpdk.org/patch/141988

_Testing pending_

Submitter: Hore, Soumyadeep <soumyadeep.hore@intel.com>
Date: Monday, July 01 2024 09:13:51 
DPDK git baseline: Repo:dpdk
  Branch: master
  CommitID:3f091744e940ca7e93309fc23224cc5208c590eb

141982-141988 --> testing pending

Test environment and result as below:

+---------------------+----------------+
|     Environment     | dpdk_unit_test |
+=====================+================+
| CentOS Stream 8     | PASS           |
+---------------------+----------------+
| CentOS Stream 9     | PASS           |
+---------------------+----------------+
| Debian Bullseye     | PASS           |
+---------------------+----------------+
| Debian 12           | PASS           |
+---------------------+----------------+
| Fedora 37           | PEND           |
+---------------------+----------------+
| Fedora 38           | PEND           |
+---------------------+----------------+
| Fedora 38 (Clang)   | PEND           |
+---------------------+----------------+
| Fedora 39           | PEND           |
+---------------------+----------------+
| Fedora 39 (Clang)   | PEND           |
+---------------------+----------------+
| Fedora 40           | PEND           |
+---------------------+----------------+
| Fedora 40 (Clang)   | PEND           |
+---------------------+----------------+
| openSUSE Leap 15    | PEND           |
+---------------------+----------------+
| RHEL8               | PEND           |
+---------------------+----------------+
| RHEL9               | PEND           |
+---------------------+----------------+
| Ubuntu 20.04        | PEND           |
+---------------------+----------------+
| Ubuntu 22.04        | PEND           |
+---------------------+----------------+
| Ubuntu 24.04        | PEND           |
+---------------------+----------------+
| Windows Server 2019 | PASS           |
+---------------------+----------------+


CentOS Stream 8
	Kernel: 5.4.0-167-generic
	Compiler: gcc 8.5.0 20210514

CentOS Stream 9
	Kernel: 5.4.0-167-generic
	Compiler: gcc 11.4.1 20230605

Debian Bullseye
	Kernel: 5.4.0-167-generic
	Compiler: gcc 10.2.1-6

Debian 12
	Kernel: Container Host Kernel
	Compiler: gcc 12.2.0

Fedora 37
	Kernel: Depends on container host system
	Compiler: gcc 12.3.1

Fedora 38
	Kernel: Depends on container host
	Compiler: gcc 13.2.1

Fedora 38 (Clang)
	Kernel: Depends on container host
	Compiler: clang 16.0.6

Fedora 39
	Kernel: Depends on container host
	Compiler: gcc 13.2.1

Fedora 39 (Clang)
	Kernel: Depends on container host
	Compiler: clang 17.0.6

Fedora 40
	Kernel: Depends on container host
	Compiler: gcc 14.1.1

Fedora 40 (Clang)
	Kernel: Depends on container host
	Compiler: clang 18.1.6

openSUSE Leap 15
	Kernel: 5.4.0-167-generic
	Compiler: gcc 7.5.0

RHEL8
	Kernel: 5.4.0-167-generic
	Compiler: gcc 8.5.0 20210514 (Red Hat 8.5.0-20)

RHEL9
	Kernel: Depends on container host
	Compiler: gcc 11.4.1

Ubuntu 20.04
	Kernel: 5.4.0-167-generic
	Compiler: gcc 9.4.0-1ubuntu1~20.04.1

Ubuntu 22.04
	Kernel: 5.4.0-167-generic
	Compiler: gcc 11.4.0

Ubuntu 24.04
	Kernel: 5.4.0-167-generic
	Compiler: gcc 13.2.0

Windows Server 2019
	Kernel: 10.0.17763
	Compiler: clang 14.0 and gcc 8.1.0 (MinGW)

To view detailed results, visit:
https://lab.dpdk.org/results/dashboard/patchsets/30356/

UNH-IOL DPDK Community Lab

To manage your email subscriptions, visit: 
https://lab.dpdk.org/results/dashboard/preferences/subscriptions/