From mboxrd@z Thu Jan  1 00:00:00 1970
Return-Path: <test-report-bounces@dpdk.org>
Received: from mails.dpdk.org (mails.dpdk.org [217.70.189.124])
	by inbox.dpdk.org (Postfix) with ESMTP id E832B4552E
	for <public@inbox.dpdk.org>; Mon,  1 Jul 2024 13:20:33 +0200 (CEST)
Received: from mails.dpdk.org (localhost [127.0.0.1])
	by mails.dpdk.org (Postfix) with ESMTP id E45F44279D;
	Mon,  1 Jul 2024 13:20:33 +0200 (CEST)
Received: from mail-pj1-f99.google.com (mail-pj1-f99.google.com
 [209.85.216.99]) by mails.dpdk.org (Postfix) with ESMTP id C101242686
 for <test-report@dpdk.org>; Mon,  1 Jul 2024 13:20:32 +0200 (CEST)
Received: by mail-pj1-f99.google.com with SMTP id
 98e67ed59e1d1-2c7b14bb4a5so1880043a91.0
 for <test-report@dpdk.org>; Mon, 01 Jul 2024 04:20:32 -0700 (PDT)
DKIM-Signature: v=1; a=rsa-sha256; c=relaxed/relaxed;
 d=iol.unh.edu; s=unh-iol; t=1719832832; x=1720437632; darn=dpdk.org;
 h=references:in-reply-to:cc:to:from:subject:message-id:date:from:to
 :cc:subject:date:message-id:reply-to;
 bh=QZXaCM/o3fw0Sfn47R6rjwNk88F5ka6FIDM0rbmXZS4=;
 b=PDdI7oJDuWEQbCR9yPx3Py0ETxSvesPQVDSyMvFMRzJsF3a8UauyepDwR2G/1VzUJ6
 6BnKebOLINzXD4ajJmT1gAO6G0GjpjMriXwcOMig5/mM//rmDGDgoLABj2AfwF8pPkH4
 gfMQ7Oas8CEt9EEBK2NgNeRCiNBtbVZuoChVk=
X-Google-DKIM-Signature: v=1; a=rsa-sha256; c=relaxed/relaxed;
 d=1e100.net; s=20230601; t=1719832832; x=1720437632;
 h=references:in-reply-to:cc:to:from:subject:message-id:date
 :x-gm-message-state:from:to:cc:subject:date:message-id:reply-to;
 bh=QZXaCM/o3fw0Sfn47R6rjwNk88F5ka6FIDM0rbmXZS4=;
 b=RL/j+VDvY65Q2AdAIt6UcJWFVpHx/UciJrVdG5GyHh/74/AODmrWyriFfqCFy4HJ7J
 ySHrguRVfPRJxY4cd/cr4isx6+EiUiX1xOZGBfQMYCGA6hENKur6tjlA9gu6X4Ce7KJp
 WkA8zUHfx8obygK9amyMrYX5N/azSX4RXOeZhALLzN7MhhzULx1sPkwosxDKWiZVT+Qt
 Ry+ioPuIvPIPDDz+gd5M2SW3na+tZz1DoxBsh8+WynwmaqAHf+jwyj227M2Xpx6o/9PB
 9gqoC/5rY4dF93y9ZZjJZG4r9BEAM3uccVplQYqi58Z5d0TuD5mfFQduCPNQR1RaLSL1
 8pnA==
X-Gm-Message-State: AOJu0YyTOyqJrRATHE4sQu7XtzxT5j0UuENpnyniqdexBny0GBA4oCvW
 nhyqbPv/xHt6EE6+qfMv+JUqQMQBxCvE/sVFy8vIITB7RPZVUfiSpWp6gEnNDXzv7iPkb6p/Y4b
 ep4owvqfmNBUu6NOtHrMAKmq9eysOfWFutCWnC23HJ/hZrGPObIHsv0FY
X-Google-Smtp-Source: AGHT+IHej/8a101D7mTopA0AvObzmFIWHYHUZCHd2UsZVGYwoC1YGEsOWPYYv5Tb+S6x2z2mZ8ugQG1I6ONl
X-Received: by 2002:a17:90a:8987:b0:2c7:d24b:57f with SMTP id
 98e67ed59e1d1-2c92804d092mr14134630a91.19.1719832831991; 
 Mon, 01 Jul 2024 04:20:31 -0700 (PDT)
Received: from postal.iol.unh.edu (postal.iol.unh.edu.
 [2606:4100:3880:1234::84]) by smtp-relay.gmail.com with ESMTPS id
 98e67ed59e1d1-2c91ce1c37fsm386570a91.4.2024.07.01.04.20.31
 (version=TLS1_2 cipher=ECDHE-ECDSA-AES128-GCM-SHA256 bits=128/128);
 Mon, 01 Jul 2024 04:20:31 -0700 (PDT)
X-Relaying-Domain: iol.unh.edu
Date: Mon, 01 Jul 2024 04:20:31 -0700 (PDT)
Message-ID: <668290ff.170a0220.ea012.d5daSMTPIN_ADDED_MISSING@mx.google.com>
Received: from [172.21.0.8] (unknown [172.18.0.240])
 by postal.iol.unh.edu (Postfix) with ESMTP id 32162605C373;
 Mon,  1 Jul 2024 07:20:31 -0400 (EDT)
Subject: |PENDING| pw141982-141988 [PATCH] [v6,7/7] doc: updated the document
From: dpdklab@iol.unh.edu
To: Test Report <test-report@dpdk.org>
Cc: dpdk-test-reports@iol.unh.edu
In-Reply-To: <20240701091351.2550283-8-soumyadeep.hore@intel.com>
References: <20240701091351.2550283-8-soumyadeep.hore@intel.com>
Content-Type: text/plain
X-BeenThere: test-report@dpdk.org
X-Mailman-Version: 2.1.29
Precedence: list
List-Id: automatic DPDK test reports <test-report.dpdk.org>
List-Unsubscribe: <https://mails.dpdk.org/options/test-report>,
 <mailto:test-report-request@dpdk.org?subject=unsubscribe>
List-Archive: <http://mails.dpdk.org/archives/test-report/>
List-Post: <mailto:test-report@dpdk.org>
List-Help: <mailto:test-report-request@dpdk.org?subject=help>
List-Subscribe: <https://mails.dpdk.org/listinfo/test-report>,
 <mailto:test-report-request@dpdk.org?subject=subscribe>
Errors-To: test-report-bounces@dpdk.org

Test-Label: iol-compile-arm64-testing
Test-Status: PENDING
http://dpdk.org/patch/141988

_Testing pending_

Submitter: Hore, Soumyadeep <soumyadeep.hore@intel.com>
Date: Monday, July 01 2024 09:13:51 
DPDK git baseline: Repo:dpdk
  Branch: master
  CommitID:3f091744e940ca7e93309fc23224cc5208c590eb

141982-141988 --> testing pending

Test environment and result as below:

+------------------------------------+--------------------+
|            Environment             | dpdk_meson_compile |
+====================================+====================+
| RHEL9 (ARM)                        | PASS               |
+------------------------------------+--------------------+
| Ubuntu 20.04 ARM GCC Cross Compile | PEND               |
+------------------------------------+--------------------+
| Ubuntu 20.04 ARM SVE               | PASS               |
+------------------------------------+--------------------+
| Debian 12 with MUSDK               | PASS               |
+------------------------------------+--------------------+
| Fedora 37 (ARM)                    | PEND               |
+------------------------------------+--------------------+
| Fedora 38 (ARM)                    | PEND               |
+------------------------------------+--------------------+
| Fedora 39 (ARM Clang)              | PEND               |
+------------------------------------+--------------------+
| Fedora 40 (ARM)                    | PEND               |
+------------------------------------+--------------------+
| Fedora 38 (ARM Clang)              | PEND               |
+------------------------------------+--------------------+
| Fedora 39 (ARM)                    | PEND               |
+------------------------------------+--------------------+


RHEL9 (ARM)
	Kernel: Depends on container host
	Compiler: gcc 11.4.1

Ubuntu 20.04 ARM GCC Cross Compile
	Kernel: 5.4.0-167-generic
	Compiler: aarch64-linux-gnu-gcc (Ubuntu 9.4.0-1ubuntu1~20.04.2) 9.4.0

Ubuntu 20.04 ARM SVE
	Kernel: 5.4.0-167-generic
	Compiler: gcc (Ubuntu 10.5.0-1ubuntu1~20.04) 10.5.0

Debian 12 with MUSDK
	Kernel: Container Host Kernel
	Compiler: gcc 12.2.0

Fedora 37 (ARM)
	Kernel: Depends on container host
	Compiler: gcc 12.3.1

Fedora 38 (ARM)
	Kernel: Depends on container host
	Compiler: gcc 13.2.1

Fedora 39 (ARM Clang)
	Kernel: Depends on container host
	Compiler: clang 17.0.6

Fedora 40 (ARM)
	Kernel: Depends on container host
	Compiler: gcc 14.1.1

Fedora 38 (ARM Clang)
	Kernel: Depends on container host
	Compiler: clang 16.0.6

Fedora 39 (ARM)
	Kernel: Depends on container host
	Compiler: gcc 13.2.1

To view detailed results, visit:
https://lab.dpdk.org/results/dashboard/patchsets/30356/

UNH-IOL DPDK Community Lab

To manage your email subscriptions, visit: 
https://lab.dpdk.org/results/dashboard/preferences/subscriptions/