From mboxrd@z Thu Jan  1 00:00:00 1970
Return-Path: <test-report-bounces@dpdk.org>
Received: from mails.dpdk.org (mails.dpdk.org [217.70.189.124])
	by inbox.dpdk.org (Postfix) with ESMTP id AC3A24552E
	for <public@inbox.dpdk.org>; Mon,  1 Jul 2024 13:25:13 +0200 (CEST)
Received: from mails.dpdk.org (localhost [127.0.0.1])
	by mails.dpdk.org (Postfix) with ESMTP id A78D34279D;
	Mon,  1 Jul 2024 13:25:13 +0200 (CEST)
Received: from mail-ua1-f100.google.com (mail-ua1-f100.google.com
 [209.85.222.100])
 by mails.dpdk.org (Postfix) with ESMTP id 5AE9C42686
 for <test-report@dpdk.org>; Mon,  1 Jul 2024 13:25:12 +0200 (CEST)
Received: by mail-ua1-f100.google.com with SMTP id
 a1e0cc1a2514c-80fc44234afso420640241.1
 for <test-report@dpdk.org>; Mon, 01 Jul 2024 04:25:12 -0700 (PDT)
DKIM-Signature: v=1; a=rsa-sha256; c=relaxed/relaxed;
 d=iol.unh.edu; s=unh-iol; t=1719833111; x=1720437911; darn=dpdk.org;
 h=references:in-reply-to:cc:to:from:subject:message-id:date:from:to
 :cc:subject:date:message-id:reply-to;
 bh=kNUrEM+NUtXGNKfpaKpe2hdRZeAQqBt5Tkq8WLCBIyg=;
 b=atdL9IX798wlBgfjyVA0Ph4HiS2/afF2R0Ns9IO5fTU8Gwfw2Q0iIZ4SarhDREeheH
 SKWCwfz5tqz6ijVjcf0TQgOOJRfI/mNGZOfv8C0V/pORV3jD7dKFrY7VJVRIhqi5YFXg
 D/7NP4mRYUZXruVLX10EE+b8tiZLsW/7cq+ks=
X-Google-DKIM-Signature: v=1; a=rsa-sha256; c=relaxed/relaxed;
 d=1e100.net; s=20230601; t=1719833111; x=1720437911;
 h=references:in-reply-to:cc:to:from:subject:message-id:date
 :x-gm-message-state:from:to:cc:subject:date:message-id:reply-to;
 bh=kNUrEM+NUtXGNKfpaKpe2hdRZeAQqBt5Tkq8WLCBIyg=;
 b=TnpJheO2taXzglK+OdeHuUhR6YahHQGCHsqrm3GO5yYMyCnacdEBYuhjCisBUVLcbb
 LfFwzqrMAofamlGIBfX/p0azXaYtyjIYIe+E5fYStmfv8X6RTMGB6oY61XL2VKvUNFyf
 YPj5JE5uEd0fg2/O7V86aIdxMZB/jM7Uz/SAaBplKFWQMa48vXpT8JVVo8LDprxwycIu
 LCRSQuMo26Rl7Yb893lohohsi/lYJHS52sjxIFiZ4EWkZSi3lDyLrwoz3pTcqos8mpAC
 /PIvXpVR9XHxQKSABUlpGiOHgHuMvxvc7mVNTXBUl1zldL9rzHkU0u/1cuYlu/eAEyPG
 J5RA==
X-Gm-Message-State: AOJu0Yxae3ntwe8YtOf/9aw2iYMiPIbb+FTFZ7kLJbq0j1S14IPD1xtW
 GFuCHK4qzhMDVdOQIvZYPIMQSJ0rrV5YdNY9aiQ5RhzkPOJ8eiT0NJgM3E/LxXAaHA1lX/U/h2t
 3UpwgruvuDA/jqg0583KAMSq43IYVYaT6SjbG6zmcJajh4rmnt/GR19C5
X-Google-Smtp-Source: AGHT+IH1Y1SXSm3oGFNexIKFBdZfTWYrtyfUhiS3amerYEtgFA5d71IybrvKtF24oXCPD1PT/nixkI/WEBVz
X-Received: by 2002:a05:6102:3118:b0:48f:508b:d3ec with SMTP id
 ada2fe7eead31-48faf0618e9mr2481573137.4.1719833111748; 
 Mon, 01 Jul 2024 04:25:11 -0700 (PDT)
Received: from postal.iol.unh.edu (postal.iol.unh.edu.
 [2606:4100:3880:1234::84]) by smtp-relay.gmail.com with ESMTPS id
 a1e0cc1a2514c-80fdda5e0dfsm47370241.5.2024.07.01.04.25.11
 (version=TLS1_2 cipher=ECDHE-ECDSA-AES128-GCM-SHA256 bits=128/128);
 Mon, 01 Jul 2024 04:25:11 -0700 (PDT)
X-Relaying-Domain: iol.unh.edu
Date: Mon, 01 Jul 2024 04:25:11 -0700 (PDT)
Message-ID: <66829217.050a0220.d0450.387fSMTPIN_ADDED_MISSING@mx.google.com>
Received: from [172.21.0.7] (unknown [172.18.0.240])
 by postal.iol.unh.edu (Postfix) with ESMTP id 550C3605C373;
 Mon,  1 Jul 2024 07:25:11 -0400 (EDT)
Subject: |PENDING| pw141982-141988 [PATCH] [v6,7/7] doc: updated the document
From: dpdklab@iol.unh.edu
To: Test Report <test-report@dpdk.org>
Cc: dpdk-test-reports@iol.unh.edu
In-Reply-To: <20240701091351.2550283-8-soumyadeep.hore@intel.com>
References: <20240701091351.2550283-8-soumyadeep.hore@intel.com>
Content-Type: text/plain
X-BeenThere: test-report@dpdk.org
X-Mailman-Version: 2.1.29
Precedence: list
List-Id: automatic DPDK test reports <test-report.dpdk.org>
List-Unsubscribe: <https://mails.dpdk.org/options/test-report>,
 <mailto:test-report-request@dpdk.org?subject=unsubscribe>
List-Archive: <http://mails.dpdk.org/archives/test-report/>
List-Post: <mailto:test-report@dpdk.org>
List-Help: <mailto:test-report-request@dpdk.org?subject=help>
List-Subscribe: <https://mails.dpdk.org/listinfo/test-report>,
 <mailto:test-report-request@dpdk.org?subject=subscribe>
Errors-To: test-report-bounces@dpdk.org

Test-Label: iol-unit-amd64-testing
Test-Status: PENDING
http://dpdk.org/patch/141988

_Testing pending_

Submitter: Hore, Soumyadeep <soumyadeep.hore@intel.com>
Date: Monday, July 01 2024 09:13:51 
DPDK git baseline: Repo:dpdk
  Branch: master
  CommitID:3f091744e940ca7e93309fc23224cc5208c590eb

141982-141988 --> testing pending

Test environment and result as below:

+---------------------+----------------+
|     Environment     | dpdk_unit_test |
+=====================+================+
| CentOS Stream 8     | PASS           |
+---------------------+----------------+
| CentOS Stream 9     | PASS           |
+---------------------+----------------+
| Debian Bullseye     | PASS           |
+---------------------+----------------+
| Debian 12           | PASS           |
+---------------------+----------------+
| Fedora 37           | PASS           |
+---------------------+----------------+
| Fedora 38           | PASS           |
+---------------------+----------------+
| Fedora 38 (Clang)   | PASS           |
+---------------------+----------------+
| Fedora 39           | PEND           |
+---------------------+----------------+
| Fedora 39 (Clang)   | PEND           |
+---------------------+----------------+
| Fedora 40           | PEND           |
+---------------------+----------------+
| Fedora 40 (Clang)   | PEND           |
+---------------------+----------------+
| openSUSE Leap 15    | PEND           |
+---------------------+----------------+
| RHEL8               | PEND           |
+---------------------+----------------+
| RHEL9               | PEND           |
+---------------------+----------------+
| Ubuntu 20.04        | PEND           |
+---------------------+----------------+
| Ubuntu 22.04        | PEND           |
+---------------------+----------------+
| Ubuntu 24.04        | PEND           |
+---------------------+----------------+
| Windows Server 2019 | PASS           |
+---------------------+----------------+


CentOS Stream 8
	Kernel: 5.4.0-167-generic
	Compiler: gcc 8.5.0 20210514

CentOS Stream 9
	Kernel: 5.4.0-167-generic
	Compiler: gcc 11.4.1 20230605

Debian Bullseye
	Kernel: 5.4.0-167-generic
	Compiler: gcc 10.2.1-6

Debian 12
	Kernel: Container Host Kernel
	Compiler: gcc 12.2.0

Fedora 37
	Kernel: Depends on container host system
	Compiler: gcc 12.3.1

Fedora 38
	Kernel: Depends on container host
	Compiler: gcc 13.2.1

Fedora 38 (Clang)
	Kernel: Depends on container host
	Compiler: clang 16.0.6

Fedora 39
	Kernel: Depends on container host
	Compiler: gcc 13.2.1

Fedora 39 (Clang)
	Kernel: Depends on container host
	Compiler: clang 17.0.6

Fedora 40
	Kernel: Depends on container host
	Compiler: gcc 14.1.1

Fedora 40 (Clang)
	Kernel: Depends on container host
	Compiler: clang 18.1.6

openSUSE Leap 15
	Kernel: 5.4.0-167-generic
	Compiler: gcc 7.5.0

RHEL8
	Kernel: 5.4.0-167-generic
	Compiler: gcc 8.5.0 20210514 (Red Hat 8.5.0-20)

RHEL9
	Kernel: Depends on container host
	Compiler: gcc 11.4.1

Ubuntu 20.04
	Kernel: 5.4.0-167-generic
	Compiler: gcc 9.4.0-1ubuntu1~20.04.1

Ubuntu 22.04
	Kernel: 5.4.0-167-generic
	Compiler: gcc 11.4.0

Ubuntu 24.04
	Kernel: 5.4.0-167-generic
	Compiler: gcc 13.2.0

Windows Server 2019
	Kernel: 10.0.17763
	Compiler: clang 14.0 and gcc 8.1.0 (MinGW)

To view detailed results, visit:
https://lab.dpdk.org/results/dashboard/patchsets/30356/

UNH-IOL DPDK Community Lab

To manage your email subscriptions, visit: 
https://lab.dpdk.org/results/dashboard/preferences/subscriptions/