From mboxrd@z Thu Jan  1 00:00:00 1970
Return-Path: <test-report-bounces@dpdk.org>
Received: from mails.dpdk.org (mails.dpdk.org [217.70.189.124])
	by inbox.dpdk.org (Postfix) with ESMTP id 79A754552E
	for <public@inbox.dpdk.org>; Mon,  1 Jul 2024 13:29:33 +0200 (CEST)
Received: from mails.dpdk.org (localhost [127.0.0.1])
	by mails.dpdk.org (Postfix) with ESMTP id 758B44279D;
	Mon,  1 Jul 2024 13:29:33 +0200 (CEST)
Received: from mail-il1-f227.google.com (mail-il1-f227.google.com
 [209.85.166.227])
 by mails.dpdk.org (Postfix) with ESMTP id DAC7542686
 for <test-report@dpdk.org>; Mon,  1 Jul 2024 13:29:31 +0200 (CEST)
Received: by mail-il1-f227.google.com with SMTP id
 e9e14a558f8ab-37611e6ed4dso11249505ab.2
 for <test-report@dpdk.org>; Mon, 01 Jul 2024 04:29:31 -0700 (PDT)
DKIM-Signature: v=1; a=rsa-sha256; c=relaxed/relaxed;
 d=iol.unh.edu; s=unh-iol; t=1719833371; x=1720438171; darn=dpdk.org;
 h=references:in-reply-to:cc:to:from:subject:message-id:date:from:to
 :cc:subject:date:message-id:reply-to;
 bh=o+1b5SzcRrdxMNQa4BjnYw1phqHB6jcxMbD1pBwrznA=;
 b=EuTNsry8orCWp0UiVbHHrXAeRJ3jqDUrkyswMS+XmZwbSfkIJZR0NNt+7niqjW688E
 Nh1tRXXjr7fia3lipPHetZwwynUfmqSPjOG/DjJwyQoWcUt4B/LZFIiKJOZupZzwbI9f
 4unv6pnO3dknc0hFXVLrVd3oBldNM9uuW56A8=
X-Google-DKIM-Signature: v=1; a=rsa-sha256; c=relaxed/relaxed;
 d=1e100.net; s=20230601; t=1719833371; x=1720438171;
 h=references:in-reply-to:cc:to:from:subject:message-id:date
 :x-gm-message-state:from:to:cc:subject:date:message-id:reply-to;
 bh=o+1b5SzcRrdxMNQa4BjnYw1phqHB6jcxMbD1pBwrznA=;
 b=cxT0NZPcgkazpakBkxSkXGJ0UeJ4qJO/qNOsh8MBZ7JD+axVoPmZqj24v3LvBV38gE
 boyiY1ta+iAJFzdTc4KuYH7kImwkFr3AWpfUlYRW4asTfKH1Vwraw4jIIWjeCEY/scGK
 YbKw3BSn+uKPFZnkamErxykCKCtXDEEt9w/Gwxk2alhn1wSy9iruGu8bFtaYZiqB0Gfb
 CW8J7BZHB9fpensL5T4cSXpy0Awovl1FqkgmCASMlNIhuL9Tv0Q+1u+ZbcbCwJ4lrQbU
 BpEPQFi2n21p+1lvvLgcJpl54a5GMMGBv+Ij6yb3KjyCMXmP53/NT8qtM/FClxvPmpji
 9ByA==
X-Gm-Message-State: AOJu0Yx78LHEGZCy/RqacWENWUBLkEiB/N0i3j/tLBmpjoy0bkpG6vB+
 ZqJug7ekZWYENTK2Th49CX455JBXa9T/sADeDzVtgHQb593ncOnJfM4g14fuSDZ+wqeA46ak58R
 Zo/HZkuGy/bHHNxqLNrUxgqyHgZYi0cYFKMj9BGHRwRq+6j58Wu4cMezE
X-Google-Smtp-Source: AGHT+IFiQovfKvN5gXl14EiOcbtMaDMEZwplF/J9m7nvS8wRB/nRVc6wXRcMQb0K+0ficN/Xm1P1XHZYZirK
X-Received: by 2002:a92:c56c:0:b0:375:8a71:4cbe with SMTP id
 e9e14a558f8ab-37cd27170aemr66626815ab.21.1719833371191; 
 Mon, 01 Jul 2024 04:29:31 -0700 (PDT)
Received: from postal.iol.unh.edu (postal.iol.unh.edu.
 [2606:4100:3880:1234::84]) by smtp-relay.gmail.com with ESMTPS id
 e9e14a558f8ab-37ad22caaaesm3185775ab.13.2024.07.01.04.29.31
 (version=TLS1_2 cipher=ECDHE-ECDSA-AES128-GCM-SHA256 bits=128/128);
 Mon, 01 Jul 2024 04:29:31 -0700 (PDT)
X-Relaying-Domain: iol.unh.edu
Date: Mon, 01 Jul 2024 04:29:31 -0700 (PDT)
Message-ID: <6682931b.050a0220.92649.85bdSMTPIN_ADDED_MISSING@mx.google.com>
Received: from [172.21.0.7] (unknown [172.18.0.240])
 by postal.iol.unh.edu (Postfix) with ESMTP id AFADA605C373;
 Mon,  1 Jul 2024 07:29:30 -0400 (EDT)
Subject: |PENDING| pw141982-141988 [PATCH] [v6,7/7] doc: updated the document
From: dpdklab@iol.unh.edu
To: Test Report <test-report@dpdk.org>
Cc: dpdk-test-reports@iol.unh.edu
In-Reply-To: <20240701091351.2550283-8-soumyadeep.hore@intel.com>
References: <20240701091351.2550283-8-soumyadeep.hore@intel.com>
Content-Type: text/plain
X-BeenThere: test-report@dpdk.org
X-Mailman-Version: 2.1.29
Precedence: list
List-Id: automatic DPDK test reports <test-report.dpdk.org>
List-Unsubscribe: <https://mails.dpdk.org/options/test-report>,
 <mailto:test-report-request@dpdk.org?subject=unsubscribe>
List-Archive: <http://mails.dpdk.org/archives/test-report/>
List-Post: <mailto:test-report@dpdk.org>
List-Help: <mailto:test-report-request@dpdk.org?subject=help>
List-Subscribe: <https://mails.dpdk.org/listinfo/test-report>,
 <mailto:test-report-request@dpdk.org?subject=subscribe>
Errors-To: test-report-bounces@dpdk.org

Test-Label: iol-unit-amd64-testing
Test-Status: PENDING
http://dpdk.org/patch/141988

_Testing pending_

Submitter: Hore, Soumyadeep <soumyadeep.hore@intel.com>
Date: Monday, July 01 2024 09:13:51 
DPDK git baseline: Repo:dpdk
  Branch: master
  CommitID:3f091744e940ca7e93309fc23224cc5208c590eb

141982-141988 --> testing pending

Test environment and result as below:

+---------------------+----------------+
|     Environment     | dpdk_unit_test |
+=====================+================+
| CentOS Stream 8     | PASS           |
+---------------------+----------------+
| CentOS Stream 9     | PASS           |
+---------------------+----------------+
| Debian Bullseye     | PASS           |
+---------------------+----------------+
| Debian 12           | PASS           |
+---------------------+----------------+
| Fedora 37           | PASS           |
+---------------------+----------------+
| Fedora 38           | PASS           |
+---------------------+----------------+
| Fedora 38 (Clang)   | PASS           |
+---------------------+----------------+
| Fedora 39           | PEND           |
+---------------------+----------------+
| Fedora 39 (Clang)   | PEND           |
+---------------------+----------------+
| Fedora 40           | PASS           |
+---------------------+----------------+
| Fedora 40 (Clang)   | PEND           |
+---------------------+----------------+
| openSUSE Leap 15    | PEND           |
+---------------------+----------------+
| RHEL8               | PEND           |
+---------------------+----------------+
| RHEL9               | PEND           |
+---------------------+----------------+
| Ubuntu 20.04        | PEND           |
+---------------------+----------------+
| Ubuntu 22.04        | PEND           |
+---------------------+----------------+
| Ubuntu 24.04        | PEND           |
+---------------------+----------------+
| Windows Server 2019 | PASS           |
+---------------------+----------------+


CentOS Stream 8
	Kernel: 5.4.0-167-generic
	Compiler: gcc 8.5.0 20210514

CentOS Stream 9
	Kernel: 5.4.0-167-generic
	Compiler: gcc 11.4.1 20230605

Debian Bullseye
	Kernel: 5.4.0-167-generic
	Compiler: gcc 10.2.1-6

Debian 12
	Kernel: Container Host Kernel
	Compiler: gcc 12.2.0

Fedora 37
	Kernel: Depends on container host system
	Compiler: gcc 12.3.1

Fedora 38
	Kernel: Depends on container host
	Compiler: gcc 13.2.1

Fedora 38 (Clang)
	Kernel: Depends on container host
	Compiler: clang 16.0.6

Fedora 39
	Kernel: Depends on container host
	Compiler: gcc 13.2.1

Fedora 39 (Clang)
	Kernel: Depends on container host
	Compiler: clang 17.0.6

Fedora 40
	Kernel: Depends on container host
	Compiler: gcc 14.1.1

Fedora 40 (Clang)
	Kernel: Depends on container host
	Compiler: clang 18.1.6

openSUSE Leap 15
	Kernel: 5.4.0-167-generic
	Compiler: gcc 7.5.0

RHEL8
	Kernel: 5.4.0-167-generic
	Compiler: gcc 8.5.0 20210514 (Red Hat 8.5.0-20)

RHEL9
	Kernel: Depends on container host
	Compiler: gcc 11.4.1

Ubuntu 20.04
	Kernel: 5.4.0-167-generic
	Compiler: gcc 9.4.0-1ubuntu1~20.04.1

Ubuntu 22.04
	Kernel: 5.4.0-167-generic
	Compiler: gcc 11.4.0

Ubuntu 24.04
	Kernel: 5.4.0-167-generic
	Compiler: gcc 13.2.0

Windows Server 2019
	Kernel: 10.0.17763
	Compiler: clang 14.0 and gcc 8.1.0 (MinGW)

To view detailed results, visit:
https://lab.dpdk.org/results/dashboard/patchsets/30356/

UNH-IOL DPDK Community Lab

To manage your email subscriptions, visit: 
https://lab.dpdk.org/results/dashboard/preferences/subscriptions/