From mboxrd@z Thu Jan  1 00:00:00 1970
Return-Path: <test-report-bounces@dpdk.org>
Received: from mails.dpdk.org (mails.dpdk.org [217.70.189.124])
	by inbox.dpdk.org (Postfix) with ESMTP id 273394552E
	for <public@inbox.dpdk.org>; Mon,  1 Jul 2024 13:40:01 +0200 (CEST)
Received: from mails.dpdk.org (localhost [127.0.0.1])
	by mails.dpdk.org (Postfix) with ESMTP id 2240F4279D;
	Mon,  1 Jul 2024 13:40:01 +0200 (CEST)
Received: from mail-io1-f99.google.com (mail-io1-f99.google.com
 [209.85.166.99]) by mails.dpdk.org (Postfix) with ESMTP id 5B89942686
 for <test-report@dpdk.org>; Mon,  1 Jul 2024 13:39:59 +0200 (CEST)
Received: by mail-io1-f99.google.com with SMTP id
 ca18e2360f4ac-7f3ca6869d1so115402039f.0
 for <test-report@dpdk.org>; Mon, 01 Jul 2024 04:39:59 -0700 (PDT)
DKIM-Signature: v=1; a=rsa-sha256; c=relaxed/relaxed;
 d=iol.unh.edu; s=unh-iol; t=1719833998; x=1720438798; darn=dpdk.org;
 h=references:in-reply-to:cc:to:from:subject:message-id:date:from:to
 :cc:subject:date:message-id:reply-to;
 bh=GtkwUsQjEjXV3uyr05PNuvOtoVbekxMU6IuByJSYGq0=;
 b=FKOMPmh9wqAeRiLIb6frjV9trH+GOsKiUOWnK5gW4unPLxs5KtJwXyEKkiQ+wgZfVj
 AaIRY5qtcE7h/bjNE3qQNC/GZLsvOP/IV9m/eSuqpm8O+JKuIh649JphJ4bpAZO1tA9W
 1VDMwALtXfByUHz3YNGj6gTEfnh3X+I52+gtA=
X-Google-DKIM-Signature: v=1; a=rsa-sha256; c=relaxed/relaxed;
 d=1e100.net; s=20230601; t=1719833998; x=1720438798;
 h=references:in-reply-to:cc:to:from:subject:message-id:date
 :x-gm-message-state:from:to:cc:subject:date:message-id:reply-to;
 bh=GtkwUsQjEjXV3uyr05PNuvOtoVbekxMU6IuByJSYGq0=;
 b=bPY4l8HkMZziblmMveuQDipHzWJkCfBtRQCyuzGm78QBlOAPsextuqIrZK76VUNIcu
 uE/+njvkSLGYGh8DrSWfcjdFGCnK2qFg0Mjy97qmcYlkE7Kfs5UzxAT0jts5GL+9Z6Gf
 b4jH8OYLWvDe1WIZ5PupS2Mwx+pmWdQoMX09BSNxAO/E8QYoiDFXhUmBiZgxWdQKgaqG
 TMWip1RgIEs5NHBm4BTqd3wHmSS8wOVpumHQcmX6dRdifnUf6JoV/H+qcF2U60yoViPJ
 nu1KdhgnRV0T9Oh5E0S7vFonVT6J0TiGRYp2JVDI59vDW0ap/YTHGMFJlMq0xqlAPoZj
 iUHw==
X-Gm-Message-State: AOJu0YzYQqrypNyEhB6rSInlYi1uQECGt1Y9Jct4kD+5cqHsjd3y7KP8
 uKjpRR1h/4SF0pIE3djEbm2Bh6ihsyI0oATQojHH0JzOP5EtMcW/dryErY48z4cvWWg84yCBAtF
 QpR/+rIEmts16SHjG7A1gbi74JbNqdemld8vpyl+5
X-Google-Smtp-Source: AGHT+IG2aTyLANj3mGgWgHm3QhdE8IULkuuhPVdxfLAU66y0R3ta4OqBXWanpcro61+ziaVtU+aOfYDYEykG
X-Received: by 2002:a6b:ec16:0:b0:7f6:2a08:3108 with SMTP id
 ca18e2360f4ac-7f62ee01e9emr629565539f.2.1719833998703; 
 Mon, 01 Jul 2024 04:39:58 -0700 (PDT)
Received: from postal.iol.unh.edu (postal.iol.unh.edu. [132.177.123.84])
 by smtp-relay.gmail.com with ESMTPS id
 ca18e2360f4ac-7f628414c09sm21127539f.21.2024.07.01.04.39.58
 (version=TLS1_2 cipher=ECDHE-ECDSA-AES128-GCM-SHA256 bits=128/128);
 Mon, 01 Jul 2024 04:39:58 -0700 (PDT)
X-Relaying-Domain: iol.unh.edu
Date: Mon, 01 Jul 2024 04:39:58 -0700 (PDT)
Message-ID: <6682958e.050a0220.68901.02ffSMTPIN_ADDED_MISSING@mx.google.com>
Received: from [172.21.0.6] (unknown [172.18.0.240])
 by postal.iol.unh.edu (Postfix) with ESMTP id 3314E605C373;
 Mon,  1 Jul 2024 07:39:58 -0400 (EDT)
Subject: |SUCCESS| pw141982-141988 [PATCH] [v6,7/7] doc: updated the document
From: dpdklab@iol.unh.edu
To: Test Report <test-report@dpdk.org>
Cc: dpdk-test-reports@iol.unh.edu
In-Reply-To: <20240701091351.2550283-8-soumyadeep.hore@intel.com>
References: <20240701091351.2550283-8-soumyadeep.hore@intel.com>
Content-Type: text/plain
X-BeenThere: test-report@dpdk.org
X-Mailman-Version: 2.1.29
Precedence: list
List-Id: automatic DPDK test reports <test-report.dpdk.org>
List-Unsubscribe: <https://mails.dpdk.org/options/test-report>,
 <mailto:test-report-request@dpdk.org?subject=unsubscribe>
List-Archive: <http://mails.dpdk.org/archives/test-report/>
List-Post: <mailto:test-report@dpdk.org>
List-Help: <mailto:test-report-request@dpdk.org?subject=help>
List-Subscribe: <https://mails.dpdk.org/listinfo/test-report>,
 <mailto:test-report-request@dpdk.org?subject=subscribe>
Errors-To: test-report-bounces@dpdk.org

Test-Label: iol-abi-testing
Test-Status: SUCCESS
http://dpdk.org/patch/141988

_Testing PASS_

Submitter: Hore, Soumyadeep <soumyadeep.hore@intel.com>
Date: Monday, July 01 2024 09:13:51 
DPDK git baseline: Repo:dpdk
  Branch: master
  CommitID:3f091744e940ca7e93309fc23224cc5208c590eb

141982-141988 --> testing pass

Test environment and result as below:

+-------------------+----------+
|    Environment    | abi_test |
+===================+==========+
| CentOS Stream 8   | PASS     |
+-------------------+----------+
| CentOS Stream 9   | PASS     |
+-------------------+----------+
| Debian Bullseye   | PASS     |
+-------------------+----------+
| Fedora 38         | PASS     |
+-------------------+----------+
| Fedora 37         | PASS     |
+-------------------+----------+
| Fedora 38 (Clang) | PASS     |
+-------------------+----------+
| Fedora 39 (Clang) | PASS     |
+-------------------+----------+
| Fedora 40         | PASS     |
+-------------------+----------+
| openSUSE Leap 15  | PASS     |
+-------------------+----------+
| Fedora 40 (Clang) | PASS     |
+-------------------+----------+
| Fedora 39         | PASS     |
+-------------------+----------+
| RHEL9             | PASS     |
+-------------------+----------+
| Ubuntu 24.04      | PASS     |
+-------------------+----------+
| Ubuntu 22.04      | PASS     |
+-------------------+----------+
| RHEL8             | PASS     |
+-------------------+----------+
| Debian 12         | PASS     |
+-------------------+----------+


CentOS Stream 8
	Kernel: 5.4.0-167-generic
	Compiler: gcc 8.5.0 20210514

CentOS Stream 9
	Kernel: 5.4.0-167-generic
	Compiler: gcc 11.4.1 20230605

Debian Bullseye
	Kernel: 5.4.0-167-generic
	Compiler: gcc 10.2.1-6

Fedora 38
	Kernel: Depends on container host
	Compiler: gcc 13.2.1

Fedora 37
	Kernel: Depends on container host system
	Compiler: gcc 12.3.1

Fedora 38 (Clang)
	Kernel: Depends on container host
	Compiler: clang 16.0.6

Fedora 39 (Clang)
	Kernel: Depends on container host
	Compiler: clang 17.0.6

Fedora 40
	Kernel: Depends on container host
	Compiler: gcc 14.1.1

openSUSE Leap 15
	Kernel: 5.4.0-167-generic
	Compiler: gcc 7.5.0

Fedora 40 (Clang)
	Kernel: Depends on container host
	Compiler: clang 18.1.6

Fedora 39
	Kernel: Depends on container host
	Compiler: gcc 13.2.1

RHEL9
	Kernel: Depends on container host
	Compiler: gcc 11.4.1

Ubuntu 24.04
	Kernel: 5.4.0-167-generic
	Compiler: gcc 13.2.0

Ubuntu 22.04
	Kernel: 5.4.0-167-generic
	Compiler: gcc 11.4.0

RHEL8
	Kernel: 5.4.0-167-generic
	Compiler: gcc 8.5.0 20210514 (Red Hat 8.5.0-20)

Debian 12
	Kernel: Container Host Kernel
	Compiler: gcc 12.2.0

To view detailed results, visit:
https://lab.dpdk.org/results/dashboard/patchsets/30356/

UNH-IOL DPDK Community Lab

To manage your email subscriptions, visit: 
https://lab.dpdk.org/results/dashboard/preferences/subscriptions/