From mboxrd@z Thu Jan  1 00:00:00 1970
Return-Path: <test-report-bounces@dpdk.org>
Received: from mails.dpdk.org (mails.dpdk.org [217.70.189.124])
	by inbox.dpdk.org (Postfix) with ESMTP id CF3E045538
	for <public@inbox.dpdk.org>; Mon,  1 Jul 2024 14:54:11 +0200 (CEST)
Received: from mails.dpdk.org (localhost [127.0.0.1])
	by mails.dpdk.org (Postfix) with ESMTP id C4AA2427BD;
	Mon,  1 Jul 2024 14:54:11 +0200 (CEST)
Received: from mail-qk1-f226.google.com (mail-qk1-f226.google.com
 [209.85.222.226])
 by mails.dpdk.org (Postfix) with ESMTP id 5992F427BD
 for <test-report@dpdk.org>; Mon,  1 Jul 2024 14:54:10 +0200 (CEST)
Received: by mail-qk1-f226.google.com with SMTP id
 af79cd13be357-79d55fe9097so220115685a.3
 for <test-report@dpdk.org>; Mon, 01 Jul 2024 05:54:10 -0700 (PDT)
DKIM-Signature: v=1; a=rsa-sha256; c=relaxed/relaxed;
 d=iol.unh.edu; s=unh-iol; t=1719838449; x=1720443249; darn=dpdk.org;
 h=references:in-reply-to:cc:to:from:subject:message-id:date:from:to
 :cc:subject:date:message-id:reply-to;
 bh=90rCZKULkGxIAhaa0pig6q1TQGHT7MsujDZJhJnXtQw=;
 b=S7VRxtajmT63oH2qJTttnfP4169b0uXEhzaxINZCgwJXDxtQGUp6gLc7Vy71Y+gEEu
 AW0irdFwpSFNof/Q/w9r8fWYxmEb1lLC02R+O7fU7AqCzt1qg91+B8FCgYXui4tiuTIi
 vYNcEC9CDb6u2bOqFj2VADTsRMIB1iacNWKvs=
X-Google-DKIM-Signature: v=1; a=rsa-sha256; c=relaxed/relaxed;
 d=1e100.net; s=20230601; t=1719838449; x=1720443249;
 h=references:in-reply-to:cc:to:from:subject:message-id:date
 :x-gm-message-state:from:to:cc:subject:date:message-id:reply-to;
 bh=90rCZKULkGxIAhaa0pig6q1TQGHT7MsujDZJhJnXtQw=;
 b=vSuHEHPLtDIulMwAVMbqq5xObNel5vgmJ+qqEhnP1jgE5fgbcZTTikBhPiV2Q68Tbl
 ApShSLCop0YH57jDc3VnL/SpNCYONhHouxO2GM5ZVcpFLhVaxMI4rsiDpzGoA0hZhXG1
 58WwK7SssLuH4z3saMLrTxNAG5mYOglVYkZ9SxX3Y6by/MBbQ4WfVsT9DOr8wXnnBAYc
 uaJfxLmhONyvW/997j7TxGgUC8WjreXakn0P8h04mhnOgTBzpagM2lJH8tK0AeKH/CG9
 h+1biQz7dTv8x+JsKlVeWXHOoRs0oiSX19WqXi6tCKILUh15BKeoSbXVAJ63sxYTWm3U
 O02Q==
X-Gm-Message-State: AOJu0YwktSGUJIWRmG0PLH8wdpmDuILrNBM1M9MjhTeFNLMudIkVfr1C
 84aRA7cT+6hxV8GepF0TqlWt0HMy1tKqInoh6lwN6PajkYdiyC33Nh1evTDSRnEDbjSlQBhobKq
 j8SmPt8YP7C7WuLM0VLwiX6AewDSeFZN+VgzFQ7O/2C7p/NMpDDeU+XCx
X-Google-Smtp-Source: AGHT+IFp+DAtRxM/EgwOpr7CDprbqQkE0VVRNO3Z5p8qNTYopr4BxfZbIlycOou7xVupP7kEIFVnx/0wQx+N
X-Received: by 2002:ad4:5c48:0:b0:6b5:460d:5479 with SMTP id
 6a1803df08f44-6b5b71491ccmr72459146d6.47.1719838449728; 
 Mon, 01 Jul 2024 05:54:09 -0700 (PDT)
Received: from postal.iol.unh.edu (postal.iol.unh.edu.
 [2606:4100:3880:1234::84]) by smtp-relay.gmail.com with ESMTPS id
 6a1803df08f44-6b59e561ef1sm3261736d6.25.2024.07.01.05.54.09
 (version=TLS1_2 cipher=ECDHE-ECDSA-AES128-GCM-SHA256 bits=128/128);
 Mon, 01 Jul 2024 05:54:09 -0700 (PDT)
X-Relaying-Domain: iol.unh.edu
Date: Mon, 01 Jul 2024 05:54:09 -0700 (PDT)
Message-ID: <6682a6f1.050a0220.b0482.9105SMTPIN_ADDED_MISSING@mx.google.com>
Received: from [172.21.0.8] (unknown [172.18.0.240])
 by postal.iol.unh.edu (Postfix) with ESMTP id 756BB605C380;
 Mon,  1 Jul 2024 08:54:09 -0400 (EDT)
Subject: |SUCCESS| pw141982-141988 [PATCH] [v6,7/7] doc: updated the document
From: dpdklab@iol.unh.edu
To: Test Report <test-report@dpdk.org>
Cc: dpdk-test-reports@iol.unh.edu
In-Reply-To: <20240701091351.2550283-8-soumyadeep.hore@intel.com>
References: <20240701091351.2550283-8-soumyadeep.hore@intel.com>
Content-Type: text/plain
X-BeenThere: test-report@dpdk.org
X-Mailman-Version: 2.1.29
Precedence: list
List-Id: automatic DPDK test reports <test-report.dpdk.org>
List-Unsubscribe: <https://mails.dpdk.org/options/test-report>,
 <mailto:test-report-request@dpdk.org?subject=unsubscribe>
List-Archive: <http://mails.dpdk.org/archives/test-report/>
List-Post: <mailto:test-report@dpdk.org>
List-Help: <mailto:test-report-request@dpdk.org?subject=help>
List-Subscribe: <https://mails.dpdk.org/listinfo/test-report>,
 <mailto:test-report-request@dpdk.org?subject=subscribe>
Errors-To: test-report-bounces@dpdk.org

Test-Label: iol-compile-arm64-testing
Test-Status: SUCCESS
http://dpdk.org/patch/141988

_Testing PASS_

Submitter: Hore, Soumyadeep <soumyadeep.hore@intel.com>
Date: Monday, July 01 2024 09:13:51 
DPDK git baseline: Repo:dpdk
  Branch: master
  CommitID:3f091744e940ca7e93309fc23224cc5208c590eb

141982-141988 --> testing pass

Test environment and result as below:

+----------------------------------------+--------------------+
|              Environment               | dpdk_meson_compile |
+========================================+====================+
| RHEL9 (ARM)                            | PASS               |
+----------------------------------------+--------------------+
| Ubuntu 20.04 ARM GCC Cross Compile     | PASS               |
+----------------------------------------+--------------------+
| Ubuntu 20.04 ARM SVE                   | PASS               |
+----------------------------------------+--------------------+
| Debian 12 with MUSDK                   | PASS               |
+----------------------------------------+--------------------+
| Fedora 37 (ARM)                        | PASS               |
+----------------------------------------+--------------------+
| Fedora 38 (ARM)                        | PASS               |
+----------------------------------------+--------------------+
| Fedora 39 (ARM Clang)                  | PASS               |
+----------------------------------------+--------------------+
| Fedora 40 (ARM)                        | PASS               |
+----------------------------------------+--------------------+
| Fedora 38 (ARM Clang)                  | PASS               |
+----------------------------------------+--------------------+
| Fedora 39 (ARM)                        | PASS               |
+----------------------------------------+--------------------+
| Ubuntu 20.04 (ARM)                     | PASS               |
+----------------------------------------+--------------------+
| Fedora 40 (ARM Clang)                  | PASS               |
+----------------------------------------+--------------------+
| Debian 11 (Buster) (ARM)               | PASS               |
+----------------------------------------+--------------------+
| CentOS Stream 9 (ARM)                  | PASS               |
+----------------------------------------+--------------------+
| Ubuntu 24.04 (ARM)                     | PASS               |
+----------------------------------------+--------------------+
| Ubuntu 22.04 (ARM)                     | PASS               |
+----------------------------------------+--------------------+
| Ubuntu 20.04 aarch32 GCC Cross Compile | PASS               |
+----------------------------------------+--------------------+
| Ubuntu 20.04 ARM Clang Cross Compile   | PASS               |
+----------------------------------------+--------------------+
| Debian 12 (arm)                        | PASS               |
+----------------------------------------+--------------------+


RHEL9 (ARM)
	Kernel: Depends on container host
	Compiler: gcc 11.4.1

Ubuntu 20.04 ARM GCC Cross Compile
	Kernel: 5.4.0-167-generic
	Compiler: aarch64-linux-gnu-gcc (Ubuntu 9.4.0-1ubuntu1~20.04.2) 9.4.0

Ubuntu 20.04 ARM SVE
	Kernel: 5.4.0-167-generic
	Compiler: gcc (Ubuntu 10.5.0-1ubuntu1~20.04) 10.5.0

Debian 12 with MUSDK
	Kernel: Container Host Kernel
	Compiler: gcc 12.2.0

Fedora 37 (ARM)
	Kernel: Depends on container host
	Compiler: gcc 12.3.1

Fedora 38 (ARM)
	Kernel: Depends on container host
	Compiler: gcc 13.2.1

Fedora 39 (ARM Clang)
	Kernel: Depends on container host
	Compiler: clang 17.0.6

Fedora 40 (ARM)
	Kernel: Depends on container host
	Compiler: gcc 14.1.1

Fedora 38 (ARM Clang)
	Kernel: Depends on container host
	Compiler: clang 16.0.6

Fedora 39 (ARM)
	Kernel: Depends on container host
	Compiler: gcc 13.2.1

Ubuntu 20.04 (ARM)
	Kernel: Container Host Kernel
	Compiler: gcc 9.4.0

Fedora 40 (ARM Clang)
	Kernel: Depends on container host
	Compiler: clang 18.1.6

Debian 11 (Buster) (ARM)
	Kernel: Container Host Kernel
	Compiler: gcc 10.2.1

CentOS Stream 9 (ARM)
	Kernel: Container Host Kernel
	Compiler: gcc 11.4.1

Ubuntu 24.04 (ARM)
	Kernel: 5.4.0-167-generic
	Compiler: gcc 13.2.0

Ubuntu 22.04 (ARM)
	Kernel: Container Host Kernel
	Compiler: gcc 11.4.0

Ubuntu 20.04 aarch32 GCC Cross Compile
	Kernel: 5.4.0-167-generic
	Compiler: gcc 9.4.0

Ubuntu 20.04 ARM Clang Cross Compile
	Kernel: 5.4.0-72-generic
	Compiler: clang 10.0.0-4ubuntu1

Debian 12 (arm)
	Kernel: Container Host Kernel
	Compiler: gcc 12.2.0

To view detailed results, visit:
https://lab.dpdk.org/results/dashboard/patchsets/30356/

UNH-IOL DPDK Community Lab

To manage your email subscriptions, visit: 
https://lab.dpdk.org/results/dashboard/preferences/subscriptions/