From mboxrd@z Thu Jan  1 00:00:00 1970
Return-Path: <test-report-bounces@dpdk.org>
Received: from mails.dpdk.org (mails.dpdk.org [217.70.189.124])
	by inbox.dpdk.org (Postfix) with ESMTP id 688B14553F
	for <public@inbox.dpdk.org>; Mon,  1 Jul 2024 23:24:19 +0200 (CEST)
Received: from mails.dpdk.org (localhost [127.0.0.1])
	by mails.dpdk.org (Postfix) with ESMTP id 647764026B;
	Mon,  1 Jul 2024 23:24:19 +0200 (CEST)
Received: from mail-qv1-f99.google.com (mail-qv1-f99.google.com
 [209.85.219.99]) by mails.dpdk.org (Postfix) with ESMTP id 7BD224021E
 for <test-report@dpdk.org>; Mon,  1 Jul 2024 23:24:18 +0200 (CEST)
Received: by mail-qv1-f99.google.com with SMTP id
 6a1803df08f44-6b5834b3a95so17062766d6.2
 for <test-report@dpdk.org>; Mon, 01 Jul 2024 14:24:18 -0700 (PDT)
DKIM-Signature: v=1; a=rsa-sha256; c=relaxed/relaxed;
 d=iol.unh.edu; s=unh-iol; t=1719869058; x=1720473858; darn=dpdk.org;
 h=references:in-reply-to:cc:to:from:subject:message-id:date:from:to
 :cc:subject:date:message-id:reply-to;
 bh=kdgnMUMBrIMoQPoWDzQdZajprEUzTqsPcr0McbNBNu0=;
 b=bixWTgb1qkjo9lqaGHuHXrJ+ptz52oFJABIRWxd0Q7d6UcFP55w15HfIs54EsKbGgF
 XZRBOocRip/AArEKs/7RlocHyS/Yh0EXCEqNzLy3aA1IZEc5uUeudsoHpusVqMpeWGQV
 kpBajwhxDgwJ/Fz1Dgcc5p6s1WcVGmFqszCqo=
X-Google-DKIM-Signature: v=1; a=rsa-sha256; c=relaxed/relaxed;
 d=1e100.net; s=20230601; t=1719869058; x=1720473858;
 h=references:in-reply-to:cc:to:from:subject:message-id:date
 :x-gm-message-state:from:to:cc:subject:date:message-id:reply-to;
 bh=kdgnMUMBrIMoQPoWDzQdZajprEUzTqsPcr0McbNBNu0=;
 b=G/RqHeOUc5sX3Fz5rQvdxlFcYQWy3vQc89XDN/GKhNSUPSXQwTI9dDAbXtG7Bmz/Vf
 ZYIN/uPrqRp9/hbsjNIuzd/kTizWqdhoAZr+OOmtq53+S7c4X/EqfJclpCRXn0fBJCZo
 poebTP+h+fUZseoKomB90eI2fjaIStwOXbZk8IiRu+A2pKFn7Yv88T+u5gJVskzw/TlQ
 DwXZEWOVDjRdOzfAti3Ya4rmUab3mo/RV+pKCBkPRXtDAxhHPQyLvjXCsv31e3TgNr9E
 C9tx57nGhfnvVo8uDz5nMkEppu4/sCW420nSLTOczCIIVfbz8jp62O1vJHo0H37q3Unk
 U54g==
X-Gm-Message-State: AOJu0YzJu+eoQOoYMkth06PzDaY4jd/9Od+142MwhQPt1jk0x5OREdZG
 +xQfIlh+eXtYwOOD3YtzAHXlUuMtInNpaNWDPaargCddIZzU4t9hdT5UojmGLFnDk3COvZ86SMn
 QeIooW+brA2ztV+IRpG0zafaqZDoEztILLNEKJbAm
X-Google-Smtp-Source: AGHT+IF124Q1PNMsuy8cfzhFtF9pdxlwvQRIEhzSUvB2M115m18GQz6G0L9aEUbXplh49L10N4qoYJwTSDJ/
X-Received: by 2002:a05:6214:f62:b0:6b5:4c67:e622 with SMTP id
 6a1803df08f44-6b5b70bd986mr101723906d6.29.1719869057860; 
 Mon, 01 Jul 2024 14:24:17 -0700 (PDT)
Received: from postal.iol.unh.edu (postal.iol.unh.edu. [132.177.123.84])
 by smtp-relay.gmail.com with ESMTPS id
 6a1803df08f44-6b59e367713sm4064236d6.16.2024.07.01.14.24.17
 (version=TLS1_2 cipher=ECDHE-ECDSA-AES128-GCM-SHA256 bits=128/128);
 Mon, 01 Jul 2024 14:24:17 -0700 (PDT)
X-Relaying-Domain: iol.unh.edu
Date: Mon, 01 Jul 2024 14:24:17 -0700 (PDT)
Message-ID: <66831e81.d40a0220.9fec4.2c0bSMTPIN_ADDED_MISSING@mx.google.com>
Received: from [172.21.0.7] (unknown [172.18.0.240])
 by postal.iol.unh.edu (Postfix) with ESMTP id 80F4A605C380;
 Mon,  1 Jul 2024 17:24:17 -0400 (EDT)
Subject: |SUCCESS| pw141992-141993 [PATCH] [2/2] crypto/ionic: fix sign exten
From: dpdklab@iol.unh.edu
To: Test Report <test-report@dpdk.org>
Cc: dpdk-test-reports@iol.unh.edu
In-Reply-To: <20240701152250.46978-2-andrew.boyer@amd.com>
References: <20240701152250.46978-2-andrew.boyer@amd.com>
Content-Type: text/plain
X-BeenThere: test-report@dpdk.org
X-Mailman-Version: 2.1.29
Precedence: list
List-Id: automatic DPDK test reports <test-report.dpdk.org>
List-Unsubscribe: <https://mails.dpdk.org/options/test-report>,
 <mailto:test-report-request@dpdk.org?subject=unsubscribe>
List-Archive: <http://mails.dpdk.org/archives/test-report/>
List-Post: <mailto:test-report@dpdk.org>
List-Help: <mailto:test-report-request@dpdk.org?subject=help>
List-Subscribe: <https://mails.dpdk.org/listinfo/test-report>,
 <mailto:test-report-request@dpdk.org?subject=subscribe>
Errors-To: test-report-bounces@dpdk.org

Test-Label: iol-compile-amd64-testing
Test-Status: SUCCESS
http://dpdk.org/patch/141993

_Testing PASS_

Submitter: Andrew Boyer <Andrew.Boyer@amd.com>
Date: Monday, July 01 2024 15:22:50 
DPDK git baseline: Repo:dpdk
  Branch: master
  CommitID:3b80379078a1f7c09b8d0ece24442c8ff2e2c67c

141992-141993 --> testing pass

Test environment and result as below:

+---------------------+--------------------+----------------------+-------------------+
|     Environment     | dpdk_meson_compile | dpdk_mingw64_compile | dpdk_msvc_compile |
+=====================+====================+======================+===================+
| Windows Server 2022 | PASS               | PASS                 | PASS              |
+---------------------+--------------------+----------------------+-------------------+
| FreeBSD 13.3        | PASS               | SKIPPED              | SKIPPED           |
+---------------------+--------------------+----------------------+-------------------+
| FreeBSD 14.1        | PASS               | SKIPPED              | SKIPPED           |
+---------------------+--------------------+----------------------+-------------------+
| Windows Server 2019 | PASS               | SKIPPED              | SKIPPED           |
+---------------------+--------------------+----------------------+-------------------+


Windows Server 2022
	Kernel: 10.0.20348.2031
	Compiler: clang 15.0.7, gcc 8.1.0 (MinGW), and MSVC VS 17.9

FreeBSD 13.3
	Kernel: 13.3-RELEASE-p1
	Compiler: clang 17.0.6

FreeBSD 14.1
	Kernel: 14.1
	Compiler: clang 18.1.5

Windows Server 2019
	Kernel: 10.0.17763
	Compiler: clang 14.0 and gcc 8.1.0 (MinGW)

To view detailed results, visit:
https://lab.dpdk.org/results/dashboard/patchsets/30360/

UNH-IOL DPDK Community Lab

To manage your email subscriptions, visit: 
https://lab.dpdk.org/results/dashboard/preferences/subscriptions/