From mboxrd@z Thu Jan  1 00:00:00 1970
Return-Path: <test-report-bounces@dpdk.org>
Received: from mails.dpdk.org (mails.dpdk.org [217.70.189.124])
	by inbox.dpdk.org (Postfix) with ESMTP id ACAB245540
	for <public@inbox.dpdk.org>; Tue,  2 Jul 2024 00:13:39 +0200 (CEST)
Received: from mails.dpdk.org (localhost [127.0.0.1])
	by mails.dpdk.org (Postfix) with ESMTP id A72F14029F;
	Tue,  2 Jul 2024 00:13:39 +0200 (CEST)
Received: from mail-pl1-f225.google.com (mail-pl1-f225.google.com
 [209.85.214.225])
 by mails.dpdk.org (Postfix) with ESMTP id 381E740289
 for <test-report@dpdk.org>; Tue,  2 Jul 2024 00:13:38 +0200 (CEST)
Received: by mail-pl1-f225.google.com with SMTP id
 d9443c01a7336-1f6fabe9da3so20712875ad.0
 for <test-report@dpdk.org>; Mon, 01 Jul 2024 15:13:38 -0700 (PDT)
DKIM-Signature: v=1; a=rsa-sha256; c=relaxed/relaxed;
 d=iol.unh.edu; s=unh-iol; t=1719872017; x=1720476817; darn=dpdk.org;
 h=references:in-reply-to:cc:to:from:subject:message-id:date:from:to
 :cc:subject:date:message-id:reply-to;
 bh=wTDzMOSIv9G9XKKspSp+hFS4YKhVmMpZ/RUq/KJJcVY=;
 b=b5x04H4VFvOOnGQl9YnLCcj2vhW/wxH51FiVAQa3WyacFhrY8Ee7EqisgN6SQcmnXJ
 E7986omB/oTYg6E1Pb5suJl+M2OsYXjrFfxxgxCaR0YW0tMFFeZ+LHA55GVXLHW5pD/a
 csw4zZaLZ66dp8ZusBl7PW5MXo31yu4RXsxEc=
X-Google-DKIM-Signature: v=1; a=rsa-sha256; c=relaxed/relaxed;
 d=1e100.net; s=20230601; t=1719872017; x=1720476817;
 h=references:in-reply-to:cc:to:from:subject:message-id:date
 :x-gm-message-state:from:to:cc:subject:date:message-id:reply-to;
 bh=wTDzMOSIv9G9XKKspSp+hFS4YKhVmMpZ/RUq/KJJcVY=;
 b=OKCCahpLAB/brjbCRRH49+PlfB4LF7A5XDPaU68tGSlf7e+gCQN6hYBL8pwerxiC6B
 dwL1bACLTNPD4eHxmnRqgO9wQJ/+pssEHr55ItcZ3TyyxVmYlLwyOR44fum/aq18ICZD
 y/n5HhCLTGnh8NFS/qtujImtybi3ckb46mnvrgnhTlZRF2Ca89vS7HdiOFG2CkewoJZ2
 zS3rfuYWnss4klf3KS09Uuz2yp7LtOrK+kC6sjVIYAgdPaoetjz+7pbBdlnmiAmUffId
 TtT8P3y9XFX1ojkLItk7VJpuMRj2wqzpl27WkFadnnT/qxlsw5dDPq5iL7uNrrISuJmj
 MUtQ==
X-Gm-Message-State: AOJu0Yw5lNBM9ub+4PFHSqymt6kM4C3XaWFNOxUSppSV/gsh6k6kRmau
 cX/+QPYoSOKk9qibIBQqPhGVFK1A3PQz7hZ1BxLemqpLjACmzZy7fkzaX1ttrzQ5ImSRHwngcrn
 qLbIuWWK3ZIPqn74F9AjwVtYmACVU0pipzb9Hz1so/TWqi99DC4VOgynj
X-Google-Smtp-Source: AGHT+IEpzS0OHcRwgTZdY9Jtr1KEZcyTJPQx6Xb9thJ3sAvEOKGfGnzAlKH5z3GCwYzVKfye3y0WfGzIkeU1
X-Received: by 2002:a17:902:e546:b0:1f6:fcd9:5b86 with SMTP id
 d9443c01a7336-1fadbc73dcemr37504935ad.12.1719872017272; 
 Mon, 01 Jul 2024 15:13:37 -0700 (PDT)
Received: from postal.iol.unh.edu (postal.iol.unh.edu.
 [2606:4100:3880:1234::84]) by smtp-relay.gmail.com with ESMTPS id
 d9443c01a7336-1fac158bc44sm2778505ad.128.2024.07.01.15.13.37
 (version=TLS1_2 cipher=ECDHE-ECDSA-AES128-GCM-SHA256 bits=128/128);
 Mon, 01 Jul 2024 15:13:37 -0700 (PDT)
X-Relaying-Domain: iol.unh.edu
Date: Mon, 01 Jul 2024 15:13:37 -0700 (PDT)
Message-ID: <66832a11.170a0220.4698b.485dSMTPIN_ADDED_MISSING@mx.google.com>
Received: from [172.21.0.7] (unknown [172.18.0.240])
 by postal.iol.unh.edu (Postfix) with ESMTP id 58C76605C380;
 Mon,  1 Jul 2024 18:13:36 -0400 (EDT)
Subject: |PENDING| pw141992-141993 [PATCH] [2/2] crypto/ionic: fix sign exten
From: dpdklab@iol.unh.edu
To: Test Report <test-report@dpdk.org>
Cc: dpdk-test-reports@iol.unh.edu
In-Reply-To: <20240701152250.46978-2-andrew.boyer@amd.com>
References: <20240701152250.46978-2-andrew.boyer@amd.com>
Content-Type: text/plain
X-BeenThere: test-report@dpdk.org
X-Mailman-Version: 2.1.29
Precedence: list
List-Id: automatic DPDK test reports <test-report.dpdk.org>
List-Unsubscribe: <https://mails.dpdk.org/options/test-report>,
 <mailto:test-report-request@dpdk.org?subject=unsubscribe>
List-Archive: <http://mails.dpdk.org/archives/test-report/>
List-Post: <mailto:test-report@dpdk.org>
List-Help: <mailto:test-report-request@dpdk.org?subject=help>
List-Subscribe: <https://mails.dpdk.org/listinfo/test-report>,
 <mailto:test-report-request@dpdk.org?subject=subscribe>
Errors-To: test-report-bounces@dpdk.org

Test-Label: iol-unit-amd64-testing
Test-Status: PENDING
http://dpdk.org/patch/141993

_Testing pending_

Submitter: Andrew Boyer <Andrew.Boyer@amd.com>
Date: Monday, July 01 2024 15:22:50 
DPDK git baseline: Repo:dpdk
  Branch: master
  CommitID:3b80379078a1f7c09b8d0ece24442c8ff2e2c67c

141992-141993 --> testing pending

Test environment and result as below:

+---------------------+----------------+
|     Environment     | dpdk_unit_test |
+=====================+================+
| CentOS Stream 8     | PASS           |
+---------------------+----------------+
| CentOS Stream 9     | PASS           |
+---------------------+----------------+
| Debian Bullseye     | PASS           |
+---------------------+----------------+
| Fedora 37           | PASS           |
+---------------------+----------------+
| Debian 12           | PASS           |
+---------------------+----------------+
| Fedora 38           | PASS           |
+---------------------+----------------+
| Fedora 39           | PASS           |
+---------------------+----------------+
| Fedora 39 (Clang)   | PASS           |
+---------------------+----------------+
| Fedora 38 (Clang)   | PASS           |
+---------------------+----------------+
| Fedora 40           | PASS           |
+---------------------+----------------+
| Fedora 40 (Clang)   | PASS           |
+---------------------+----------------+
| openSUSE Leap 15    | PASS           |
+---------------------+----------------+
| RHEL8               | PASS           |
+---------------------+----------------+
| RHEL9               | PASS           |
+---------------------+----------------+
| Ubuntu 22.04        | PEND           |
+---------------------+----------------+
| Ubuntu 20.04        | PEND           |
+---------------------+----------------+
| Ubuntu 24.04        | PEND           |
+---------------------+----------------+
| Windows Server 2019 | PASS           |
+---------------------+----------------+
| Windows Server 2022 | PASS           |
+---------------------+----------------+


CentOS Stream 8
	Kernel: 5.4.0-167-generic
	Compiler: gcc 8.5.0 20210514

CentOS Stream 9
	Kernel: 5.4.0-167-generic
	Compiler: gcc 11.4.1 20230605

Debian Bullseye
	Kernel: 5.4.0-167-generic
	Compiler: gcc 10.2.1-6

Fedora 37
	Kernel: Depends on container host system
	Compiler: gcc 12.3.1

Debian 12
	Kernel: Container Host Kernel
	Compiler: gcc 12.2.0

Fedora 38
	Kernel: Depends on container host
	Compiler: gcc 13.2.1

Fedora 39
	Kernel: Depends on container host
	Compiler: gcc 13.2.1

Fedora 39 (Clang)
	Kernel: Depends on container host
	Compiler: clang 17.0.6

Fedora 38 (Clang)
	Kernel: Depends on container host
	Compiler: clang 16.0.6

Fedora 40
	Kernel: Depends on container host
	Compiler: gcc 14.1.1

Fedora 40 (Clang)
	Kernel: Depends on container host
	Compiler: clang 18.1.6

openSUSE Leap 15
	Kernel: 5.4.0-167-generic
	Compiler: gcc 7.5.0

RHEL8
	Kernel: 5.4.0-167-generic
	Compiler: gcc 8.5.0 20210514 (Red Hat 8.5.0-20)

RHEL9
	Kernel: Depends on container host
	Compiler: gcc 11.4.1

Ubuntu 22.04
	Kernel: 5.4.0-167-generic
	Compiler: gcc 11.4.0

Ubuntu 20.04
	Kernel: 5.4.0-167-generic
	Compiler: gcc 9.4.0-1ubuntu1~20.04.1

Ubuntu 24.04
	Kernel: 5.4.0-167-generic
	Compiler: gcc 13.2.0

Windows Server 2019
	Kernel: 10.0.17763
	Compiler: clang 14.0 and gcc 8.1.0 (MinGW)

Windows Server 2022
	Kernel: 10.0.20348.2031
	Compiler: clang 15.0.7, gcc 8.1.0 (MinGW), and MSVC VS 17.9

To view detailed results, visit:
https://lab.dpdk.org/results/dashboard/patchsets/30360/

UNH-IOL DPDK Community Lab

To manage your email subscriptions, visit: 
https://lab.dpdk.org/results/dashboard/preferences/subscriptions/