From mboxrd@z Thu Jan  1 00:00:00 1970
Return-Path: <test-report-bounces@dpdk.org>
Received: from mails.dpdk.org (mails.dpdk.org [217.70.189.124])
	by inbox.dpdk.org (Postfix) with ESMTP id 6960345540
	for <public@inbox.dpdk.org>; Tue,  2 Jul 2024 00:28:12 +0200 (CEST)
Received: from mails.dpdk.org (localhost [127.0.0.1])
	by mails.dpdk.org (Postfix) with ESMTP id 643314029F;
	Tue,  2 Jul 2024 00:28:12 +0200 (CEST)
Received: from mail-vk1-f228.google.com (mail-vk1-f228.google.com
 [209.85.221.228])
 by mails.dpdk.org (Postfix) with ESMTP id 79A2C40289
 for <test-report@dpdk.org>; Tue,  2 Jul 2024 00:28:11 +0200 (CEST)
Received: by mail-vk1-f228.google.com with SMTP id
 71dfb90a1353d-4ef7fc70bdeso1148551e0c.2
 for <test-report@dpdk.org>; Mon, 01 Jul 2024 15:28:11 -0700 (PDT)
DKIM-Signature: v=1; a=rsa-sha256; c=relaxed/relaxed;
 d=iol.unh.edu; s=unh-iol; t=1719872891; x=1720477691; darn=dpdk.org;
 h=references:in-reply-to:cc:to:from:subject:message-id:date:from:to
 :cc:subject:date:message-id:reply-to;
 bh=u/sv9+eshr3bgrclC3XkMybDwuat6qLaq5FriH70KSk=;
 b=RX/VEVvhIBqE0Utv5Kjtk/dBwNixRzAjL+ciIoGTcL0y5dtu+ofAsKMNTUMHj5LooT
 yP7/sho8hEverdG/Ov5bVIq9tb7k1MsQ1OfioTW41DprCgqKNM1DyKLt0XSs19AkNi7x
 zMw+7wdSUanXiRUYbPbHdMqqUkCHQsI93W1w4=
X-Google-DKIM-Signature: v=1; a=rsa-sha256; c=relaxed/relaxed;
 d=1e100.net; s=20230601; t=1719872891; x=1720477691;
 h=references:in-reply-to:cc:to:from:subject:message-id:date
 :x-gm-message-state:from:to:cc:subject:date:message-id:reply-to;
 bh=u/sv9+eshr3bgrclC3XkMybDwuat6qLaq5FriH70KSk=;
 b=Ka9+mO2Ns8LXYmWH9S/rHpIABGAktOM3z3Y0/3S13elnKvR6pANt6OuIBNLSUSJK4u
 uaa6TKxLZ9KeGeNh3VXnOhbSmJtBP+bli/539nroVJhatfXGKIhJ60PdQzOcm4XToleX
 fnMZzfGDyOGiSPQje4A3ylIj3PLS8HZxGTKMeXaBz9XKVjPlmA9gZdVDegob/wy3Ws7s
 6eNx3jbdOf8GPVv6S4LVNfU0SWEXUyhvUb8meao9wpEpMa662Gd3TBzl9YOLoNbihVK2
 cluYyF+LW2ZC/EJj666FCcQyuRw9sOv6DsWoS/Q/dKSF+ty1pjtmzS5mqqPZPLXZGT1V
 vRSQ==
X-Gm-Message-State: AOJu0Yw22/bk2EmDzj93mVQPCn5hknOFtQt9WQBi4Rwa9SxmQPw/Gm4H
 SpWBON56t/KR11VQvTKIehKXaGmiIz8T6sxpspw79ITmiIN0eM9ur2aj2nZWMt7FgxAAB0O4HVm
 F5beHwyUSjHrVP6gTCopecmynZMxV5YqvXR4W6k+relZZkTrb8XGBj+qh
X-Google-Smtp-Source: AGHT+IE3ZVVUXYx36V8O3R0M8kV2KREJxLtHfPM7Pifi+AH4wb3JdrrKspAGERwrisBbRy8z1UlP8CtAKQRa
X-Received: by 2002:a05:6122:478b:b0:4ed:145:348f with SMTP id
 71dfb90a1353d-4f2a56e6f1emr8043054e0c.12.1719872890538; 
 Mon, 01 Jul 2024 15:28:10 -0700 (PDT)
Received: from postal.iol.unh.edu (postal.iol.unh.edu.
 [2606:4100:3880:1234::84]) by smtp-relay.gmail.com with ESMTPS id
 71dfb90a1353d-4f292265730sm367735e0c.12.2024.07.01.15.28.10
 (version=TLS1_2 cipher=ECDHE-ECDSA-AES128-GCM-SHA256 bits=128/128);
 Mon, 01 Jul 2024 15:28:10 -0700 (PDT)
X-Relaying-Domain: iol.unh.edu
Date: Mon, 01 Jul 2024 15:28:10 -0700 (PDT)
Message-ID: <66832d7a.050a0220.5988f.d119SMTPIN_ADDED_MISSING@mx.google.com>
Received: from [172.21.0.8] (unknown [172.18.0.240])
 by postal.iol.unh.edu (Postfix) with ESMTP id 354BC605C380;
 Mon,  1 Jul 2024 18:28:10 -0400 (EDT)
Subject: |PENDING| pw141992-141993 [PATCH] [2/2] crypto/ionic: fix sign exten
From: dpdklab@iol.unh.edu
To: Test Report <test-report@dpdk.org>
Cc: dpdk-test-reports@iol.unh.edu
In-Reply-To: <20240701152250.46978-2-andrew.boyer@amd.com>
References: <20240701152250.46978-2-andrew.boyer@amd.com>
Content-Type: text/plain
X-BeenThere: test-report@dpdk.org
X-Mailman-Version: 2.1.29
Precedence: list
List-Id: automatic DPDK test reports <test-report.dpdk.org>
List-Unsubscribe: <https://mails.dpdk.org/options/test-report>,
 <mailto:test-report-request@dpdk.org?subject=unsubscribe>
List-Archive: <http://mails.dpdk.org/archives/test-report/>
List-Post: <mailto:test-report@dpdk.org>
List-Help: <mailto:test-report-request@dpdk.org?subject=help>
List-Subscribe: <https://mails.dpdk.org/listinfo/test-report>,
 <mailto:test-report-request@dpdk.org?subject=subscribe>
Errors-To: test-report-bounces@dpdk.org

Test-Label: iol-abi-testing
Test-Status: PENDING
http://dpdk.org/patch/141993

_Testing pending_

Submitter: Andrew Boyer <Andrew.Boyer@amd.com>
Date: Monday, July 01 2024 15:22:50 
DPDK git baseline: Repo:dpdk
  Branch: master
  CommitID:3b80379078a1f7c09b8d0ece24442c8ff2e2c67c

141992-141993 --> testing pending

Test environment and result as below:

+-------------------+----------+
|    Environment    | abi_test |
+===================+==========+
| CentOS Stream 8   | PASS     |
+-------------------+----------+
| CentOS Stream 9   | PASS     |
+-------------------+----------+
| Debian Bullseye   | PASS     |
+-------------------+----------+
| Debian 12         | PEND     |
+-------------------+----------+
| Fedora 37         | PASS     |
+-------------------+----------+
| Fedora 38         | PASS     |
+-------------------+----------+
| Fedora 38 (Clang) | PASS     |
+-------------------+----------+
| RHEL9             | PASS     |
+-------------------+----------+
| Fedora 39         | PASS     |
+-------------------+----------+
| Fedora 40 (Clang) | PEND     |
+-------------------+----------+
| Fedora 40         | PEND     |
+-------------------+----------+
| RHEL8             | PEND     |
+-------------------+----------+
| Fedora 39 (Clang) | PEND     |
+-------------------+----------+
| openSUSE Leap 15  | PEND     |
+-------------------+----------+
| Ubuntu 22.04      | PASS     |
+-------------------+----------+
| Ubuntu 24.04      | PEND     |
+-------------------+----------+


CentOS Stream 8
	Kernel: 5.4.0-167-generic
	Compiler: gcc 8.5.0 20210514

CentOS Stream 9
	Kernel: 5.4.0-167-generic
	Compiler: gcc 11.4.1 20230605

Debian Bullseye
	Kernel: 5.4.0-167-generic
	Compiler: gcc 10.2.1-6

Debian 12
	Kernel: Container Host Kernel
	Compiler: gcc 12.2.0

Fedora 37
	Kernel: Depends on container host system
	Compiler: gcc 12.3.1

Fedora 38
	Kernel: Depends on container host
	Compiler: gcc 13.2.1

Fedora 38 (Clang)
	Kernel: Depends on container host
	Compiler: clang 16.0.6

RHEL9
	Kernel: Depends on container host
	Compiler: gcc 11.4.1

Fedora 39
	Kernel: Depends on container host
	Compiler: gcc 13.2.1

Fedora 40 (Clang)
	Kernel: Depends on container host
	Compiler: clang 18.1.6

Fedora 40
	Kernel: Depends on container host
	Compiler: gcc 14.1.1

RHEL8
	Kernel: 5.4.0-167-generic
	Compiler: gcc 8.5.0 20210514 (Red Hat 8.5.0-20)

Fedora 39 (Clang)
	Kernel: Depends on container host
	Compiler: clang 17.0.6

openSUSE Leap 15
	Kernel: 5.4.0-167-generic
	Compiler: gcc 7.5.0

Ubuntu 22.04
	Kernel: 5.4.0-167-generic
	Compiler: gcc 11.4.0

Ubuntu 24.04
	Kernel: 5.4.0-167-generic
	Compiler: gcc 13.2.0

To view detailed results, visit:
https://lab.dpdk.org/results/dashboard/patchsets/30360/

UNH-IOL DPDK Community Lab

To manage your email subscriptions, visit: 
https://lab.dpdk.org/results/dashboard/preferences/subscriptions/