From mboxrd@z Thu Jan  1 00:00:00 1970
Return-Path: <test-report-bounces@dpdk.org>
Received: from mails.dpdk.org (mails.dpdk.org [217.70.189.124])
	by inbox.dpdk.org (Postfix) with ESMTP id A6D9745545
	for <public@inbox.dpdk.org>; Tue,  2 Jul 2024 03:35:32 +0200 (CEST)
Received: from mails.dpdk.org (localhost [127.0.0.1])
	by mails.dpdk.org (Postfix) with ESMTP id A2C304027F;
	Tue,  2 Jul 2024 03:35:32 +0200 (CEST)
Received: from mail-io1-f99.google.com (mail-io1-f99.google.com
 [209.85.166.99]) by mails.dpdk.org (Postfix) with ESMTP id 4E26A40272
 for <test-report@dpdk.org>; Tue,  2 Jul 2024 03:35:31 +0200 (CEST)
Received: by mail-io1-f99.google.com with SMTP id
 ca18e2360f4ac-7f3d2d441e4so107904139f.2
 for <test-report@dpdk.org>; Mon, 01 Jul 2024 18:35:31 -0700 (PDT)
DKIM-Signature: v=1; a=rsa-sha256; c=relaxed/relaxed;
 d=iol.unh.edu; s=unh-iol; t=1719884130; x=1720488930; darn=dpdk.org;
 h=references:in-reply-to:cc:to:from:subject:message-id:date:from:to
 :cc:subject:date:message-id:reply-to;
 bh=4vv+g0bAvS/Qc4AVoGHxAhnQ4xyZWE34fO+TrtFUR8o=;
 b=WKDVQ45oG5XPHxDCbSWCwIm7SfBM0cRkk3vIHoi/O2+fZ0mFAJgfFzqO++TvgqkyIw
 2Bg7hq6b1CYy5k4C8R3GVotyioGl4iXfZGNel5vpK0tmTfi5noTbvk9lKyWO1FG3Vlfe
 VovJbJARhmdUFtKH/jMVxuQpDjkRQy7VjBVcQ=
X-Google-DKIM-Signature: v=1; a=rsa-sha256; c=relaxed/relaxed;
 d=1e100.net; s=20230601; t=1719884130; x=1720488930;
 h=references:in-reply-to:cc:to:from:subject:message-id:date
 :x-gm-message-state:from:to:cc:subject:date:message-id:reply-to;
 bh=4vv+g0bAvS/Qc4AVoGHxAhnQ4xyZWE34fO+TrtFUR8o=;
 b=ELXWIJhq3RspoziGi7IrhoO8AnWr6MH+ugNmj2u0BKbcpE8hvkv8ut+XfRVImW8/b9
 +ohq5nXjNOFe98fcCedMhGGd9Fm1ueIXKA2Wm97O3BuiaOMaGtoRQ7IwT22Mcpqri5Aj
 bYlL5lbIYiveeo6XZShwcANfdgzOs3jB2cEf70D8pc5kb7ergaBUQ/j9F8XpVG5GF7uc
 vPGTjzn3Al8w0RUP9qYWxUtQmbrp4KmT8FGncnstINvi9OId9peNoFV58hbjDBpaByv5
 +YNQ0n8qlyRBP5YPTeROhSDpc8Ndl/SMTeYjyUSwTl8Fs+py2UodUAu9Egv3L1wKN1Bd
 aaFg==
X-Gm-Message-State: AOJu0YznpbJJlA+rUrZgwZr+cQCsQ1CEg3SUQnuTeTBbMTCZxLRT3C5D
 CnWgV1dXyvuSkS4M459yloJ02M3kYoBBeuDNxhteK5iz5zdaCiLv+1EizFWk0kRUByPQseBuH7H
 hXtBzfsiTVqU31yHqX8Iw0Ih9YZkAKBOnyp+Wekl6OqQ1ZhdfJNwErJCj
X-Google-Smtp-Source: AGHT+IEmErX/12Dji0UO4bXttlAemIZ7IbXxgble5QKDKiYIKRxnNHgZWn4Y2xP5b4oa0hjDc5mv3F1FjY98
X-Received: by 2002:a6b:7f02:0:b0:7f6:1b9f:8939 with SMTP id
 ca18e2360f4ac-7f62ee0c85bmr736605439f.7.1719884130569; 
 Mon, 01 Jul 2024 18:35:30 -0700 (PDT)
Received: from postal.iol.unh.edu (postal.iol.unh.edu.
 [2606:4100:3880:1234::84]) by smtp-relay.gmail.com with ESMTPS id
 8926c6da1cb9f-4bb742f19f9sm205435173.85.2024.07.01.18.35.30
 (version=TLS1_2 cipher=ECDHE-ECDSA-AES128-GCM-SHA256 bits=128/128);
 Mon, 01 Jul 2024 18:35:30 -0700 (PDT)
X-Relaying-Domain: iol.unh.edu
Date: Mon, 01 Jul 2024 18:35:30 -0700 (PDT)
Message-ID: <66835962.050a0220.9458b.f160SMTPIN_ADDED_MISSING@mx.google.com>
Received: from [172.21.0.7] (unknown [172.18.0.240])
 by postal.iol.unh.edu (Postfix) with ESMTP id 03232605C380;
 Mon,  1 Jul 2024 21:35:30 -0400 (EDT)
Subject: |PENDING| pw141992-141993 [PATCH] [2/2] crypto/ionic: fix sign exten
From: dpdklab@iol.unh.edu
To: Test Report <test-report@dpdk.org>
Cc: dpdk-test-reports@iol.unh.edu
In-Reply-To: <20240701152250.46978-2-andrew.boyer@amd.com>
References: <20240701152250.46978-2-andrew.boyer@amd.com>
Content-Type: text/plain
X-BeenThere: test-report@dpdk.org
X-Mailman-Version: 2.1.29
Precedence: list
List-Id: automatic DPDK test reports <test-report.dpdk.org>
List-Unsubscribe: <https://mails.dpdk.org/options/test-report>,
 <mailto:test-report-request@dpdk.org?subject=unsubscribe>
List-Archive: <http://mails.dpdk.org/archives/test-report/>
List-Post: <mailto:test-report@dpdk.org>
List-Help: <mailto:test-report-request@dpdk.org?subject=help>
List-Subscribe: <https://mails.dpdk.org/listinfo/test-report>,
 <mailto:test-report-request@dpdk.org?subject=subscribe>
Errors-To: test-report-bounces@dpdk.org

Test-Label: iol-compile-arm64-testing
Test-Status: PENDING
http://dpdk.org/patch/141993

_Testing pending_

Submitter: Andrew Boyer <Andrew.Boyer@amd.com>
Date: Monday, July 01 2024 15:22:50 
DPDK git baseline: Repo:dpdk
  Branch: master
  CommitID:3b80379078a1f7c09b8d0ece24442c8ff2e2c67c

141992-141993 --> testing pending

Test environment and result as below:

+----------------------------------------+--------------------+
|              Environment               | dpdk_meson_compile |
+========================================+====================+
| RHEL9 (ARM)                            | PASS               |
+----------------------------------------+--------------------+
| Ubuntu 20.04 ARM GCC Cross Compile     | PASS               |
+----------------------------------------+--------------------+
| Ubuntu 20.04 ARM SVE                   | PASS               |
+----------------------------------------+--------------------+
| Debian 12 with MUSDK                   | PASS               |
+----------------------------------------+--------------------+
| Fedora 37 (ARM)                        | PASS               |
+----------------------------------------+--------------------+
| Fedora 38 (ARM)                        | PASS               |
+----------------------------------------+--------------------+
| Fedora 38 (ARM Clang)                  | PASS               |
+----------------------------------------+--------------------+
| Fedora 39 (ARM)                        | PASS               |
+----------------------------------------+--------------------+
| Fedora 39 (ARM Clang)                  | PASS               |
+----------------------------------------+--------------------+
| Fedora 40 (ARM)                        | PASS               |
+----------------------------------------+--------------------+
| Fedora 40 (ARM Clang)                  | PASS               |
+----------------------------------------+--------------------+
| Ubuntu 20.04 (ARM)                     | PASS               |
+----------------------------------------+--------------------+
| Ubuntu 22.04 (ARM)                     | PASS               |
+----------------------------------------+--------------------+
| Ubuntu 24.04 (ARM)                     | PASS               |
+----------------------------------------+--------------------+
| CentOS Stream 9 (ARM)                  | PASS               |
+----------------------------------------+--------------------+
| Debian 11 (Buster) (ARM)               | PASS               |
+----------------------------------------+--------------------+
| Debian 12 (arm)                        | PEND               |
+----------------------------------------+--------------------+
| Ubuntu 20.04 ARM Clang Cross Compile   | PASS               |
+----------------------------------------+--------------------+
| Ubuntu 20.04 aarch32 GCC Cross Compile | PASS               |
+----------------------------------------+--------------------+


RHEL9 (ARM)
	Kernel: Depends on container host
	Compiler: gcc 11.4.1

Ubuntu 20.04 ARM GCC Cross Compile
	Kernel: 5.4.0-167-generic
	Compiler: aarch64-linux-gnu-gcc (Ubuntu 9.4.0-1ubuntu1~20.04.2) 9.4.0

Ubuntu 20.04 ARM SVE
	Kernel: 5.4.0-167-generic
	Compiler: gcc (Ubuntu 10.5.0-1ubuntu1~20.04) 10.5.0

Debian 12 with MUSDK
	Kernel: Container Host Kernel
	Compiler: gcc 12.2.0

Fedora 37 (ARM)
	Kernel: Depends on container host
	Compiler: gcc 12.3.1

Fedora 38 (ARM)
	Kernel: Depends on container host
	Compiler: gcc 13.2.1

Fedora 38 (ARM Clang)
	Kernel: Depends on container host
	Compiler: clang 16.0.6

Fedora 39 (ARM)
	Kernel: Depends on container host
	Compiler: gcc 13.2.1

Fedora 39 (ARM Clang)
	Kernel: Depends on container host
	Compiler: clang 17.0.6

Fedora 40 (ARM)
	Kernel: Depends on container host
	Compiler: gcc 14.1.1

Fedora 40 (ARM Clang)
	Kernel: Depends on container host
	Compiler: clang 18.1.6

Ubuntu 20.04 (ARM)
	Kernel: Container Host Kernel
	Compiler: gcc 9.4.0

Ubuntu 22.04 (ARM)
	Kernel: Container Host Kernel
	Compiler: gcc 11.4.0

Ubuntu 24.04 (ARM)
	Kernel: 5.4.0-167-generic
	Compiler: gcc 13.2.0

CentOS Stream 9 (ARM)
	Kernel: Container Host Kernel
	Compiler: gcc 11.4.1

Debian 11 (Buster) (ARM)
	Kernel: Container Host Kernel
	Compiler: gcc 10.2.1

Debian 12 (arm)
	Kernel: Container Host Kernel
	Compiler: gcc 12.2.0

Ubuntu 20.04 ARM Clang Cross Compile
	Kernel: 5.4.0-72-generic
	Compiler: clang 10.0.0-4ubuntu1

Ubuntu 20.04 aarch32 GCC Cross Compile
	Kernel: 5.4.0-167-generic
	Compiler: gcc 9.4.0

To view detailed results, visit:
https://lab.dpdk.org/results/dashboard/patchsets/30360/

UNH-IOL DPDK Community Lab

To manage your email subscriptions, visit: 
https://lab.dpdk.org/results/dashboard/preferences/subscriptions/