From mboxrd@z Thu Jan 1 00:00:00 1970 Return-Path: Received: from mails.dpdk.org (mails.dpdk.org [217.70.189.124]) by inbox.dpdk.org (Postfix) with ESMTP id C4C1F45546 for ; Tue, 2 Jul 2024 05:55:14 +0200 (CEST) Received: from mails.dpdk.org (localhost [127.0.0.1]) by mails.dpdk.org (Postfix) with ESMTP id C2202402D8; Tue, 2 Jul 2024 05:55:14 +0200 (CEST) Received: from mail-ot1-f98.google.com (mail-ot1-f98.google.com [209.85.210.98]) by mails.dpdk.org (Postfix) with ESMTP id 2A9F5402B9 for ; Tue, 2 Jul 2024 05:55:13 +0200 (CEST) Received: by mail-ot1-f98.google.com with SMTP id 46e09a7af769-700cbdd90fbso2331769a34.0 for ; Mon, 01 Jul 2024 20:55:13 -0700 (PDT) DKIM-Signature: v=1; a=rsa-sha256; c=relaxed/relaxed; d=iol.unh.edu; s=unh-iol; t=1719892512; x=1720497312; darn=dpdk.org; h=references:in-reply-to:cc:to:from:subject:message-id:date:from:to :cc:subject:date:message-id:reply-to; bh=hEFynBEQgvmCy/11BP7hhROyJyg/lOY8mHq/tQOuNYE=; b=MfXILd83S3HICt4PDW3dEjaOQd6k86uSW6dtz+xLOp6z8TX1YtN7qiIZdL8WaRSCVL QqMelFOreE+M+qiRdf9S+zzht3k7d+y+tYafL2M4cIH41gRNYhtkbq+2LSlkGhKCLhMv 5S/KubeR9OgYctStV1aD3ExhVpl3kaIobhTUI= X-Google-DKIM-Signature: v=1; a=rsa-sha256; c=relaxed/relaxed; d=1e100.net; s=20230601; t=1719892512; x=1720497312; h=references:in-reply-to:cc:to:from:subject:message-id:date :x-gm-message-state:from:to:cc:subject:date:message-id:reply-to; bh=hEFynBEQgvmCy/11BP7hhROyJyg/lOY8mHq/tQOuNYE=; b=rQxqx2NZikllKdxS/UiuVlCjiaLLqoVjwm9O1sCI9ZAeqcwyP/0J6LkJVkHnlJwQG1 lAmefk8DZuCHXIYnF6Dj6Sq8dMsH4c/WAWWgViqdxeyUX3n+NNPCUjaFH4Xm0F88z16n 7uoOOk12oqDOZb02vAAhfGfz1C14RmTiQS9OR0a5YLsv6kZ3PXHqZ1xd2Vv8cyejkJ7p PiudYvYda6cuaYKa3T3dNeV5jQ1QPgIXXihJSVdLpJdyLiwyf1wLcv8lZBb0fYiXLf5F WVaNDNKz+BqbLqnhnmNFWCc4tZuiZigwCUMHqVnvMd8yKGlFsbXtTlrj6DoSvCOpOrph DU3g== X-Gm-Message-State: AOJu0YzWGwBCH0FVZrZxd5/3qs/WN2uHKqeMRJ1v+hImFfwYL2dGKs5Y tXLsjozdg4fuvfDZHhU/7CnG175TE6RUeNjvg/yZ+kIJCQtI76YEe5jIhRjyr+NvcCHAISUYtwo YKV7lh6+Yvem50uhiuJtSQklgekCifQfr72WluxzeLafJhTwNmcd6Bf64 X-Google-Smtp-Source: AGHT+IGUvE/xOS8/Oq4rVigO1clsB7y0E3/B2RceMF2q14Y6BrDuyPFUehhgzHxXuXWIhGiZW48FoGFFfZI9 X-Received: by 2002:a05:6830:14ce:b0:700:cb73:b6a5 with SMTP id 46e09a7af769-702178afba8mr4804677a34.26.1719892512338; Mon, 01 Jul 2024 20:55:12 -0700 (PDT) Received: from postal.iol.unh.edu (postal.iol.unh.edu. [2606:4100:3880:1234::84]) by smtp-relay.gmail.com with ESMTPS id 41be03b00d2f7-72c6c8ec4desm203348a12.23.2024.07.01.20.55.12 (version=TLS1_2 cipher=ECDHE-ECDSA-AES128-GCM-SHA256 bits=128/128); Mon, 01 Jul 2024 20:55:12 -0700 (PDT) X-Relaying-Domain: iol.unh.edu Date: Mon, 01 Jul 2024 20:55:12 -0700 (PDT) Message-ID: <66837a20.630a0220.15606.f5f1SMTPIN_ADDED_MISSING@mx.google.com> Received: from [172.21.0.6] (unknown [172.18.0.240]) by postal.iol.unh.edu (Postfix) with ESMTP id 66E6D6052722; Mon, 1 Jul 2024 23:55:11 -0400 (EDT) Subject: |PENDING| pw141999-142001 [PATCH] [v1,3/3] baseband/acc: add support From: dpdklab@iol.unh.edu To: Test Report Cc: dpdk-test-reports@iol.unh.edu In-Reply-To: <20240701212703.417094-4-nicolas.chautru@intel.com> References: <20240701212703.417094-4-nicolas.chautru@intel.com> Content-Type: text/plain X-BeenThere: test-report@dpdk.org X-Mailman-Version: 2.1.29 Precedence: list List-Id: automatic DPDK test reports List-Unsubscribe: , List-Archive: List-Post: List-Help: List-Subscribe: , Errors-To: test-report-bounces@dpdk.org Test-Label: iol-compile-amd64-testing Test-Status: PENDING http://dpdk.org/patch/142001 _Testing pending_ Submitter: Nicolas Chautru Date: Monday, July 01 2024 21:27:03 DPDK git baseline: Repo:dpdk Branch: master CommitID:e195680f6f1c109cd7812b1ef6f2a38cea70ea9b 141999-142001 --> testing pending Test environment and result as below: +---------------------+--------------------+----------------------+-------------------+ | Environment | dpdk_meson_compile | dpdk_mingw64_compile | dpdk_msvc_compile | +=====================+====================+======================+===================+ | Windows Server 2022 | PASS | PEND | PEND | +---------------------+--------------------+----------------------+-------------------+ | Windows Server 2019 | PASS | PEND | SKIPPED | +---------------------+--------------------+----------------------+-------------------+ | FreeBSD 13.3 | PASS | SKIPPED | SKIPPED | +---------------------+--------------------+----------------------+-------------------+ Windows Server 2022 Kernel: 10.0.20348.2031 Compiler: clang 15.0.7, gcc 8.1.0 (MinGW), and MSVC VS 17.9 Windows Server 2019 Kernel: 10.0.17763 Compiler: clang 14.0 and gcc 8.1.0 (MinGW) FreeBSD 13.3 Kernel: 13.3-RELEASE-p1 Compiler: clang 17.0.6 To view detailed results, visit: https://lab.dpdk.org/results/dashboard/patchsets/30365/ UNH-IOL DPDK Community Lab To manage your email subscriptions, visit: https://lab.dpdk.org/results/dashboard/preferences/subscriptions/