From mboxrd@z Thu Jan  1 00:00:00 1970
Return-Path: <test-report-bounces@dpdk.org>
Received: from mails.dpdk.org (mails.dpdk.org [217.70.189.124])
	by inbox.dpdk.org (Postfix) with ESMTP id E39684554B
	for <public@inbox.dpdk.org>; Tue,  2 Jul 2024 09:30:48 +0200 (CEST)
Received: from mails.dpdk.org (localhost [127.0.0.1])
	by mails.dpdk.org (Postfix) with ESMTP id E0D7C402D2;
	Tue,  2 Jul 2024 09:30:48 +0200 (CEST)
Received: from mail-yb1-f227.google.com (mail-yb1-f227.google.com
 [209.85.219.227])
 by mails.dpdk.org (Postfix) with ESMTP id 2D7A8402CF
 for <test-report@dpdk.org>; Tue,  2 Jul 2024 09:30:47 +0200 (CEST)
Received: by mail-yb1-f227.google.com with SMTP id
 3f1490d57ef6-e02b79c6f21so4065281276.2
 for <test-report@dpdk.org>; Tue, 02 Jul 2024 00:30:47 -0700 (PDT)
DKIM-Signature: v=1; a=rsa-sha256; c=relaxed/relaxed;
 d=iol.unh.edu; s=unh-iol; t=1719905446; x=1720510246; darn=dpdk.org;
 h=references:in-reply-to:cc:to:from:subject:message-id:date:from:to
 :cc:subject:date:message-id:reply-to;
 bh=27fcOez0s0eH05LYLbxo+SuIuR/Jqb3UeJsEhkMUuoA=;
 b=DPNdu4be49T2uq6+ksriGDnK5VgQoNSeRRpzhoLIXhdsTmGWEFn7eqJcR6LteG5/ya
 HyvrPuiUdw+eohKQwlTSZ08z6C5mB7y+KXObwwq9kkqC/ATDXIWi6xKKkEsYH1QYg8TI
 e++j/34g8asum3lPOi0oT6xx9kHn/nwAVlc40=
X-Google-DKIM-Signature: v=1; a=rsa-sha256; c=relaxed/relaxed;
 d=1e100.net; s=20230601; t=1719905446; x=1720510246;
 h=references:in-reply-to:cc:to:from:subject:message-id:date
 :x-gm-message-state:from:to:cc:subject:date:message-id:reply-to;
 bh=27fcOez0s0eH05LYLbxo+SuIuR/Jqb3UeJsEhkMUuoA=;
 b=qsawZaqtMw0rECWinec7vS0bE6sOhFXkg2GlNOaaFTbplsPqlABrIcSaKgtzsw1ZNp
 jSQiVeEbCDS/Q3DdfST2WtOfqG9bV+CEW7ai0xySy7dqXay7XMUOp1qgjuCBM9uKgdUo
 lzqmCsyC9RKDmZUrUFNbjPgdEvrGUQrq6rZF3y/WiyOKnwDV6IGxzjDKyxAS1T32mgX4
 J6d83u8QfYxOFAqhk9LbE9aMbfjWujg0Xt1K7N3jrcKKB9HrFufuCKtqcQYlSXHieNjU
 lIvrtKQgUIXX8PQxlFnRGxiYr19mzYqh5tQ4PfxpN7i6+t4ZQmPmr9TInXC5iQmX+olh
 mTCQ==
X-Gm-Message-State: AOJu0Ywbm+G9gSCWqnwF3+8OIgTqt87hG2sw+OqvKTqCjTklceCDT4pF
 GeVFtH1rgqoKUSG9Vzi9YdRKOmAAPh6bIB/k466ocjU/VL2wa+W32zSjxNliz6khHVzL1B98jcL
 2LWd8V+CmJQko9S05LI062J1oTZQaZH/2sNFGqV5or6bayJzR9GBboIOk
X-Google-Smtp-Source: AGHT+IH3bmn0IauXJt3BlB9GLiZH7atHxzVDiIMkJCoikwnAQwHfX7BOu8OIo99U8Jxvr01aCFWrMrsnpjkQ
X-Received: by 2002:a25:dbc4:0:b0:e02:bf87:7cce with SMTP id
 3f1490d57ef6-e036ec9d2a5mr8285306276.64.1719905446457; 
 Tue, 02 Jul 2024 00:30:46 -0700 (PDT)
Received: from postal.iol.unh.edu (postal.iol.unh.edu.
 [2606:4100:3880:1234::84]) by smtp-relay.gmail.com with ESMTPS id
 6a1803df08f44-6b59e563643sm4037116d6.31.2024.07.02.00.30.46
 (version=TLS1_2 cipher=ECDHE-ECDSA-AES128-GCM-SHA256 bits=128/128);
 Tue, 02 Jul 2024 00:30:46 -0700 (PDT)
X-Relaying-Domain: iol.unh.edu
Date: Tue, 02 Jul 2024 00:30:46 -0700 (PDT)
Message-ID: <6683aca6.050a0220.bb60e.ec81SMTPIN_ADDED_MISSING@mx.google.com>
Received: from [172.17.0.4] (unknown [172.18.0.214])
 by postal.iol.unh.edu (Postfix) with ESMTP id 29DDC6050A6B;
 Tue,  2 Jul 2024 03:30:46 -0400 (EDT)
Subject: |PENDING| pw142004-142006 [PATCH] [v5,3/3] bus/pci: fix secondary pr
From: dpdklab@iol.unh.edu
To: Test Report <test-report@dpdk.org>
Cc: dpdk-test-reports@iol.unh.edu
In-Reply-To: <20240702021946.4194102-4-chaoyong.he@corigine.com>
References: <20240702021946.4194102-4-chaoyong.he@corigine.com>
Content-Type: text/plain
X-BeenThere: test-report@dpdk.org
X-Mailman-Version: 2.1.29
Precedence: list
List-Id: automatic DPDK test reports <test-report.dpdk.org>
List-Unsubscribe: <https://mails.dpdk.org/options/test-report>,
 <mailto:test-report-request@dpdk.org?subject=unsubscribe>
List-Archive: <http://mails.dpdk.org/archives/test-report/>
List-Post: <mailto:test-report@dpdk.org>
List-Help: <mailto:test-report-request@dpdk.org?subject=help>
List-Subscribe: <https://mails.dpdk.org/listinfo/test-report>,
 <mailto:test-report-request@dpdk.org?subject=subscribe>
Errors-To: test-report-bounces@dpdk.org

Test-Label: iol-abi-testing
Test-Status: PENDING
http://dpdk.org/patch/142006

_Testing pending_

Submitter: Chaoyong He <chaoyong.he@corigine.com>
Date: Tuesday, July 02 2024 02:19:46 
DPDK git baseline: Repo:dpdk
  Branch: master
  CommitID:c15902587b538ff02cfb0fbb4dd481f1503d936b

142004-142006 --> testing pending

Test environment and result as below:

+-------------------+----------+
|    Environment    | abi_test |
+===================+==========+
| CentOS Stream 8   | PASS     |
+-------------------+----------+
| CentOS Stream 9   | PASS     |
+-------------------+----------+
| Debian Bullseye   | PASS     |
+-------------------+----------+
| Fedora 38 (Clang) | PASS     |
+-------------------+----------+
| Fedora 38         | PASS     |
+-------------------+----------+
| Fedora 39         | PASS     |
+-------------------+----------+
| Fedora 39 (Clang) | PASS     |
+-------------------+----------+
| Debian 12         | PEND     |
+-------------------+----------+
| Fedora 40 (Clang) | PASS     |
+-------------------+----------+
| Fedora 37         | PEND     |
+-------------------+----------+
| Fedora 40         | PEND     |
+-------------------+----------+
| RHEL8             | PASS     |
+-------------------+----------+
| openSUSE Leap 15  | PEND     |
+-------------------+----------+
| Ubuntu 22.04      | PEND     |
+-------------------+----------+
| RHEL9             | PEND     |
+-------------------+----------+
| Ubuntu 24.04      | PEND     |
+-------------------+----------+


CentOS Stream 8
	Kernel: 5.4.0-167-generic
	Compiler: gcc 8.5.0 20210514

CentOS Stream 9
	Kernel: 5.4.0-167-generic
	Compiler: gcc 11.4.1 20230605

Debian Bullseye
	Kernel: 5.4.0-167-generic
	Compiler: gcc 10.2.1-6

Fedora 38 (Clang)
	Kernel: Depends on container host
	Compiler: clang 16.0.6

Fedora 38
	Kernel: Depends on container host
	Compiler: gcc 13.2.1

Fedora 39
	Kernel: Depends on container host
	Compiler: gcc 13.2.1

Fedora 39 (Clang)
	Kernel: Depends on container host
	Compiler: clang 17.0.6

Debian 12
	Kernel: Container Host Kernel
	Compiler: gcc 12.2.0

Fedora 40 (Clang)
	Kernel: Depends on container host
	Compiler: clang 18.1.6

Fedora 37
	Kernel: Depends on container host system
	Compiler: gcc 12.3.1

Fedora 40
	Kernel: Depends on container host
	Compiler: gcc 14.1.1

RHEL8
	Kernel: 5.4.0-167-generic
	Compiler: gcc 8.5.0 20210514 (Red Hat 8.5.0-20)

openSUSE Leap 15
	Kernel: 5.4.0-167-generic
	Compiler: gcc 7.5.0

Ubuntu 22.04
	Kernel: 5.4.0-167-generic
	Compiler: gcc 11.4.0

RHEL9
	Kernel: Depends on container host
	Compiler: gcc 11.4.1

Ubuntu 24.04
	Kernel: 5.4.0-167-generic
	Compiler: gcc 13.2.0

To view detailed results, visit:
https://lab.dpdk.org/results/dashboard/patchsets/30367/

UNH-IOL DPDK Community Lab

To manage your email subscriptions, visit: 
https://lab.dpdk.org/results/dashboard/preferences/subscriptions/