From mboxrd@z Thu Jan  1 00:00:00 1970
Return-Path: <test-report-bounces@dpdk.org>
Received: from mails.dpdk.org (mails.dpdk.org [217.70.189.124])
	by inbox.dpdk.org (Postfix) with ESMTP id 9BBD94554B
	for <public@inbox.dpdk.org>; Tue,  2 Jul 2024 09:46:45 +0200 (CEST)
Received: from mails.dpdk.org (localhost [127.0.0.1])
	by mails.dpdk.org (Postfix) with ESMTP id 97AF7402D2;
	Tue,  2 Jul 2024 09:46:45 +0200 (CEST)
Received: from mail-pl1-f225.google.com (mail-pl1-f225.google.com
 [209.85.214.225])
 by mails.dpdk.org (Postfix) with ESMTP id 9C8CF402CF
 for <test-report@dpdk.org>; Tue,  2 Jul 2024 09:46:44 +0200 (CEST)
Received: by mail-pl1-f225.google.com with SMTP id
 d9443c01a7336-1f480624d0fso22667365ad.1
 for <test-report@dpdk.org>; Tue, 02 Jul 2024 00:46:44 -0700 (PDT)
DKIM-Signature: v=1; a=rsa-sha256; c=relaxed/relaxed;
 d=iol.unh.edu; s=unh-iol; t=1719906404; x=1720511204; darn=dpdk.org;
 h=references:in-reply-to:cc:to:from:subject:message-id:date:from:to
 :cc:subject:date:message-id:reply-to;
 bh=JUay5q21oSphWH07Da9kGqM+F4ovvQOr6BW7MI+hTa0=;
 b=Aes+DcFCw7ara5fZIiz6biRkpHYVcD9yAE2pyFmgO9WY4nVpE6VgCq5EWy9hN5G1rS
 Wf3wcCqRax9rXytArY4aX8TBJVrXhBy41R0eHY4OtEm6Eofs+0eTGQxedE8M4P770+a5
 UYuN7Q61lsGCJlGfKttDBhqleE3l/rYvDVamc=
X-Google-DKIM-Signature: v=1; a=rsa-sha256; c=relaxed/relaxed;
 d=1e100.net; s=20230601; t=1719906404; x=1720511204;
 h=references:in-reply-to:cc:to:from:subject:message-id:date
 :x-gm-message-state:from:to:cc:subject:date:message-id:reply-to;
 bh=JUay5q21oSphWH07Da9kGqM+F4ovvQOr6BW7MI+hTa0=;
 b=lcngwnmWGJvelpu528nwojYQooC2mjOHnKH4okjT4maeJ1CCJqcVqiNcASOUQB90pL
 IJSO+3rMBmIK4sraHsl0iJfIdz0YSEAAzw5ZAG0xpRJMlNTcVFmaQNzAuk0bHR2my/5r
 sPPH6yfEupAkRmKj1yMKQU5ZqygCljsQBQVtRf+7WTO2R9hosb4VAaFuvFpJivE/iQfi
 P1b/9eHj1z6dksq/oFZcNhzffUVkaxUDPJUR3otwIwFl+sKpWU1HChulBKxtFbUkFUcc
 XbKeAbvOEVJA4P9sxjFYiPq0I+6XWXD43znzTIRyVrXlYMiAGJBz9ztnurmNviXU75qO
 1kvg==
X-Gm-Message-State: AOJu0YytJDIO5+W8LZPqGeFSIur4ODGM/133LHFdkS7Qtnux9I/PyC8A
 nOnZVFevyz2AXfci3wAC0sSa8kNxL60XsbKPG9lgLzWFnzpc6F4UNLbOBV/UhhqPWUknJCOZ3Hv
 u+oYbRy4z+iyYtdwNswBGckc7HkVsN3CxD9NfzCm+csf0pXKjkaLvbyS5
X-Google-Smtp-Source: AGHT+IEeWUB6sTgC7R+KEwchE21cR+SIwqe4M1zsFGbZpyEzrNlRNwlSPBVvobhGmYEufPJ45hDxQ0Bf3FI2
X-Received: by 2002:a17:903:2304:b0:1f9:d551:c848 with SMTP id
 d9443c01a7336-1fadbce6ca1mr54812645ad.53.1719906403707; 
 Tue, 02 Jul 2024 00:46:43 -0700 (PDT)
Received: from postal.iol.unh.edu (postal.iol.unh.edu.
 [2606:4100:3880:1234::84]) by smtp-relay.gmail.com with ESMTPS id
 d9443c01a7336-1fac155b104sm2895995ad.88.2024.07.02.00.46.43
 (version=TLS1_2 cipher=ECDHE-ECDSA-AES128-GCM-SHA256 bits=128/128);
 Tue, 02 Jul 2024 00:46:43 -0700 (PDT)
X-Relaying-Domain: iol.unh.edu
Date: Tue, 02 Jul 2024 00:46:43 -0700 (PDT)
Message-ID: <6683b063.170a0220.59ec4.603fSMTPIN_ADDED_MISSING@mx.google.com>
Received: from [172.17.0.2] (unknown [172.18.0.217])
 by postal.iol.unh.edu (Postfix) with ESMTP id D4F526050A6B;
 Tue,  2 Jul 2024 03:46:42 -0400 (EDT)
Subject: |PENDING| pw142002-142003 [PATCH] [v1,2/2] baseband/acc: improvement
From: dpdklab@iol.unh.edu
To: Test Report <test-report@dpdk.org>
Cc: dpdk-test-reports@iol.unh.edu
In-Reply-To: <20240701223424.427588-3-nicolas.chautru@intel.com>
References: <20240701223424.427588-3-nicolas.chautru@intel.com>
Content-Type: text/plain
X-BeenThere: test-report@dpdk.org
X-Mailman-Version: 2.1.29
Precedence: list
List-Id: automatic DPDK test reports <test-report.dpdk.org>
List-Unsubscribe: <https://mails.dpdk.org/options/test-report>,
 <mailto:test-report-request@dpdk.org?subject=unsubscribe>
List-Archive: <http://mails.dpdk.org/archives/test-report/>
List-Post: <mailto:test-report@dpdk.org>
List-Help: <mailto:test-report-request@dpdk.org?subject=help>
List-Subscribe: <https://mails.dpdk.org/listinfo/test-report>,
 <mailto:test-report-request@dpdk.org?subject=subscribe>
Errors-To: test-report-bounces@dpdk.org

Test-Label: iol-compile-arm64-testing
Test-Status: PENDING
http://dpdk.org/patch/142003

_Testing pending_

Submitter: Nicolas Chautru <nicolas.chautru@intel.com>
Date: Monday, July 01 2024 22:34:24 
DPDK git baseline: Repo:dpdk
  Branch: master
  CommitID:e195680f6f1c109cd7812b1ef6f2a38cea70ea9b

142002-142003 --> testing pending

Test environment and result as below:

+----------------------------------------+--------------------+
|              Environment               | dpdk_meson_compile |
+========================================+====================+
| RHEL9 (ARM)                            | PASS               |
+----------------------------------------+--------------------+
| Ubuntu 20.04 ARM GCC Cross Compile     | PASS               |
+----------------------------------------+--------------------+
| Ubuntu 20.04 ARM SVE                   | PASS               |
+----------------------------------------+--------------------+
| Debian 12 with MUSDK                   | PASS               |
+----------------------------------------+--------------------+
| Fedora 37 (ARM)                        | PASS               |
+----------------------------------------+--------------------+
| Fedora 38 (ARM)                        | PASS               |
+----------------------------------------+--------------------+
| Fedora 38 (ARM Clang)                  | PASS               |
+----------------------------------------+--------------------+
| Fedora 39 (ARM)                        | PASS               |
+----------------------------------------+--------------------+
| Fedora 39 (ARM Clang)                  | PEND               |
+----------------------------------------+--------------------+
| Fedora 40 (ARM)                        | PASS               |
+----------------------------------------+--------------------+
| Fedora 40 (ARM Clang)                  | PASS               |
+----------------------------------------+--------------------+
| Ubuntu 20.04 (ARM)                     | PASS               |
+----------------------------------------+--------------------+
| Ubuntu 22.04 (ARM)                     | PASS               |
+----------------------------------------+--------------------+
| Ubuntu 24.04 (ARM)                     | PASS               |
+----------------------------------------+--------------------+
| CentOS Stream 9 (ARM)                  | PASS               |
+----------------------------------------+--------------------+
| Debian 11 (Buster) (ARM)               | PASS               |
+----------------------------------------+--------------------+
| Debian 12 (arm)                        | PASS               |
+----------------------------------------+--------------------+
| Ubuntu 20.04 ARM Clang Cross Compile   | PASS               |
+----------------------------------------+--------------------+
| Ubuntu 20.04 aarch32 GCC Cross Compile | PASS               |
+----------------------------------------+--------------------+


RHEL9 (ARM)
	Kernel: Depends on container host
	Compiler: gcc 11.4.1

Ubuntu 20.04 ARM GCC Cross Compile
	Kernel: 5.4.0-167-generic
	Compiler: aarch64-linux-gnu-gcc (Ubuntu 9.4.0-1ubuntu1~20.04.2) 9.4.0

Ubuntu 20.04 ARM SVE
	Kernel: 5.4.0-167-generic
	Compiler: gcc (Ubuntu 10.5.0-1ubuntu1~20.04) 10.5.0

Debian 12 with MUSDK
	Kernel: Container Host Kernel
	Compiler: gcc 12.2.0

Fedora 37 (ARM)
	Kernel: Depends on container host
	Compiler: gcc 12.3.1

Fedora 38 (ARM)
	Kernel: Depends on container host
	Compiler: gcc 13.2.1

Fedora 38 (ARM Clang)
	Kernel: Depends on container host
	Compiler: clang 16.0.6

Fedora 39 (ARM)
	Kernel: Depends on container host
	Compiler: gcc 13.2.1

Fedora 39 (ARM Clang)
	Kernel: Depends on container host
	Compiler: clang 17.0.6

Fedora 40 (ARM)
	Kernel: Depends on container host
	Compiler: gcc 14.1.1

Fedora 40 (ARM Clang)
	Kernel: Depends on container host
	Compiler: clang 18.1.6

Ubuntu 20.04 (ARM)
	Kernel: Container Host Kernel
	Compiler: gcc 9.4.0

Ubuntu 22.04 (ARM)
	Kernel: Container Host Kernel
	Compiler: gcc 11.4.0

Ubuntu 24.04 (ARM)
	Kernel: 5.4.0-167-generic
	Compiler: gcc 13.2.0

CentOS Stream 9 (ARM)
	Kernel: Container Host Kernel
	Compiler: gcc 11.4.1

Debian 11 (Buster) (ARM)
	Kernel: Container Host Kernel
	Compiler: gcc 10.2.1

Debian 12 (arm)
	Kernel: Container Host Kernel
	Compiler: gcc 12.2.0

Ubuntu 20.04 ARM Clang Cross Compile
	Kernel: 5.4.0-72-generic
	Compiler: clang 10.0.0-4ubuntu1

Ubuntu 20.04 aarch32 GCC Cross Compile
	Kernel: 5.4.0-167-generic
	Compiler: gcc 9.4.0

To view detailed results, visit:
https://lab.dpdk.org/results/dashboard/patchsets/30366/

UNH-IOL DPDK Community Lab

To manage your email subscriptions, visit: 
https://lab.dpdk.org/results/dashboard/preferences/subscriptions/