From mboxrd@z Thu Jan 1 00:00:00 1970 Return-Path: Received: from mails.dpdk.org (mails.dpdk.org [217.70.189.124]) by inbox.dpdk.org (Postfix) with ESMTP id CD47E4554D for ; Tue, 2 Jul 2024 15:15:54 +0200 (CEST) Received: from mails.dpdk.org (localhost [127.0.0.1]) by mails.dpdk.org (Postfix) with ESMTP id C7D43402EC; Tue, 2 Jul 2024 15:15:54 +0200 (CEST) Received: from mail-qt1-f228.google.com (mail-qt1-f228.google.com [209.85.160.228]) by mails.dpdk.org (Postfix) with ESMTP id B14B6402D2 for ; Tue, 2 Jul 2024 15:15:53 +0200 (CEST) Received: by mail-qt1-f228.google.com with SMTP id d75a77b69052e-4463b71d5b0so33293821cf.1 for ; Tue, 02 Jul 2024 06:15:53 -0700 (PDT) DKIM-Signature: v=1; a=rsa-sha256; c=relaxed/relaxed; d=iol.unh.edu; s=unh-iol; t=1719926153; x=1720530953; darn=dpdk.org; h=references:in-reply-to:cc:to:from:subject:message-id:date:from:to :cc:subject:date:message-id:reply-to; bh=rB625kGlUjxfKQnh9hIzlI4F7pk+y/0XhsHiXOWGgRg=; b=g7wNeTwd8Oqpf3u4hLTan95J3aLvrn6oibTsITY4uPX7+6bjGp8Sp4tMAXcXoRJE5Y fA402dNvSMcd9o3HgyXpVr+BBNnO2xfaYm8MFchdZF4Q7Q7+TMM8LzpXx5g18LiHFHF4 nWze8sbs3r0r/baG8eXocCsy6VzkUWAaNfTN8= X-Google-DKIM-Signature: v=1; a=rsa-sha256; c=relaxed/relaxed; d=1e100.net; s=20230601; t=1719926153; x=1720530953; h=references:in-reply-to:cc:to:from:subject:message-id:date :x-gm-message-state:from:to:cc:subject:date:message-id:reply-to; bh=rB625kGlUjxfKQnh9hIzlI4F7pk+y/0XhsHiXOWGgRg=; b=N/TjqNVnSCbL9Cs6n4W/3Pvv9T9TEtZ6IY6Fcrqnp4ct9Hb3nM0M1EnUXQyjPB2MHl Asam+mLY3xPv52FLNxLhGCksr2cN9UAj0n12fvVvRYX5ObO9NfyCOadPrEFZTj0YiK6A xQ3UTRv+2bC5sqg6dFLS3t0AEkM8Zr/KYMuI+0PVIHFg+Ep9LRnHFH7KgiPKlU4VU5av oiMCjMvNzB9FfbwPkNzk8D+ZFi9AspTA6LpS3YGFHIsjwdzB+BO7dc6JCotgCns7aEOV MfCqxaq+1cmxwRu6qqcwk0rsoYMcT2G+aVPniMofiehNeux4hF//+nX8RfR7ehhCIbDD YNjQ== X-Gm-Message-State: AOJu0Yy52N+HcC0HdBEmCg31+zANRZJ7K4pV7G9u+d5iA9zWPo8uPLQm z9jMqBLcjL8OhiUShcFSyIAYsob69LNXfF7RTEBVo1WkbPKiLDQdd+J0jMsUcL7zjO1esjmlCtW 8zEtqAt+g87q2IirR+Tuc2NJ411kNWzXjsWPdD5aG X-Google-Smtp-Source: AGHT+IHHMH09tD1KcK71KUmMQBJPuggBuFUYsAVt7koMTxzZowwLMlKhQOxMRMumdj4KkBUOHmXOxK2YekS/ X-Received: by 2002:ac8:58c5:0:b0:43e:1231:1040 with SMTP id d75a77b69052e-4465567c1cdmr224400621cf.20.1719926153140; Tue, 02 Jul 2024 06:15:53 -0700 (PDT) Received: from postal.iol.unh.edu (postal.iol.unh.edu. [132.177.123.84]) by smtp-relay.gmail.com with ESMTPS id d75a77b69052e-446514bfce7sm1721481cf.28.2024.07.02.06.15.53 (version=TLS1_2 cipher=ECDHE-ECDSA-AES128-GCM-SHA256 bits=128/128); Tue, 02 Jul 2024 06:15:53 -0700 (PDT) X-Relaying-Domain: iol.unh.edu Date: Tue, 02 Jul 2024 06:15:53 -0700 (PDT) Message-ID: <6683fd89.c80a0220.9ff68.cdf2SMTPIN_ADDED_MISSING@mx.google.com> Received: from [172.21.0.7] (unknown [172.18.0.240]) by postal.iol.unh.edu (Postfix) with ESMTP id BE06760526E2; Tue, 2 Jul 2024 09:15:52 -0400 (EDT) Subject: |PENDING| pw142014 [PATCH] [v6] net/i40e: support FEC feature From: dpdklab@iol.unh.edu To: Test Report Cc: dpdk-test-reports@iol.unh.edu In-Reply-To: <20240702084036.159834-1-zhichaox.zeng@intel.com> References: <20240702084036.159834-1-zhichaox.zeng@intel.com> Content-Type: text/plain X-BeenThere: test-report@dpdk.org X-Mailman-Version: 2.1.29 Precedence: list List-Id: automatic DPDK test reports List-Unsubscribe: , List-Archive: List-Post: List-Help: List-Subscribe: , Errors-To: test-report-bounces@dpdk.org Test-Label: iol-abi-testing Test-Status: PENDING http://dpdk.org/patch/142014 _Testing pending_ Submitter: Zhichao Zeng Date: Tuesday, July 02 2024 08:40:36 DPDK git baseline: Repo:dpdk Branch: master CommitID:47768aac18d7d90d7df29d9d25bbc362c7b4da60 142014 --> testing pending Test environment and result as below: +-------------------+----------+ | Environment | abi_test | +===================+==========+ | CentOS Stream 8 | PASS | +-------------------+----------+ | CentOS Stream 9 | PASS | +-------------------+----------+ | Debian Bullseye | PASS | +-------------------+----------+ | Debian 12 | PASS | +-------------------+----------+ | Fedora 37 | PASS | +-------------------+----------+ | Fedora 38 (Clang) | PASS | +-------------------+----------+ | Fedora 38 | PASS | +-------------------+----------+ | Fedora 39 (Clang) | PASS | +-------------------+----------+ | Fedora 39 | PEND | +-------------------+----------+ | Fedora 40 (Clang) | PASS | +-------------------+----------+ | Fedora 40 | PEND | +-------------------+----------+ | openSUSE Leap 15 | PEND | +-------------------+----------+ | RHEL8 | PEND | +-------------------+----------+ | RHEL9 | PEND | +-------------------+----------+ | Ubuntu 22.04 | PASS | +-------------------+----------+ | Ubuntu 24.04 | PEND | +-------------------+----------+ CentOS Stream 8 Kernel: 5.4.0-167-generic Compiler: gcc 8.5.0 20210514 CentOS Stream 9 Kernel: 5.4.0-167-generic Compiler: gcc 11.4.1 20230605 Debian Bullseye Kernel: 5.4.0-167-generic Compiler: gcc 10.2.1-6 Debian 12 Kernel: Container Host Kernel Compiler: gcc 12.2.0 Fedora 37 Kernel: Depends on container host system Compiler: gcc 12.3.1 Fedora 38 (Clang) Kernel: Depends on container host Compiler: clang 16.0.6 Fedora 38 Kernel: Depends on container host Compiler: gcc 13.2.1 Fedora 39 (Clang) Kernel: Depends on container host Compiler: clang 17.0.6 Fedora 39 Kernel: Depends on container host Compiler: gcc 13.2.1 Fedora 40 (Clang) Kernel: Depends on container host Compiler: clang 18.1.6 Fedora 40 Kernel: Depends on container host Compiler: gcc 14.1.1 openSUSE Leap 15 Kernel: 5.4.0-167-generic Compiler: gcc 7.5.0 RHEL8 Kernel: 5.4.0-167-generic Compiler: gcc 8.5.0 20210514 (Red Hat 8.5.0-20) RHEL9 Kernel: Depends on container host Compiler: gcc 11.4.1 Ubuntu 22.04 Kernel: 5.4.0-167-generic Compiler: gcc 11.4.0 Ubuntu 24.04 Kernel: 5.4.0-167-generic Compiler: gcc 13.2.0 To view detailed results, visit: https://lab.dpdk.org/results/dashboard/patchsets/30373/ UNH-IOL DPDK Community Lab To manage your email subscriptions, visit: https://lab.dpdk.org/results/dashboard/preferences/subscriptions/