From mboxrd@z Thu Jan  1 00:00:00 1970
Return-Path: <test-report-bounces@dpdk.org>
Received: from mails.dpdk.org (mails.dpdk.org [217.70.189.124])
	by inbox.dpdk.org (Postfix) with ESMTP id 908064554D
	for <public@inbox.dpdk.org>; Tue,  2 Jul 2024 16:16:29 +0200 (CEST)
Received: from mails.dpdk.org (localhost [127.0.0.1])
	by mails.dpdk.org (Postfix) with ESMTP id 8DE02402B1;
	Tue,  2 Jul 2024 16:16:29 +0200 (CEST)
Received: from mail-pg1-f226.google.com (mail-pg1-f226.google.com
 [209.85.215.226])
 by mails.dpdk.org (Postfix) with ESMTP id D1C77402AD
 for <test-report@dpdk.org>; Tue,  2 Jul 2024 16:16:28 +0200 (CEST)
Received: by mail-pg1-f226.google.com with SMTP id
 41be03b00d2f7-718354c17e4so2580780a12.1
 for <test-report@dpdk.org>; Tue, 02 Jul 2024 07:16:28 -0700 (PDT)
DKIM-Signature: v=1; a=rsa-sha256; c=relaxed/relaxed;
 d=iol.unh.edu; s=unh-iol; t=1719929788; x=1720534588; darn=dpdk.org;
 h=references:in-reply-to:cc:to:from:subject:message-id:date:from:to
 :cc:subject:date:message-id:reply-to;
 bh=48XAbChuw31P2JSq63KyjKyDldspqjfOvUU7dyyngpw=;
 b=UIzQEt0CgUALvC4YYgTcgV99a6qeHFSMctuso28pEfWsGzj4ywD6wyjir5ZzzTTS5j
 WdKLVlTMoyAwJgzzcws4y/3f04Stfwfq+Zeczs16QbHHUuLsD02h1ySoxXGq/mNY+nHo
 mrUpx2GfBvrEGvs3G0ccafB1O1vMv38gPObzg=
X-Google-DKIM-Signature: v=1; a=rsa-sha256; c=relaxed/relaxed;
 d=1e100.net; s=20230601; t=1719929788; x=1720534588;
 h=references:in-reply-to:cc:to:from:subject:message-id:date
 :x-gm-message-state:from:to:cc:subject:date:message-id:reply-to;
 bh=48XAbChuw31P2JSq63KyjKyDldspqjfOvUU7dyyngpw=;
 b=a4h5ZGDttwPSps00Nx9xYtX2IF+XYJB6yvklnjzFaCFlN1lch0hXqzB/oK4QwrmolE
 S46kTxHK8mAX3nzCkrfVyHiJG1qu8lk/qGlNMrSqfMWHJO6DZDempgKph3fU94iMguC+
 qUdz3U30ld+zuheVP71Xa4hKQckQ3BW3QYLqFlfvtVJZ6Lw9/3EE3Gfv76w8NuUGXBnb
 eLBjU2Xx4ndpEsTkMa1imQOGuoy/N1lyw2SM+rZvvOOmLpT14LTlrZ3BOsgvf4p6cRBl
 6kE8+ARt9ZjmfRbVzlBq3IX4E/uB14i4erXsQHrS0SHrEtWYrVjacgB3VbBRLHbgIH+f
 J4HA==
X-Gm-Message-State: AOJu0YyZvRtwjVFmOvsnBeEWNRusLzDxdT1mkyGHN6Y6PmW14gtS67+M
 OG+AYY5qZz1R2H/5gj7DDNwTprdp+/T7WZb7phhHuUoV4ekFJDC5NvYQQE9HwTQ+fvTY36Q44xN
 ZZ/jNyB14+J9Q1DLHRhWN/3LlXyGZ4IeaCmIefZjF1inxfGDTtE1A2nFs
X-Google-Smtp-Source: AGHT+IGPKT6aVAsPZk7RPKD4ZblnCdVd8tMmm4dE/SrIVRHBAgiZ8lFMI/0X3p1t3ZAIIJSzO4mPq4PXkHrn
X-Received: by 2002:a05:6a21:32a0:b0:1be:c4b9:c222 with SMTP id
 adf61e73a8af0-1bef611dc8fmr8728773637.11.1719929787978; 
 Tue, 02 Jul 2024 07:16:27 -0700 (PDT)
Received: from postal.iol.unh.edu (postal.iol.unh.edu.
 [2606:4100:3880:1234::84]) by smtp-relay.gmail.com with ESMTPS id
 d2e1a72fcca58-708014123aesm353285b3a.9.2024.07.02.07.16.27
 (version=TLS1_2 cipher=ECDHE-ECDSA-AES128-GCM-SHA256 bits=128/128);
 Tue, 02 Jul 2024 07:16:27 -0700 (PDT)
X-Relaying-Domain: iol.unh.edu
Date: Tue, 02 Jul 2024 07:16:27 -0700 (PDT)
Message-ID: <66840bbb.050a0220.53c13.a4bdSMTPIN_ADDED_MISSING@mx.google.com>
Received: from [172.21.0.6] (unknown [172.18.0.240])
 by postal.iol.unh.edu (Postfix) with ESMTP id 30ADA60526E2;
 Tue,  2 Jul 2024 10:16:27 -0400 (EDT)
Subject: |SUCCESS| pw141992-141993 [PATCH] [2/2] crypto/ionic: fix sign exten
From: dpdklab@iol.unh.edu
To: Test Report <test-report@dpdk.org>
Cc: dpdk-test-reports@iol.unh.edu
In-Reply-To: <20240701152250.46978-2-andrew.boyer@amd.com>
References: <20240701152250.46978-2-andrew.boyer@amd.com>
Content-Type: text/plain
X-BeenThere: test-report@dpdk.org
X-Mailman-Version: 2.1.29
Precedence: list
List-Id: automatic DPDK test reports <test-report.dpdk.org>
List-Unsubscribe: <https://mails.dpdk.org/options/test-report>,
 <mailto:test-report-request@dpdk.org?subject=unsubscribe>
List-Archive: <http://mails.dpdk.org/archives/test-report/>
List-Post: <mailto:test-report@dpdk.org>
List-Help: <mailto:test-report-request@dpdk.org?subject=help>
List-Subscribe: <https://mails.dpdk.org/listinfo/test-report>,
 <mailto:test-report-request@dpdk.org?subject=subscribe>
Errors-To: test-report-bounces@dpdk.org

Test-Label: iol-sample-apps-testing
Test-Status: SUCCESS
http://dpdk.org/patch/141993

_Testing PASS_

Submitter: Andrew Boyer <Andrew.Boyer@amd.com>
Date: Monday, July 01 2024 15:22:50 
DPDK git baseline: Repo:dpdk
  Branch: master
  CommitID:3b80379078a1f7c09b8d0ece24442c8ff2e2c67c

141992-141993 --> testing pass

Test environment and result as below:

+--------------------+----------------------+----------------------+
|    Environment     | compressdev_zlib_pmd | dpdk_fips_validation |
+====================+======================+======================+
| Ubuntu 22.04       | PASS                 | SKIPPED              |
+--------------------+----------------------+----------------------+
| Ubuntu 22.04 (ARM) | PASS                 | SKIPPED              |
+--------------------+----------------------+----------------------+
| Ubuntu 20.04       | SKIPPED              | PASS                 |
+--------------------+----------------------+----------------------+


Ubuntu 22.04
	Kernel: 5.15.0-100-generic
	Compiler: gcc gcc (Ubuntu 11.4.0-1ubuntu1~22.04) 11.4.0

Ubuntu 22.04 (ARM)
	Kernel: 5.15.0-97-generic
	Compiler: gcc gcc (Ubuntu 11.4.0-1ubuntu1~22.04) 11.4.0

Ubuntu 20.04
	Kernel: 5.4.0-167-generic
	Compiler: gcc 9.4.0-1ubuntu1~20.04.1

To view detailed results, visit:
https://lab.dpdk.org/results/dashboard/patchsets/30360/

UNH-IOL DPDK Community Lab

To manage your email subscriptions, visit: 
https://lab.dpdk.org/results/dashboard/preferences/subscriptions/