From mboxrd@z Thu Jan  1 00:00:00 1970
Return-Path: <test-report-bounces@dpdk.org>
Received: from mails.dpdk.org (mails.dpdk.org [217.70.189.124])
	by inbox.dpdk.org (Postfix) with ESMTP id 22B5F4554D
	for <public@inbox.dpdk.org>; Tue,  2 Jul 2024 16:31:37 +0200 (CEST)
Received: from mails.dpdk.org (localhost [127.0.0.1])
	by mails.dpdk.org (Postfix) with ESMTP id 21054402B1;
	Tue,  2 Jul 2024 16:31:37 +0200 (CEST)
Received: from mail-io1-f97.google.com (mail-io1-f97.google.com
 [209.85.166.97]) by mails.dpdk.org (Postfix) with ESMTP id CEE53402AD
 for <test-report@dpdk.org>; Tue,  2 Jul 2024 16:31:35 +0200 (CEST)
Received: by mail-io1-f97.google.com with SMTP id
 ca18e2360f4ac-7f3cd2c0a79so149430939f.1
 for <test-report@dpdk.org>; Tue, 02 Jul 2024 07:31:35 -0700 (PDT)
DKIM-Signature: v=1; a=rsa-sha256; c=relaxed/relaxed;
 d=iol.unh.edu; s=unh-iol; t=1719930695; x=1720535495; darn=dpdk.org;
 h=references:in-reply-to:cc:to:from:subject:message-id:date:from:to
 :cc:subject:date:message-id:reply-to;
 bh=h6F+NmfBQEuSYenI+QN4Uvq0Xu/nZWLf6DN0yxkWVjg=;
 b=EaOya7uAARex5h18trUnxsSrxZWEDa6Ib0csSNo6aDwF/Kz9kO1eKezc1AUGB6Xbw5
 W3N/ahBip/Pt0Knm8vjde/ccZt1tVyWIrQZiv7EhpplSEIY1/gOnjFpGTfUxwsapBpiz
 9sr8xFNS4jZyMfnPJce0yOa9FwORC+dYHtj5c=
X-Google-DKIM-Signature: v=1; a=rsa-sha256; c=relaxed/relaxed;
 d=1e100.net; s=20230601; t=1719930695; x=1720535495;
 h=references:in-reply-to:cc:to:from:subject:message-id:date
 :x-gm-message-state:from:to:cc:subject:date:message-id:reply-to;
 bh=h6F+NmfBQEuSYenI+QN4Uvq0Xu/nZWLf6DN0yxkWVjg=;
 b=DUwcTtfjRrPuRmifxW/zb+DH9gAl2lbuCd5u24kmLO4gunnEOq7+8+Fq5RwPMPUS0A
 dcTQTpAqJ2re75CKIcCquhy2pOekfVBqPbUTn27D8W9bz542X6kdYfE1U3mANlt1a/wz
 3lDzxO0P2kHD0u7gItFnfBLP4cJiMWk+9krTE+TO7GVwn2Jv3xxzM2H9y0gZO63JO1nJ
 VKo6S8d49uQbkJa70h2xN2ubHL5BMI7eXn7DFkiIpAvTzha5V35Pg8d/eklHoSqNXxRv
 I8ROD1FiCFSeZMmb5rC4KvqubOQR/FE/xRPfxNxscscP4gVxykWU0ZF6bNx3dNxbjZBF
 gZwA==
X-Gm-Message-State: AOJu0Yx1PiJCm84lbIF6sClQvWNi25W7uYErtPPG8h+ThHQjdKwcwVb5
 tP/2TnuKe3ag2OI/3Wu3vyrjA1vCsBHWiW7vrR3/OJwGPKY6AkMS4vK4+c8D32kM7he1eugGrh4
 YwtUlQXgL4zYE6IDDpf1ItPo/ANzUD0V8vxjk5W7ugcPCXUA32iHqIiq3
X-Google-Smtp-Source: AGHT+IHl/gEM3339ZY93Wg4UC/vAEC8YSFnkOGdALoltyxJmkwi6+5uPPvd6u791mMGB+DXpEAIpZyV/jteh
X-Received: by 2002:a05:6602:349:b0:7eb:cba1:b19e with SMTP id
 ca18e2360f4ac-7f62ee0d9b4mr1084536039f.8.1719930695222; 
 Tue, 02 Jul 2024 07:31:35 -0700 (PDT)
Received: from postal.iol.unh.edu (postal.iol.unh.edu.
 [2606:4100:3880:1234::84]) by smtp-relay.gmail.com with ESMTPS id
 8926c6da1cb9f-4bb73f1e729sm234313173.43.2024.07.02.07.31.35
 (version=TLS1_2 cipher=ECDHE-ECDSA-AES128-GCM-SHA256 bits=128/128);
 Tue, 02 Jul 2024 07:31:35 -0700 (PDT)
X-Relaying-Domain: iol.unh.edu
Date: Tue, 02 Jul 2024 07:31:35 -0700 (PDT)
Message-ID: <66840f47.050a0220.ac5ee.1e5cSMTPIN_ADDED_MISSING@mx.google.com>
Received: from [172.21.0.7] (unknown [172.18.0.240])
 by postal.iol.unh.edu (Postfix) with ESMTP id B8D4860526E2;
 Tue,  2 Jul 2024 10:31:34 -0400 (EDT)
Subject: |PENDING| pw142010-142011 [PATCH] [v6,2/2] bus/pci: fix secondary pr
From: dpdklab@iol.unh.edu
To: Test Report <test-report@dpdk.org>
Cc: dpdk-test-reports@iol.unh.edu
In-Reply-To: <20240702074007.1547-3-chaoyong.he@corigine.com>
References: <20240702074007.1547-3-chaoyong.he@corigine.com>
Content-Type: text/plain
X-BeenThere: test-report@dpdk.org
X-Mailman-Version: 2.1.29
Precedence: list
List-Id: automatic DPDK test reports <test-report.dpdk.org>
List-Unsubscribe: <https://mails.dpdk.org/options/test-report>,
 <mailto:test-report-request@dpdk.org?subject=unsubscribe>
List-Archive: <http://mails.dpdk.org/archives/test-report/>
List-Post: <mailto:test-report@dpdk.org>
List-Help: <mailto:test-report-request@dpdk.org?subject=help>
List-Subscribe: <https://mails.dpdk.org/listinfo/test-report>,
 <mailto:test-report-request@dpdk.org?subject=subscribe>
Errors-To: test-report-bounces@dpdk.org

Test-Label: iol-compile-amd64-testing
Test-Status: PENDING
http://dpdk.org/patch/142011

_Testing pending_

Submitter: Chaoyong He <chaoyong.he@corigine.com>
Date: Tuesday, July 02 2024 07:40:07 
DPDK git baseline: Repo:dpdk
  Branch: master
  CommitID:c15902587b538ff02cfb0fbb4dd481f1503d936b

142010-142011 --> testing pending

Test environment and result as below:

+---------------------+--------------------+----------------------+-------------------+
|     Environment     | dpdk_meson_compile | dpdk_mingw64_compile | dpdk_msvc_compile |
+=====================+====================+======================+===================+
| Windows Server 2022 | PASS               | PASS                 | PASS              |
+---------------------+--------------------+----------------------+-------------------+
| FreeBSD 13.3        | PASS               | SKIPPED              | SKIPPED           |
+---------------------+--------------------+----------------------+-------------------+
| FreeBSD 14.1        | PASS               | SKIPPED              | SKIPPED           |
+---------------------+--------------------+----------------------+-------------------+
| Windows Server 2019 | PEND               | PASS                 | SKIPPED           |
+---------------------+--------------------+----------------------+-------------------+


Windows Server 2022
	Kernel: 10.0.20348.2031
	Compiler: clang 15.0.7, gcc 8.1.0 (MinGW), and MSVC VS 17.9

FreeBSD 13.3
	Kernel: 13.3-RELEASE-p1
	Compiler: clang 17.0.6

FreeBSD 14.1
	Kernel: 14.1
	Compiler: clang 18.1.5

Windows Server 2019
	Kernel: 10.0.17763
	Compiler: clang 14.0 and gcc 8.1.0 (MinGW)

To view detailed results, visit:
https://lab.dpdk.org/results/dashboard/patchsets/30370/

UNH-IOL DPDK Community Lab

To manage your email subscriptions, visit: 
https://lab.dpdk.org/results/dashboard/preferences/subscriptions/