From mboxrd@z Thu Jan  1 00:00:00 1970
Return-Path: <test-report-bounces@dpdk.org>
Received: from mails.dpdk.org (mails.dpdk.org [217.70.189.124])
	by inbox.dpdk.org (Postfix) with ESMTP id 5F2FE4554D
	for <public@inbox.dpdk.org>; Tue,  2 Jul 2024 17:16:43 +0200 (CEST)
Received: from mails.dpdk.org (localhost [127.0.0.1])
	by mails.dpdk.org (Postfix) with ESMTP id 5CB2A40A6F;
	Tue,  2 Jul 2024 17:16:43 +0200 (CEST)
Received: from mail-qv1-f100.google.com (mail-qv1-f100.google.com
 [209.85.219.100])
 by mails.dpdk.org (Postfix) with ESMTP id D4F9E402AD
 for <test-report@dpdk.org>; Tue,  2 Jul 2024 17:16:41 +0200 (CEST)
Received: by mail-qv1-f100.google.com with SMTP id
 6a1803df08f44-6b4fced5999so20131696d6.2
 for <test-report@dpdk.org>; Tue, 02 Jul 2024 08:16:41 -0700 (PDT)
DKIM-Signature: v=1; a=rsa-sha256; c=relaxed/relaxed;
 d=iol.unh.edu; s=unh-iol; t=1719933401; x=1720538201; darn=dpdk.org;
 h=references:in-reply-to:cc:to:from:subject:message-id:date:from:to
 :cc:subject:date:message-id:reply-to;
 bh=X37rxqvnY0k+C9H5rOd3OGNpKDgzoq1I0xUQsGT/1yQ=;
 b=SvXwzgDG2QcSFBfhqndc4kGVm3nU+8/2LCZ0mSIt6A1TYb33tsuxRXGU3uee6AnGWh
 HBnlKBi2bLirKdr33Q+G2irF1dVUKq1VsFG8/tw+c66gtuAoI5eaKJvQO/4LiltyYeC5
 UKPVvyu4637xcTkKeffiWyEEXa7f1LKv5Ai0I=
X-Google-DKIM-Signature: v=1; a=rsa-sha256; c=relaxed/relaxed;
 d=1e100.net; s=20230601; t=1719933401; x=1720538201;
 h=references:in-reply-to:cc:to:from:subject:message-id:date
 :x-gm-message-state:from:to:cc:subject:date:message-id:reply-to;
 bh=X37rxqvnY0k+C9H5rOd3OGNpKDgzoq1I0xUQsGT/1yQ=;
 b=AYp+BR2Ld3b+UfRLyyci5d1ELRUwUqA5QTxL8R9hQCSANJaQa3cLQnKGYdqQeGHlX2
 v1IT2InLs4droM+B9LuCRmeg32FyvLnK7WQ0qiAxnyHt6e5TOPr4LXyRtxmb/BQP22gg
 HsZvUinuo4VklToY+s0P1W9w/K20++grkSAIj/34M97VKxmvCa31LeqTX5DXDXvtnZwr
 gTo/jfmbkuX6eJ/7ENZN+fkJ2yw8gPWrvlRzEG1i4ssUNvWqSMXVLm1uZTCJUNCy0Gys
 37os2NkRwx0BRTcgrgsoQv3BcTeJfsj4DLhFCVhIB6tDWrASD0fAIcURy1z2667+S7pQ
 JcLQ==
X-Gm-Message-State: AOJu0YzjOdNEjP+jCAe9NtpHIrVznnRNUC10jsX2VXt1g99FV5UvnX7p
 Blw7eBo3CgLNYooQllF5l+vJkM20Axdj2hxZDVbpeVS4d8K5I77YdIKjy6sAKeQRltrjppQwspX
 dKnvTrNFldHhBEWLP76etirPtD/hX9tccipg0bsRLlSPSzJeQPp8V+6C9
X-Google-Smtp-Source: AGHT+IHakTryK80kX/JUdlwsN7x0tBvRTlTZn9DheQ6f11UB8TXXDOzU95ZX1dICj4Qm9dlbPVtHsDADC2cd
X-Received: by 2002:a05:6214:c45:b0:6b0:7800:dd06 with SMTP id
 6a1803df08f44-6b5b71a0662mr111763386d6.58.1719933401138; 
 Tue, 02 Jul 2024 08:16:41 -0700 (PDT)
Received: from postal.iol.unh.edu (postal.iol.unh.edu.
 [2606:4100:3880:1234::84]) by smtp-relay.gmail.com with ESMTPS id
 6a1803df08f44-6b59e5dd781sm4385646d6.51.2024.07.02.08.16.41
 (version=TLS1_2 cipher=ECDHE-ECDSA-AES128-GCM-SHA256 bits=128/128);
 Tue, 02 Jul 2024 08:16:41 -0700 (PDT)
X-Relaying-Domain: iol.unh.edu
Date: Tue, 02 Jul 2024 08:16:41 -0700 (PDT)
Message-ID: <668419d9.d40a0220.9b808.19c9SMTPIN_ADDED_MISSING@mx.google.com>
Received: from [172.21.0.8] (unknown [172.18.0.240])
 by postal.iol.unh.edu (Postfix) with ESMTP id CFE6860526E2;
 Tue,  2 Jul 2024 11:16:40 -0400 (EDT)
Subject: |SUCCESS| pw142010-142011 [PATCH] [v6,2/2] bus/pci: fix secondary pr
From: dpdklab@iol.unh.edu
To: Test Report <test-report@dpdk.org>
Cc: dpdk-test-reports@iol.unh.edu
In-Reply-To: <20240702074007.1547-3-chaoyong.he@corigine.com>
References: <20240702074007.1547-3-chaoyong.he@corigine.com>
Content-Type: text/plain
X-BeenThere: test-report@dpdk.org
X-Mailman-Version: 2.1.29
Precedence: list
List-Id: automatic DPDK test reports <test-report.dpdk.org>
List-Unsubscribe: <https://mails.dpdk.org/options/test-report>,
 <mailto:test-report-request@dpdk.org?subject=unsubscribe>
List-Archive: <http://mails.dpdk.org/archives/test-report/>
List-Post: <mailto:test-report@dpdk.org>
List-Help: <mailto:test-report-request@dpdk.org?subject=help>
List-Subscribe: <https://mails.dpdk.org/listinfo/test-report>,
 <mailto:test-report-request@dpdk.org?subject=subscribe>
Errors-To: test-report-bounces@dpdk.org

Test-Label: iol-abi-testing
Test-Status: SUCCESS
http://dpdk.org/patch/142011

_Testing PASS_

Submitter: Chaoyong He <chaoyong.he@corigine.com>
Date: Tuesday, July 02 2024 07:40:07 
DPDK git baseline: Repo:dpdk
  Branch: master
  CommitID:c15902587b538ff02cfb0fbb4dd481f1503d936b

142010-142011 --> testing pass

Test environment and result as below:

+-------------------+----------+
|    Environment    | abi_test |
+===================+==========+
| Debian Bullseye   | PASS     |
+-------------------+----------+
| CentOS Stream 8   | PASS     |
+-------------------+----------+
| CentOS Stream 9   | PASS     |
+-------------------+----------+
| Debian 12         | PASS     |
+-------------------+----------+
| Fedora 38 (Clang) | PASS     |
+-------------------+----------+
| Fedora 38         | PASS     |
+-------------------+----------+
| Fedora 40 (Clang) | PASS     |
+-------------------+----------+
| Fedora 39         | PASS     |
+-------------------+----------+
| Fedora 39 (Clang) | PASS     |
+-------------------+----------+
| Fedora 37         | PASS     |
+-------------------+----------+
| Fedora 40         | PASS     |
+-------------------+----------+
| openSUSE Leap 15  | PASS     |
+-------------------+----------+
| Ubuntu 24.04      | PASS     |
+-------------------+----------+
| RHEL8             | PASS     |
+-------------------+----------+
| Ubuntu 22.04      | PASS     |
+-------------------+----------+
| RHEL9             | PASS     |
+-------------------+----------+


Debian Bullseye
	Kernel: 5.4.0-167-generic
	Compiler: gcc 10.2.1-6

CentOS Stream 8
	Kernel: 5.4.0-167-generic
	Compiler: gcc 8.5.0 20210514

CentOS Stream 9
	Kernel: 5.4.0-167-generic
	Compiler: gcc 11.4.1 20230605

Debian 12
	Kernel: Container Host Kernel
	Compiler: gcc 12.2.0

Fedora 38 (Clang)
	Kernel: Depends on container host
	Compiler: clang 16.0.6

Fedora 38
	Kernel: Depends on container host
	Compiler: gcc 13.2.1

Fedora 40 (Clang)
	Kernel: Depends on container host
	Compiler: clang 18.1.6

Fedora 39
	Kernel: Depends on container host
	Compiler: gcc 13.2.1

Fedora 39 (Clang)
	Kernel: Depends on container host
	Compiler: clang 17.0.6

Fedora 37
	Kernel: Depends on container host system
	Compiler: gcc 12.3.1

Fedora 40
	Kernel: Depends on container host
	Compiler: gcc 14.1.1

openSUSE Leap 15
	Kernel: 5.4.0-167-generic
	Compiler: gcc 7.5.0

Ubuntu 24.04
	Kernel: 5.4.0-167-generic
	Compiler: gcc 13.2.0

RHEL8
	Kernel: 5.4.0-167-generic
	Compiler: gcc 8.5.0 20210514 (Red Hat 8.5.0-20)

Ubuntu 22.04
	Kernel: 5.4.0-167-generic
	Compiler: gcc 11.4.0

RHEL9
	Kernel: Depends on container host
	Compiler: gcc 11.4.1

To view detailed results, visit:
https://lab.dpdk.org/results/dashboard/patchsets/30370/

UNH-IOL DPDK Community Lab

To manage your email subscriptions, visit: 
https://lab.dpdk.org/results/dashboard/preferences/subscriptions/