From mboxrd@z Thu Jan  1 00:00:00 1970
Return-Path: <test-report-bounces@dpdk.org>
Received: from mails.dpdk.org (mails.dpdk.org [217.70.189.124])
	by inbox.dpdk.org (Postfix) with ESMTP id 506D145555
	for <public@inbox.dpdk.org>; Wed,  3 Jul 2024 07:50:49 +0200 (CEST)
Received: from mails.dpdk.org (localhost [127.0.0.1])
	by mails.dpdk.org (Postfix) with ESMTP id 2BD6440E22;
	Wed,  3 Jul 2024 07:50:49 +0200 (CEST)
Received: from mail-yw1-f228.google.com (mail-yw1-f228.google.com
 [209.85.128.228])
 by mails.dpdk.org (Postfix) with ESMTP id 4049D4003C
 for <test-report@dpdk.org>; Wed,  3 Jul 2024 07:50:48 +0200 (CEST)
Received: by mail-yw1-f228.google.com with SMTP id
 00721157ae682-643f3130ed1so44882097b3.2
 for <test-report@dpdk.org>; Tue, 02 Jul 2024 22:50:48 -0700 (PDT)
DKIM-Signature: v=1; a=rsa-sha256; c=relaxed/relaxed;
 d=iol.unh.edu; s=unh-iol; t=1719985847; x=1720590647; darn=dpdk.org;
 h=references:in-reply-to:cc:to:from:subject:message-id:date:from:to
 :cc:subject:date:message-id:reply-to;
 bh=hWD6F0VawBTkSS7zt++GrOs12+ovlS4KlyjEb3SYBMM=;
 b=X1gcMqWnEff7uxrGR+BmItBMA9Gi90CvqAL3qsZkhUScoUM3AP74Pf0knLs+3pL3bS
 IkMOjOexkxOJBLNovn74KvEoWi5lC9vmCNSlzNGg0CAujuD6XiT2dDnuvSPD2/hYGzWt
 YeaMD4K2D05xi0/o4iowRrls8MkYdBFmWoBbY=
X-Google-DKIM-Signature: v=1; a=rsa-sha256; c=relaxed/relaxed;
 d=1e100.net; s=20230601; t=1719985847; x=1720590647;
 h=references:in-reply-to:cc:to:from:subject:message-id:date
 :x-gm-message-state:from:to:cc:subject:date:message-id:reply-to;
 bh=hWD6F0VawBTkSS7zt++GrOs12+ovlS4KlyjEb3SYBMM=;
 b=LZ7/xT7TUgujcv9jD55MVjRqv/BNn4KhKL7MhsgKMCneh4i4FuhFH2cwO6CfQ+7Oi8
 VpQjglgoXqAhSET+PDwwOhsasM/9E7n4OHYhtIpuCcKosxUI1/naAzu2667Hg5vFREPh
 JEDn3G7Wa31+uxRowh0t0umQWBMzM2T7ZhWwW6Mt8Zzstvr0sDiNHw9lfqWWaA9lsWeB
 6n+irwSSRWRxavRL74N1KfuTXMSjFIxCjDD+U9+nlK1+dG6BmJnN8ZdfAhW4A5yqwPAG
 32hdhH0Lpg6E+GFe9yHDMdWSPeJr4lxXXyOsRXOSmQd8dqq00FVG3E3d5b/f7XoG8/Y1
 cNNA==
X-Gm-Message-State: AOJu0YyUsu4rlPJm/Rfwg3cH4q2itWRbJEexJ2abmH8B6+9sG3co3Cz+
 MPBTPuDz5V+zMl7+7XjslVudYE470IUNjZ2CWxk9cufSpGqqq5paxzXofvSLex3Ex8ZQCs5Y+vi
 RBNvzoiRxsIVLKP7RK0jSHTV+/Lh3o1gBHB1UWPco
X-Google-Smtp-Source: AGHT+IHeFUlqq0FlvlkqM6Ld7ssnbpnRux9TqBwRDejzFKV1yKL80RNcZIGvnnEr1AO+X+FmAsVYmTuLi4dx
X-Received: by 2002:a81:ad0b:0:b0:651:6888:a018 with SMTP id
 00721157ae682-6516897ecc2mr10136637b3.26.1719985847520; 
 Tue, 02 Jul 2024 22:50:47 -0700 (PDT)
Received: from postal.iol.unh.edu (postal.iol.unh.edu. [132.177.123.84])
 by smtp-relay.gmail.com with ESMTPS id
 00721157ae682-64a9be3a8e3sm1927737b3.54.2024.07.02.22.50.47
 (version=TLS1_2 cipher=ECDHE-ECDSA-AES128-GCM-SHA256 bits=128/128);
 Tue, 02 Jul 2024 22:50:47 -0700 (PDT)
X-Relaying-Domain: iol.unh.edu
Date: Tue, 02 Jul 2024 22:50:47 -0700 (PDT)
Message-ID: <6684e6b7.050a0220.fa31e.e34cSMTPIN_ADDED_MISSING@mx.google.com>
Received: from [172.21.0.6] (unknown [172.18.0.240])
 by postal.iol.unh.edu (Postfix) with ESMTP id 128CF60526E2;
 Wed,  3 Jul 2024 01:50:47 -0400 (EDT)
Subject: |PENDING| pw142027-142041 [PATCH] [15/15] net/ena: upgrade driver ve
From: dpdklab@iol.unh.edu
To: Test Report <test-report@dpdk.org>
Cc: dpdk-test-reports@iol.unh.edu
In-Reply-To: <20240702144626.14545-16-shaibran@amazon.com>
References: <20240702144626.14545-16-shaibran@amazon.com>
Content-Type: text/plain
X-BeenThere: test-report@dpdk.org
X-Mailman-Version: 2.1.29
Precedence: list
List-Id: automatic DPDK test reports <test-report.dpdk.org>
List-Unsubscribe: <https://mails.dpdk.org/options/test-report>,
 <mailto:test-report-request@dpdk.org?subject=unsubscribe>
List-Archive: <http://mails.dpdk.org/archives/test-report/>
List-Post: <mailto:test-report@dpdk.org>
List-Help: <mailto:test-report-request@dpdk.org?subject=help>
List-Subscribe: <https://mails.dpdk.org/listinfo/test-report>,
 <mailto:test-report-request@dpdk.org?subject=subscribe>
Errors-To: test-report-bounces@dpdk.org

Test-Label: iol-compile-arm64-testing
Test-Status: PENDING
http://dpdk.org/patch/142041

_Testing pending_

Submitter: Brandes, Shai <shaibran@amazon.com>
Date: Tuesday, July 02 2024 14:46:26 
DPDK git baseline: Repo:dpdk
  Branch: master
  CommitID:fbba6db3640f9f623c29c452e1a6b057073e81d2

142027-142041 --> testing pending

Test environment and result as below:

+----------------------------------------+--------------------+
|              Environment               | dpdk_meson_compile |
+========================================+====================+
| RHEL9 (ARM)                            | PASS               |
+----------------------------------------+--------------------+
| Ubuntu 20.04 ARM GCC Cross Compile     | PEND               |
+----------------------------------------+--------------------+
| Ubuntu 20.04 ARM SVE                   | PASS               |
+----------------------------------------+--------------------+
| Debian 12 with MUSDK                   | PASS               |
+----------------------------------------+--------------------+
| Fedora 37 (ARM)                        | PASS               |
+----------------------------------------+--------------------+
| Fedora 38 (ARM)                        | PASS               |
+----------------------------------------+--------------------+
| Fedora 38 (ARM Clang)                  | PEND               |
+----------------------------------------+--------------------+
| Fedora 39 (ARM)                        | PASS               |
+----------------------------------------+--------------------+
| Fedora 39 (ARM Clang)                  | PEND               |
+----------------------------------------+--------------------+
| Fedora 40 (ARM)                        | PASS               |
+----------------------------------------+--------------------+
| Fedora 40 (ARM Clang)                  | PEND               |
+----------------------------------------+--------------------+
| Ubuntu 20.04 (ARM)                     | PASS               |
+----------------------------------------+--------------------+
| Ubuntu 22.04 (ARM)                     | PASS               |
+----------------------------------------+--------------------+
| Ubuntu 24.04 (ARM)                     | PASS               |
+----------------------------------------+--------------------+
| CentOS Stream 9 (ARM)                  | PASS               |
+----------------------------------------+--------------------+
| Debian 11 (Buster) (ARM)               | PASS               |
+----------------------------------------+--------------------+
| Debian 12 (arm)                        | PASS               |
+----------------------------------------+--------------------+
| Ubuntu 20.04 ARM Clang Cross Compile   | PEND               |
+----------------------------------------+--------------------+
| Ubuntu 20.04 aarch32 GCC Cross Compile | PEND               |
+----------------------------------------+--------------------+


RHEL9 (ARM)
	Kernel: Depends on container host
	Compiler: gcc 11.4.1

Ubuntu 20.04 ARM GCC Cross Compile
	Kernel: 5.4.0-167-generic
	Compiler: aarch64-linux-gnu-gcc (Ubuntu 9.4.0-1ubuntu1~20.04.2) 9.4.0

Ubuntu 20.04 ARM SVE
	Kernel: 5.4.0-167-generic
	Compiler: gcc (Ubuntu 10.5.0-1ubuntu1~20.04) 10.5.0

Debian 12 with MUSDK
	Kernel: Container Host Kernel
	Compiler: gcc 12.2.0

Fedora 37 (ARM)
	Kernel: Depends on container host
	Compiler: gcc 12.3.1

Fedora 38 (ARM)
	Kernel: Depends on container host
	Compiler: gcc 13.2.1

Fedora 38 (ARM Clang)
	Kernel: Depends on container host
	Compiler: clang 16.0.6

Fedora 39 (ARM)
	Kernel: Depends on container host
	Compiler: gcc 13.2.1

Fedora 39 (ARM Clang)
	Kernel: Depends on container host
	Compiler: clang 17.0.6

Fedora 40 (ARM)
	Kernel: Depends on container host
	Compiler: gcc 14.1.1

Fedora 40 (ARM Clang)
	Kernel: Depends on container host
	Compiler: clang 18.1.6

Ubuntu 20.04 (ARM)
	Kernel: Container Host Kernel
	Compiler: gcc 9.4.0

Ubuntu 22.04 (ARM)
	Kernel: Container Host Kernel
	Compiler: gcc 11.4.0

Ubuntu 24.04 (ARM)
	Kernel: 5.4.0-167-generic
	Compiler: gcc 13.2.0

CentOS Stream 9 (ARM)
	Kernel: Container Host Kernel
	Compiler: gcc 11.4.1

Debian 11 (Buster) (ARM)
	Kernel: Container Host Kernel
	Compiler: gcc 10.2.1

Debian 12 (arm)
	Kernel: Container Host Kernel
	Compiler: gcc 12.2.0

Ubuntu 20.04 ARM Clang Cross Compile
	Kernel: 5.4.0-72-generic
	Compiler: clang 10.0.0-4ubuntu1

Ubuntu 20.04 aarch32 GCC Cross Compile
	Kernel: 5.4.0-167-generic
	Compiler: gcc 9.4.0

To view detailed results, visit:
https://lab.dpdk.org/results/dashboard/patchsets/30381/

UNH-IOL DPDK Community Lab

To manage your email subscriptions, visit: 
https://lab.dpdk.org/results/dashboard/preferences/subscriptions/