From mboxrd@z Thu Jan  1 00:00:00 1970
Return-Path: <test-report-bounces@dpdk.org>
Received: from mails.dpdk.org (mails.dpdk.org [217.70.189.124])
	by inbox.dpdk.org (Postfix) with ESMTP id 4BF9945559
	for <public@inbox.dpdk.org>; Wed,  3 Jul 2024 08:21:06 +0200 (CEST)
Received: from mails.dpdk.org (localhost [127.0.0.1])
	by mails.dpdk.org (Postfix) with ESMTP id 45BDD4025E;
	Wed,  3 Jul 2024 08:21:06 +0200 (CEST)
Received: from mail-qt1-f225.google.com (mail-qt1-f225.google.com
 [209.85.160.225])
 by mails.dpdk.org (Postfix) with ESMTP id 3C4264003C
 for <test-report@dpdk.org>; Wed,  3 Jul 2024 08:21:05 +0200 (CEST)
Received: by mail-qt1-f225.google.com with SMTP id
 d75a77b69052e-44636bd6e22so35941901cf.2
 for <test-report@dpdk.org>; Tue, 02 Jul 2024 23:21:05 -0700 (PDT)
DKIM-Signature: v=1; a=rsa-sha256; c=relaxed/relaxed;
 d=iol.unh.edu; s=unh-iol; t=1719987664; x=1720592464; darn=dpdk.org;
 h=references:in-reply-to:cc:to:from:subject:message-id:date:from:to
 :cc:subject:date:message-id:reply-to;
 bh=3EIqcG2iwYUwja7lGCiYTc/XEug8NXHbTOPbYaJdfhw=;
 b=c8VJrX0chZV3lc/LuRJGfiVRPFHqBeIVjwYlguRBNNuH68pGgamwBxNx0Hi9fZ0Kwy
 QT9QE3gvMy8xr2aF3hEAJJc6coCX5BUNnrcSvN3odCEl+p/NulbWz2HC0S05w2LMvQJ5
 KCT7SPwaVu7oNZsj8yuLRXnAp+z7akXh1Eh00=
X-Google-DKIM-Signature: v=1; a=rsa-sha256; c=relaxed/relaxed;
 d=1e100.net; s=20230601; t=1719987664; x=1720592464;
 h=references:in-reply-to:cc:to:from:subject:message-id:date
 :x-gm-message-state:from:to:cc:subject:date:message-id:reply-to;
 bh=3EIqcG2iwYUwja7lGCiYTc/XEug8NXHbTOPbYaJdfhw=;
 b=bSY35kjIiTFxD7n4OsZSwcZOkp/IqmxAbIeN41/pPGmUSyXurw8u/2h0pDCYUYBubA
 Oyyw3uEVS47RqJq8qWpORVbVyFmN0+cDFpNSQzKG8V7A11vTVL42owTzcK0ou/T1fxPo
 U+PBownloc3hq43Wlxwxysroz1Bh0aDh39/inAOvT/jwO3uaoUf+b8dAwPSw4aXTW/xY
 Mr9jNYf2IdxpRkXQeQ7b0/qDuUFkPPNZEvEUXwODe7ecY7fN7ltIA/b7vQRo7g5wjglv
 cocGZcILWDLtu0HQilGLzPAoPQrGihOoPKYhFY2Ru+eVcay6YU6z3LQ8Hxa7FqKtBfxm
 AlMg==
X-Gm-Message-State: AOJu0YwtNJ0ZhwQfcv53HshylN3h6SJoGaLboPFauN5DYxCvYIzJ915J
 l1dXuamYfhzs/eGNM6RvnJsk7ji/QSLjRn+YunOSbvX/E/87wVXjCjMNLdPBxiCeDyhc0l2zJQE
 qxbsvIhoM3Pv8TYykZa4U8Q5OUmbAjrLA4d6I0zWpR0Q23zUgelI6jLy6
X-Google-Smtp-Source: AGHT+IELzin4Y5cT+D+QVOS8Vxc0HL7C9DKmAjwBmVvnTYNstpd0ITqxE+oIedFKmr4WJYlUlVj4k38dMA3U
X-Received: by 2002:ad4:5cab:0:b0:6b4:fea8:6bfc with SMTP id
 6a1803df08f44-6b5b7083fc0mr155946326d6.10.1719987664536; 
 Tue, 02 Jul 2024 23:21:04 -0700 (PDT)
Received: from postal.iol.unh.edu (postal.iol.unh.edu.
 [2606:4100:3880:1234::84]) by smtp-relay.gmail.com with ESMTPS id
 6a1803df08f44-6b59e60c448sm5416356d6.78.2024.07.02.23.21.04
 (version=TLS1_2 cipher=ECDHE-ECDSA-AES128-GCM-SHA256 bits=128/128);
 Tue, 02 Jul 2024 23:21:04 -0700 (PDT)
X-Relaying-Domain: iol.unh.edu
Date: Tue, 02 Jul 2024 23:21:04 -0700 (PDT)
Message-ID: <6684edd0.d40a0220.c8e4.98c6SMTPIN_ADDED_MISSING@mx.google.com>
Received: from [172.21.0.7] (unknown [172.18.0.240])
 by postal.iol.unh.edu (Postfix) with ESMTP id 3343860526E2;
 Wed,  3 Jul 2024 02:21:04 -0400 (EDT)
Subject: |PENDING| pw142027-142041 [PATCH] [15/15] net/ena: upgrade driver ve
From: dpdklab@iol.unh.edu
To: Test Report <test-report@dpdk.org>
Cc: dpdk-test-reports@iol.unh.edu
In-Reply-To: <20240702144626.14545-16-shaibran@amazon.com>
References: <20240702144626.14545-16-shaibran@amazon.com>
Content-Type: text/plain
X-BeenThere: test-report@dpdk.org
X-Mailman-Version: 2.1.29
Precedence: list
List-Id: automatic DPDK test reports <test-report.dpdk.org>
List-Unsubscribe: <https://mails.dpdk.org/options/test-report>,
 <mailto:test-report-request@dpdk.org?subject=unsubscribe>
List-Archive: <http://mails.dpdk.org/archives/test-report/>
List-Post: <mailto:test-report@dpdk.org>
List-Help: <mailto:test-report-request@dpdk.org?subject=help>
List-Subscribe: <https://mails.dpdk.org/listinfo/test-report>,
 <mailto:test-report-request@dpdk.org?subject=subscribe>
Errors-To: test-report-bounces@dpdk.org

Test-Label: iol-unit-amd64-testing
Test-Status: PENDING
http://dpdk.org/patch/142041

_Testing pending_

Submitter: Brandes, Shai <shaibran@amazon.com>
Date: Tuesday, July 02 2024 14:46:26 
DPDK git baseline: Repo:dpdk
  Branch: master
  CommitID:fbba6db3640f9f623c29c452e1a6b057073e81d2

142027-142041 --> testing pending

Test environment and result as below:

+-------------------+----------------+
|    Environment    | dpdk_unit_test |
+===================+================+
| CentOS Stream 8   | PASS           |
+-------------------+----------------+
| Debian Bullseye   | PASS           |
+-------------------+----------------+
| CentOS Stream 9   | PASS           |
+-------------------+----------------+
| Fedora 37         | PASS           |
+-------------------+----------------+
| Fedora 38         | PASS           |
+-------------------+----------------+
| Fedora 38 (Clang) | PASS           |
+-------------------+----------------+
| Fedora 39         | PASS           |
+-------------------+----------------+
| Fedora 39 (Clang) | PASS           |
+-------------------+----------------+
| Fedora 40         | PEND           |
+-------------------+----------------+
| Fedora 40 (Clang) | PASS           |
+-------------------+----------------+
| openSUSE Leap 15  | PEND           |
+-------------------+----------------+
| RHEL8             | PEND           |
+-------------------+----------------+
| RHEL9             | PEND           |
+-------------------+----------------+
| Ubuntu 20.04      | PEND           |
+-------------------+----------------+
| Ubuntu 22.04      | PEND           |
+-------------------+----------------+
| Ubuntu 24.04      | PEND           |
+-------------------+----------------+
| Debian 12         | PEND           |
+-------------------+----------------+


CentOS Stream 8
	Kernel: 5.4.0-167-generic
	Compiler: gcc 8.5.0 20210514

Debian Bullseye
	Kernel: 5.4.0-167-generic
	Compiler: gcc 10.2.1-6

CentOS Stream 9
	Kernel: 5.4.0-167-generic
	Compiler: gcc 11.4.1 20230605

Fedora 37
	Kernel: Depends on container host system
	Compiler: gcc 12.3.1

Fedora 38
	Kernel: Depends on container host
	Compiler: gcc 13.2.1

Fedora 38 (Clang)
	Kernel: Depends on container host
	Compiler: clang 16.0.6

Fedora 39
	Kernel: Depends on container host
	Compiler: gcc 13.2.1

Fedora 39 (Clang)
	Kernel: Depends on container host
	Compiler: clang 17.0.6

Fedora 40
	Kernel: Depends on container host
	Compiler: gcc 14.1.1

Fedora 40 (Clang)
	Kernel: Depends on container host
	Compiler: clang 18.1.6

openSUSE Leap 15
	Kernel: 5.4.0-167-generic
	Compiler: gcc 7.5.0

RHEL8
	Kernel: 5.4.0-167-generic
	Compiler: gcc 8.5.0 20210514 (Red Hat 8.5.0-20)

RHEL9
	Kernel: Depends on container host
	Compiler: gcc 11.4.1

Ubuntu 20.04
	Kernel: 5.4.0-167-generic
	Compiler: gcc 9.4.0-1ubuntu1~20.04.1

Ubuntu 22.04
	Kernel: 5.4.0-167-generic
	Compiler: gcc 11.4.0

Ubuntu 24.04
	Kernel: 5.4.0-167-generic
	Compiler: gcc 13.2.0

Debian 12
	Kernel: Container Host Kernel
	Compiler: gcc 12.2.0

To view detailed results, visit:
https://lab.dpdk.org/results/dashboard/patchsets/30381/

UNH-IOL DPDK Community Lab

To manage your email subscriptions, visit: 
https://lab.dpdk.org/results/dashboard/preferences/subscriptions/