From mboxrd@z Thu Jan  1 00:00:00 1970
Return-Path: <test-report-bounces@dpdk.org>
Received: from mails.dpdk.org (mails.dpdk.org [217.70.189.124])
	by inbox.dpdk.org (Postfix) with ESMTP id D5E5745559
	for <public@inbox.dpdk.org>; Wed,  3 Jul 2024 09:18:41 +0200 (CEST)
Received: from mails.dpdk.org (localhost [127.0.0.1])
	by mails.dpdk.org (Postfix) with ESMTP id D198D4025E;
	Wed,  3 Jul 2024 09:18:41 +0200 (CEST)
Received: from mail-yw1-f227.google.com (mail-yw1-f227.google.com
 [209.85.128.227])
 by mails.dpdk.org (Postfix) with ESMTP id 7690A4003C
 for <test-report@dpdk.org>; Wed,  3 Jul 2024 09:18:40 +0200 (CEST)
Received: by mail-yw1-f227.google.com with SMTP id
 00721157ae682-6439f6cf79dso39608357b3.0
 for <test-report@dpdk.org>; Wed, 03 Jul 2024 00:18:40 -0700 (PDT)
DKIM-Signature: v=1; a=rsa-sha256; c=relaxed/relaxed;
 d=iol.unh.edu; s=unh-iol; t=1719991119; x=1720595919; darn=dpdk.org;
 h=references:in-reply-to:cc:to:from:subject:message-id:date:from:to
 :cc:subject:date:message-id:reply-to;
 bh=x4GoI5rMqaIC6b15gjVkBm5unTfSzfq0ZoL6lcvP+Jc=;
 b=V4ugeQw4Kozwjv06aGOG8mVmlz1B5C3HqindVnGa19xTMEzsVuI3qxqZJQhfejUKZF
 j5GkWqZhWXr8CFFKkrrceFCuPeJbx3XCsJv/0p/qsJ3ZDGFvq7EdS0o+T4EZDg8UlQWY
 5lLct2jMxA1XUhV4S/uT2vKg0edea/JjLN3fM=
X-Google-DKIM-Signature: v=1; a=rsa-sha256; c=relaxed/relaxed;
 d=1e100.net; s=20230601; t=1719991119; x=1720595919;
 h=references:in-reply-to:cc:to:from:subject:message-id:date
 :x-gm-message-state:from:to:cc:subject:date:message-id:reply-to;
 bh=x4GoI5rMqaIC6b15gjVkBm5unTfSzfq0ZoL6lcvP+Jc=;
 b=aPw7iiXRYHQ7INu8QV5yMxWBwaPc3f0HkmiRKuTwdYaqdj8N/IICIhkDNRYRaa8myL
 UBnYRQ6T7tIk1IPB5RNW1MUmhPp00u9YI5QzM5e/YsMQ1XXt7kVsDyT5X8tpiwckvbXx
 mliE8TW/mHduAggw46QhnfMBYAAaUL11EZZ5LPrw2DbfwBDPfdQ/RFPcfPULCkEXiY7m
 dpjUrdmFPI6rkUS72Af7ya3Zhk4omAM6zUXsAEsKWwMsux8os1dExGUHoeaDEAZGqk1W
 rra7YMbbRXsWMHPQ+ezWN3B5w3vjkI654IZXMOfAK+LisU1nZZK6RbFXh6fXd/+so27c
 ufDw==
X-Gm-Message-State: AOJu0Yz+cgywj5WnoLXGmzPl+IlagWm94hs4b1DMlHW819G5uKtgH/T2
 hqRvOeFoZXRFRpe4gBq9QnZqmh6hZbxIhPkmPjvRcKBfnK+4/UTRGDSh02F1l6YXW4F3pVquOTh
 +R3R2E5fxdTOnL4d6DNXgwVM6aGq3G+a6w8TocG3iVbxniE+Mk73dNXZq
X-Google-Smtp-Source: AGHT+IGXySGjsn+04PupAEvd6iWdSp32h79YoJMLIIwyHbBGygx0ekY592Zz6ATJWJBxLK+17E+nVt7MXK5j
X-Received: by 2002:a05:690c:c07:b0:64b:44b4:e1a with SMTP id
 00721157ae682-64c71cd9adfmr146543547b3.26.1719991119723; 
 Wed, 03 Jul 2024 00:18:39 -0700 (PDT)
Received: from postal.iol.unh.edu (postal.iol.unh.edu.
 [2606:4100:3880:1234::84]) by smtp-relay.gmail.com with ESMTPS id
 00721157ae682-64a9a61713dsm1926927b3.28.2024.07.03.00.18.39
 (version=TLS1_2 cipher=ECDHE-ECDSA-AES128-GCM-SHA256 bits=128/128);
 Wed, 03 Jul 2024 00:18:39 -0700 (PDT)
X-Relaying-Domain: iol.unh.edu
Date: Wed, 03 Jul 2024 00:18:39 -0700 (PDT)
Message-ID: <6684fb4f.050a0220.c153b.e396SMTPIN_ADDED_MISSING@mx.google.com>
Received: from [172.21.0.7] (unknown [172.18.0.240])
 by postal.iol.unh.edu (Postfix) with ESMTP id 554D760526E2;
 Wed,  3 Jul 2024 03:18:39 -0400 (EDT)
Subject: |PENDING| pw142053-142055 [PATCH] [v2,3/3] dts: mac filter test suit
From: dpdklab@iol.unh.edu
To: Test Report <test-report@dpdk.org>
Cc: dpdk-test-reports@iol.unh.edu
In-Reply-To: <20240702192422.2480-5-npratte@iol.unh.edu>
References: <20240702192422.2480-5-npratte@iol.unh.edu>
Content-Type: text/plain
X-BeenThere: test-report@dpdk.org
X-Mailman-Version: 2.1.29
Precedence: list
List-Id: automatic DPDK test reports <test-report.dpdk.org>
List-Unsubscribe: <https://mails.dpdk.org/options/test-report>,
 <mailto:test-report-request@dpdk.org?subject=unsubscribe>
List-Archive: <http://mails.dpdk.org/archives/test-report/>
List-Post: <mailto:test-report@dpdk.org>
List-Help: <mailto:test-report-request@dpdk.org?subject=help>
List-Subscribe: <https://mails.dpdk.org/listinfo/test-report>,
 <mailto:test-report-request@dpdk.org?subject=subscribe>
Errors-To: test-report-bounces@dpdk.org

Test-Label: iol-unit-arm64-testing
Test-Status: PENDING
http://dpdk.org/patch/142055

_Testing pending_

Submitter: Nicholas Pratte <npratte@iol.unh.edu>
Date: Tuesday, July 02 2024 19:24:23 
DPDK git baseline: Repo:dpdk
  Branch: master
  CommitID:c15902587b538ff02cfb0fbb4dd481f1503d936b

142053-142055 --> testing pending

Test environment and result as below:

+-----------------------------+--------------+---------------------------+------------------------------+----------------+
|         Environment         | lpm_autotest | cryptodev_sw_zuc_autotest | cryptodev_sw_snow3g_autotest | dpdk_unit_test |
+=============================+==============+===========================+==============================+================+
| Ubuntu 20.04 ARM SVE        | PASS         | SKIPPED                   | SKIPPED                      | SKIPPED        |
+-----------------------------+--------------+---------------------------+------------------------------+----------------+
| Debian 12 (arm)             | SKIPPED      | PASS                      | PASS                         | PASS           |
+-----------------------------+--------------+---------------------------+------------------------------+----------------+
| 32-bit Ubuntu 20.04.4 (ARM) | SKIPPED      | SKIPPED                   | SKIPPED                      | PASS           |
+-----------------------------+--------------+---------------------------+------------------------------+----------------+
| CentOS Stream 9 (ARM)       | SKIPPED      | SKIPPED                   | SKIPPED                      | PASS           |
+-----------------------------+--------------+---------------------------+------------------------------+----------------+
| Debian 11 (Buster) (ARM)    | SKIPPED      | SKIPPED                   | SKIPPED                      | PASS           |
+-----------------------------+--------------+---------------------------+------------------------------+----------------+
| Fedora 37 (ARM)             | SKIPPED      | SKIPPED                   | SKIPPED                      | PEND           |
+-----------------------------+--------------+---------------------------+------------------------------+----------------+
| Fedora 38 (ARM)             | SKIPPED      | SKIPPED                   | SKIPPED                      | PEND           |
+-----------------------------+--------------+---------------------------+------------------------------+----------------+
| Fedora 38 (ARM Clang)       | SKIPPED      | SKIPPED                   | SKIPPED                      | PEND           |
+-----------------------------+--------------+---------------------------+------------------------------+----------------+
| Fedora 39 (ARM)             | SKIPPED      | SKIPPED                   | SKIPPED                      | PEND           |
+-----------------------------+--------------+---------------------------+------------------------------+----------------+
| Fedora 40 (ARM)             | SKIPPED      | SKIPPED                   | SKIPPED                      | PEND           |
+-----------------------------+--------------+---------------------------+------------------------------+----------------+
| Fedora 40 (ARM Clang)       | SKIPPED      | SKIPPED                   | SKIPPED                      | PEND           |
+-----------------------------+--------------+---------------------------+------------------------------+----------------+
| RHEL9 (ARM)                 | SKIPPED      | SKIPPED                   | SKIPPED                      | PEND           |
+-----------------------------+--------------+---------------------------+------------------------------+----------------+
| Ubuntu 20.04 (ARM)          | SKIPPED      | SKIPPED                   | SKIPPED                      | PASS           |
+-----------------------------+--------------+---------------------------+------------------------------+----------------+
| Ubuntu 22.04 (ARM)          | SKIPPED      | SKIPPED                   | SKIPPED                      | PEND           |
+-----------------------------+--------------+---------------------------+------------------------------+----------------+
| Ubuntu 24.04 (ARM)          | SKIPPED      | SKIPPED                   | SKIPPED                      | PEND           |
+-----------------------------+--------------+---------------------------+------------------------------+----------------+
| Fedora 39 (ARM Clang)       | SKIPPED      | SKIPPED                   | SKIPPED                      | PEND           |
+-----------------------------+--------------+---------------------------+------------------------------+----------------+


Ubuntu 20.04 ARM SVE
	Kernel: 5.4.0-167-generic
	Compiler: gcc (Ubuntu 10.5.0-1ubuntu1~20.04) 10.5.0

Debian 12 (arm)
	Kernel: Container Host Kernel
	Compiler: gcc 12.2.0

32-bit Ubuntu 20.04.4 (ARM)
	Kernel: 5.4.0-155-generic aarch64
	Compiler: gcc 9.4

CentOS Stream 9 (ARM)
	Kernel: Container Host Kernel
	Compiler: gcc 11.4.1

Debian 11 (Buster) (ARM)
	Kernel: Container Host Kernel
	Compiler: gcc 10.2.1

Fedora 37 (ARM)
	Kernel: Depends on container host
	Compiler: gcc 12.3.1

Fedora 38 (ARM)
	Kernel: Depends on container host
	Compiler: gcc 13.2.1

Fedora 38 (ARM Clang)
	Kernel: Depends on container host
	Compiler: clang 16.0.6

Fedora 39 (ARM)
	Kernel: Depends on container host
	Compiler: gcc 13.2.1

Fedora 40 (ARM)
	Kernel: Depends on container host
	Compiler: gcc 14.1.1

Fedora 40 (ARM Clang)
	Kernel: Depends on container host
	Compiler: clang 18.1.6

RHEL9 (ARM)
	Kernel: Depends on container host
	Compiler: gcc 11.4.1

Ubuntu 20.04 (ARM)
	Kernel: Container Host Kernel
	Compiler: gcc 9.4.0

Ubuntu 22.04 (ARM)
	Kernel: Container Host Kernel
	Compiler: gcc 11.4.0

Ubuntu 24.04 (ARM)
	Kernel: 5.4.0-167-generic
	Compiler: gcc 13.2.0

Fedora 39 (ARM Clang)
	Kernel: Depends on container host
	Compiler: clang 17.0.6

To view detailed results, visit:
https://lab.dpdk.org/results/dashboard/patchsets/30392/

UNH-IOL DPDK Community Lab

To manage your email subscriptions, visit: 
https://lab.dpdk.org/results/dashboard/preferences/subscriptions/