From mboxrd@z Thu Jan  1 00:00:00 1970
Return-Path: <test-report-bounces@dpdk.org>
Received: from mails.dpdk.org (mails.dpdk.org [217.70.189.124])
	by inbox.dpdk.org (Postfix) with ESMTP id A756445559
	for <public@inbox.dpdk.org>; Wed,  3 Jul 2024 09:43:42 +0200 (CEST)
Received: from mails.dpdk.org (localhost [127.0.0.1])
	by mails.dpdk.org (Postfix) with ESMTP id 9C3454029B;
	Wed,  3 Jul 2024 09:43:42 +0200 (CEST)
Received: from mail-oa1-f98.google.com (mail-oa1-f98.google.com
 [209.85.160.98]) by mails.dpdk.org (Postfix) with ESMTP id A812F4003C
 for <test-report@dpdk.org>; Wed,  3 Jul 2024 09:43:40 +0200 (CEST)
Received: by mail-oa1-f98.google.com with SMTP id
 586e51a60fabf-25d9d15ad5aso2555565fac.0
 for <test-report@dpdk.org>; Wed, 03 Jul 2024 00:43:40 -0700 (PDT)
DKIM-Signature: v=1; a=rsa-sha256; c=relaxed/relaxed;
 d=iol.unh.edu; s=unh-iol; t=1719992620; x=1720597420; darn=dpdk.org;
 h=references:in-reply-to:cc:to:from:subject:message-id:date:from:to
 :cc:subject:date:message-id:reply-to;
 bh=BR5ybPz0Rc+fSskxo7wP7D+GkkCpIucoh9EKtFIbDhA=;
 b=ZWndRkTIfPIau5+fP0t5oAF0QLxU8wGKTVBYt1rNa3iIwQNePuNYDLYx1HMhyXILmy
 G7CIFAaLXkEBnmJ46XDvHnQk3ncZF68b4oQqueQPe7zy1QtLY9KvK4RhpPvNCSyutus2
 If8/okKY3/nnqo3YHxEvxyQE/3qfBFh1Bpdks=
X-Google-DKIM-Signature: v=1; a=rsa-sha256; c=relaxed/relaxed;
 d=1e100.net; s=20230601; t=1719992620; x=1720597420;
 h=references:in-reply-to:cc:to:from:subject:message-id:date
 :x-gm-message-state:from:to:cc:subject:date:message-id:reply-to;
 bh=BR5ybPz0Rc+fSskxo7wP7D+GkkCpIucoh9EKtFIbDhA=;
 b=kj4COEKb1W5axJrdCseV5eDg/zFzlE4Crb2q2UeYdEbFRVCgOHdJtCgKhsf9g1gkGo
 cIYz5AGQCljW6kzERKZIpLX3VV6tIPdlZ7RpGWQOzR3I/yj2UN7jtLYBBQWWkarPGpRZ
 VZLFJr0mvs1jFFtWEcx1S6h8ZKI6TF8lrnMEiDLGd43j8tW0l8BuydtvuWc9A6g96req
 F2W3QZIVdFNUzIfuRUSiDKn/IcfrUy6xmSuJKjXwkGESRU8CBrtXH1KUMMksiWE2Vckr
 x6OAJdZ16DJ5hCocaHieQHlbKrBmIPmhbX5Xv7kkiybVB7/X42+q85EgVX+9O9bxhE8S
 ahIw==
X-Gm-Message-State: AOJu0YwkhYn/6NjeTYVw3SbWSYeMFKw5pf8ZuXoxgeHsZld9DMM33tJp
 3IG7IydP+AyAjZwfDqDJrLdb+jtH3NkX4uLlYCdSBgfhpKwTpdmlbXjQAHiSr/JofiEX+0dmDCy
 YpGSFmEVEoMbcsQn26Kvyc/Q4QmpfgnleWHu5U9yk
X-Google-Smtp-Source: AGHT+IF7/dxucuFY4AzvPwoS2v8cgd2XvOf/vsqFg9uAhNi9E4RMWKl8uCODNVc2PepR5TOiOuDAAQSfp//E
X-Received: by 2002:a05:6870:a44b:b0:25e:1356:a7ce with SMTP id
 586e51a60fabf-25e1356e128mr470191fac.2.1719992619840; 
 Wed, 03 Jul 2024 00:43:39 -0700 (PDT)
Received: from postal.iol.unh.edu (postal.iol.unh.edu. [132.177.123.84])
 by smtp-relay.gmail.com with ESMTPS id
 586e51a60fabf-25e157320e2sm17233fac.20.2024.07.03.00.43.39
 (version=TLS1_2 cipher=ECDHE-ECDSA-AES128-GCM-SHA256 bits=128/128);
 Wed, 03 Jul 2024 00:43:39 -0700 (PDT)
X-Relaying-Domain: iol.unh.edu
Date: Wed, 03 Jul 2024 00:43:39 -0700 (PDT)
Message-ID: <6685012b.050a0220.c6daf.14ecSMTPIN_ADDED_MISSING@mx.google.com>
Received: from [172.17.0.3] (unknown [172.18.0.217])
 by postal.iol.unh.edu (Postfix) with ESMTP id 3E84260526E2;
 Wed,  3 Jul 2024 03:43:39 -0400 (EDT)
Subject: |PENDING| pw142023-142024 [PATCH] [2/2] eal: add total memory size i
From: dpdklab@iol.unh.edu
To: Test Report <test-report@dpdk.org>
Cc: dpdk-test-reports@iol.unh.edu
In-Reply-To: <20240702131436.2873832-2-g.singh@nxp.com>
References: <20240702131436.2873832-2-g.singh@nxp.com>
Content-Type: text/plain
X-BeenThere: test-report@dpdk.org
X-Mailman-Version: 2.1.29
Precedence: list
List-Id: automatic DPDK test reports <test-report.dpdk.org>
List-Unsubscribe: <https://mails.dpdk.org/options/test-report>,
 <mailto:test-report-request@dpdk.org?subject=unsubscribe>
List-Archive: <http://mails.dpdk.org/archives/test-report/>
List-Post: <mailto:test-report@dpdk.org>
List-Help: <mailto:test-report-request@dpdk.org?subject=help>
List-Subscribe: <https://mails.dpdk.org/listinfo/test-report>,
 <mailto:test-report-request@dpdk.org?subject=subscribe>
Errors-To: test-report-bounces@dpdk.org

Test-Label: iol-unit-amd64-testing
Test-Status: PENDING
http://dpdk.org/patch/142024

_Testing pending_

Submitter: Gagandeep Singh <g.singh@nxp.com>
Date: Tuesday, July 02 2024 13:14:36 
DPDK git baseline: Repo:dpdk
  Branch: master
  CommitID:c15902587b538ff02cfb0fbb4dd481f1503d936b

142023-142024 --> testing pending

Test environment and result as below:

+-------------------+----------------+
|    Environment    | dpdk_unit_test |
+===================+================+
| CentOS Stream 8   | PASS           |
+-------------------+----------------+
| Debian Bullseye   | PASS           |
+-------------------+----------------+
| Debian 12         | PASS           |
+-------------------+----------------+
| Fedora 37         | PEND           |
+-------------------+----------------+
| Fedora 38 (Clang) | PEND           |
+-------------------+----------------+
| Fedora 38         | PEND           |
+-------------------+----------------+
| Fedora 39         | PEND           |
+-------------------+----------------+
| Fedora 40         | PEND           |
+-------------------+----------------+
| Fedora 40 (Clang) | PEND           |
+-------------------+----------------+
| openSUSE Leap 15  | PEND           |
+-------------------+----------------+
| RHEL9             | PEND           |
+-------------------+----------------+
| RHEL8             | PEND           |
+-------------------+----------------+
| Ubuntu 20.04      | PEND           |
+-------------------+----------------+
| Ubuntu 22.04      | PEND           |
+-------------------+----------------+
| Ubuntu 24.04      | PEND           |
+-------------------+----------------+
| CentOS Stream 9   | PEND           |
+-------------------+----------------+
| Fedora 39 (Clang) | PEND           |
+-------------------+----------------+


CentOS Stream 8
	Kernel: 5.4.0-167-generic
	Compiler: gcc 8.5.0 20210514

Debian Bullseye
	Kernel: 5.4.0-167-generic
	Compiler: gcc 10.2.1-6

Debian 12
	Kernel: Container Host Kernel
	Compiler: gcc 12.2.0

Fedora 37
	Kernel: Depends on container host system
	Compiler: gcc 12.3.1

Fedora 38 (Clang)
	Kernel: Depends on container host
	Compiler: clang 16.0.6

Fedora 38
	Kernel: Depends on container host
	Compiler: gcc 13.2.1

Fedora 39
	Kernel: Depends on container host
	Compiler: gcc 13.2.1

Fedora 40
	Kernel: Depends on container host
	Compiler: gcc 14.1.1

Fedora 40 (Clang)
	Kernel: Depends on container host
	Compiler: clang 18.1.6

openSUSE Leap 15
	Kernel: 5.4.0-167-generic
	Compiler: gcc 7.5.0

RHEL9
	Kernel: Depends on container host
	Compiler: gcc 11.4.1

RHEL8
	Kernel: 5.4.0-167-generic
	Compiler: gcc 8.5.0 20210514 (Red Hat 8.5.0-20)

Ubuntu 20.04
	Kernel: 5.4.0-167-generic
	Compiler: gcc 9.4.0-1ubuntu1~20.04.1

Ubuntu 22.04
	Kernel: 5.4.0-167-generic
	Compiler: gcc 11.4.0

Ubuntu 24.04
	Kernel: 5.4.0-167-generic
	Compiler: gcc 13.2.0

CentOS Stream 9
	Kernel: 5.4.0-167-generic
	Compiler: gcc 11.4.1 20230605

Fedora 39 (Clang)
	Kernel: Depends on container host
	Compiler: clang 17.0.6

To view detailed results, visit:
https://lab.dpdk.org/results/dashboard/patchsets/30379/

UNH-IOL DPDK Community Lab

To manage your email subscriptions, visit: 
https://lab.dpdk.org/results/dashboard/preferences/subscriptions/