From mboxrd@z Thu Jan  1 00:00:00 1970
Return-Path: <test-report-bounces@dpdk.org>
Received: from mails.dpdk.org (mails.dpdk.org [217.70.189.124])
	by inbox.dpdk.org (Postfix) with ESMTP id 6558145559
	for <public@inbox.dpdk.org>; Wed,  3 Jul 2024 09:49:22 +0200 (CEST)
Received: from mails.dpdk.org (localhost [127.0.0.1])
	by mails.dpdk.org (Postfix) with ESMTP id 615744029B;
	Wed,  3 Jul 2024 09:49:22 +0200 (CEST)
Received: from mail-qt1-f227.google.com (mail-qt1-f227.google.com
 [209.85.160.227])
 by mails.dpdk.org (Postfix) with ESMTP id 7E5C14003C
 for <test-report@dpdk.org>; Wed,  3 Jul 2024 09:49:21 +0200 (CEST)
Received: by mail-qt1-f227.google.com with SMTP id
 d75a77b69052e-4464c3c8f10so22786741cf.3
 for <test-report@dpdk.org>; Wed, 03 Jul 2024 00:49:21 -0700 (PDT)
DKIM-Signature: v=1; a=rsa-sha256; c=relaxed/relaxed;
 d=iol.unh.edu; s=unh-iol; t=1719992961; x=1720597761; darn=dpdk.org;
 h=references:in-reply-to:cc:to:from:subject:message-id:date:from:to
 :cc:subject:date:message-id:reply-to;
 bh=QKO2ABicKUTEW8lCCI5p2twN3oyetOFtbhkfKPwKOb0=;
 b=Op+tBgxKm3HMy2w7LqXB8Sed+FbAd/wGg+D23RB5Nn5pjHNTq6dImeLey7UYOUj9nn
 iJXC0C3VMCDgOXDpyBV4koQDB97PmPY+VLpVkYbSUCCuxUi1K91Fnyiqm1ajPzvT7vAj
 nl5MvXGFYseoyOGtfUopwt+PoGktrRtNX1RtI=
X-Google-DKIM-Signature: v=1; a=rsa-sha256; c=relaxed/relaxed;
 d=1e100.net; s=20230601; t=1719992961; x=1720597761;
 h=references:in-reply-to:cc:to:from:subject:message-id:date
 :x-gm-message-state:from:to:cc:subject:date:message-id:reply-to;
 bh=QKO2ABicKUTEW8lCCI5p2twN3oyetOFtbhkfKPwKOb0=;
 b=oKVTxKCDy010bxuY010LviunfkCvumrZh70hdVAT6ai0qgR5/7DelqZXaQuCYaUMwd
 MSGT6PbO81gIqY9TaFwPgulwMFRrPQi471R0DTwL2Q2VY1zOF0wH63i72BBHzDoY80rU
 RETH7l2ihNP0kW6nyhnWXJqMm8QyosyjcWSUbbNOI0wPtkPElMMk3VfKoIYJ5vow/qtk
 q3eZShA/L3ghyQMDooP4W5YDzJc2hZF2GoyonQCZnhA6j1BGmsrlTNIIejEpHnFdERMu
 jLs157GTqkFPkLQU70QVtivTln4dFa2nxXXTcBpqhI+16FLEIryyHF5OJckapI2Aa9ur
 zbVA==
X-Gm-Message-State: AOJu0Yxt+ZFWLgucc7+56tEElrfzsnPlx39rk8P1POFbX0V1yR9FX0eK
 QAYYA4/RCK/w/AwpVnQkBQcqxgjTBoXXJGeaaEugmICnPTFaCJ9ZxWi/XDVhGzhawf+aANlKoio
 sfYFglJZ8OA5k+eoh0uECpvlJ/gD0jRZjCNurFTZr
X-Google-Smtp-Source: AGHT+IFwOCXnGmFScrZCUGco4LZiVBCZftxfxJONtr/ayQMYDIstMw0iYWs5GFwensMP5MT8WG3zZP8jLNKC
X-Received: by 2002:a05:6214:4413:b0:6b5:6097:396f with SMTP id
 6a1803df08f44-6b5b71d6dadmr93131086d6.64.1719992960825; 
 Wed, 03 Jul 2024 00:49:20 -0700 (PDT)
Received: from postal.iol.unh.edu (postal.iol.unh.edu. [132.177.123.84])
 by smtp-relay.gmail.com with ESMTPS id
 6a1803df08f44-6b59e367796sm5281536d6.8.2024.07.03.00.49.20
 (version=TLS1_2 cipher=ECDHE-ECDSA-AES128-GCM-SHA256 bits=128/128);
 Wed, 03 Jul 2024 00:49:20 -0700 (PDT)
X-Relaying-Domain: iol.unh.edu
Date: Wed, 03 Jul 2024 00:49:20 -0700 (PDT)
Message-ID: <66850280.050a0220.a21fe.9769SMTPIN_ADDED_MISSING@mx.google.com>
Received: from [172.17.0.3] (unknown [172.18.0.217])
 by postal.iol.unh.edu (Postfix) with ESMTP id 715C260526E2;
 Wed,  3 Jul 2024 03:49:20 -0400 (EDT)
Subject: |PENDING| pw142023-142024 [PATCH] [2/2] eal: add total memory size i
From: dpdklab@iol.unh.edu
To: Test Report <test-report@dpdk.org>
Cc: dpdk-test-reports@iol.unh.edu
In-Reply-To: <20240702131436.2873832-2-g.singh@nxp.com>
References: <20240702131436.2873832-2-g.singh@nxp.com>
Content-Type: text/plain
X-BeenThere: test-report@dpdk.org
X-Mailman-Version: 2.1.29
Precedence: list
List-Id: automatic DPDK test reports <test-report.dpdk.org>
List-Unsubscribe: <https://mails.dpdk.org/options/test-report>,
 <mailto:test-report-request@dpdk.org?subject=unsubscribe>
List-Archive: <http://mails.dpdk.org/archives/test-report/>
List-Post: <mailto:test-report@dpdk.org>
List-Help: <mailto:test-report-request@dpdk.org?subject=help>
List-Subscribe: <https://mails.dpdk.org/listinfo/test-report>,
 <mailto:test-report-request@dpdk.org?subject=subscribe>
Errors-To: test-report-bounces@dpdk.org

Test-Label: iol-unit-amd64-testing
Test-Status: PENDING
http://dpdk.org/patch/142024

_Testing pending_

Submitter: Gagandeep Singh <g.singh@nxp.com>
Date: Tuesday, July 02 2024 13:14:36 
DPDK git baseline: Repo:dpdk
  Branch: master
  CommitID:c15902587b538ff02cfb0fbb4dd481f1503d936b

142023-142024 --> testing pending

Test environment and result as below:

+-------------------+----------------+
|    Environment    | dpdk_unit_test |
+===================+================+
| CentOS Stream 8   | PASS           |
+-------------------+----------------+
| Debian Bullseye   | PASS           |
+-------------------+----------------+
| Debian 12         | PASS           |
+-------------------+----------------+
| Fedora 37         | PASS           |
+-------------------+----------------+
| Fedora 38 (Clang) | PASS           |
+-------------------+----------------+
| Fedora 38         | PASS           |
+-------------------+----------------+
| Fedora 39         | PEND           |
+-------------------+----------------+
| Fedora 40         | PEND           |
+-------------------+----------------+
| Fedora 40 (Clang) | PEND           |
+-------------------+----------------+
| openSUSE Leap 15  | PEND           |
+-------------------+----------------+
| RHEL9             | PEND           |
+-------------------+----------------+
| RHEL8             | PEND           |
+-------------------+----------------+
| Ubuntu 20.04      | PEND           |
+-------------------+----------------+
| Ubuntu 22.04      | PEND           |
+-------------------+----------------+
| Ubuntu 24.04      | PEND           |
+-------------------+----------------+
| CentOS Stream 9   | PEND           |
+-------------------+----------------+
| Fedora 39 (Clang) | PEND           |
+-------------------+----------------+


CentOS Stream 8
	Kernel: 5.4.0-167-generic
	Compiler: gcc 8.5.0 20210514

Debian Bullseye
	Kernel: 5.4.0-167-generic
	Compiler: gcc 10.2.1-6

Debian 12
	Kernel: Container Host Kernel
	Compiler: gcc 12.2.0

Fedora 37
	Kernel: Depends on container host system
	Compiler: gcc 12.3.1

Fedora 38 (Clang)
	Kernel: Depends on container host
	Compiler: clang 16.0.6

Fedora 38
	Kernel: Depends on container host
	Compiler: gcc 13.2.1

Fedora 39
	Kernel: Depends on container host
	Compiler: gcc 13.2.1

Fedora 40
	Kernel: Depends on container host
	Compiler: gcc 14.1.1

Fedora 40 (Clang)
	Kernel: Depends on container host
	Compiler: clang 18.1.6

openSUSE Leap 15
	Kernel: 5.4.0-167-generic
	Compiler: gcc 7.5.0

RHEL9
	Kernel: Depends on container host
	Compiler: gcc 11.4.1

RHEL8
	Kernel: 5.4.0-167-generic
	Compiler: gcc 8.5.0 20210514 (Red Hat 8.5.0-20)

Ubuntu 20.04
	Kernel: 5.4.0-167-generic
	Compiler: gcc 9.4.0-1ubuntu1~20.04.1

Ubuntu 22.04
	Kernel: 5.4.0-167-generic
	Compiler: gcc 11.4.0

Ubuntu 24.04
	Kernel: 5.4.0-167-generic
	Compiler: gcc 13.2.0

CentOS Stream 9
	Kernel: 5.4.0-167-generic
	Compiler: gcc 11.4.1 20230605

Fedora 39 (Clang)
	Kernel: Depends on container host
	Compiler: clang 17.0.6

To view detailed results, visit:
https://lab.dpdk.org/results/dashboard/patchsets/30379/

UNH-IOL DPDK Community Lab

To manage your email subscriptions, visit: 
https://lab.dpdk.org/results/dashboard/preferences/subscriptions/