From mboxrd@z Thu Jan  1 00:00:00 1970
Return-Path: <test-report-bounces@dpdk.org>
Received: from mails.dpdk.org (mails.dpdk.org [217.70.189.124])
	by inbox.dpdk.org (Postfix) with ESMTP id 163B64555B
	for <public@inbox.dpdk.org>; Wed,  3 Jul 2024 10:18:42 +0200 (CEST)
Received: from mails.dpdk.org (localhost [127.0.0.1])
	by mails.dpdk.org (Postfix) with ESMTP id 0D2FC4029B;
	Wed,  3 Jul 2024 10:18:42 +0200 (CEST)
Received: from mail-il1-f225.google.com (mail-il1-f225.google.com
 [209.85.166.225])
 by mails.dpdk.org (Postfix) with ESMTP id C18204003C
 for <test-report@dpdk.org>; Wed,  3 Jul 2024 10:18:40 +0200 (CEST)
Received: by mail-il1-f225.google.com with SMTP id
 e9e14a558f8ab-380bfd7cdbfso5827375ab.1
 for <test-report@dpdk.org>; Wed, 03 Jul 2024 01:18:40 -0700 (PDT)
DKIM-Signature: v=1; a=rsa-sha256; c=relaxed/relaxed;
 d=iol.unh.edu; s=unh-iol; t=1719994720; x=1720599520; darn=dpdk.org;
 h=references:in-reply-to:cc:to:from:subject:message-id:date:from:to
 :cc:subject:date:message-id:reply-to;
 bh=BjnZINYR1oENL5ybcrG2bVrKxUp0Rw0cKSSvYtUVVp8=;
 b=ROszfXrR+xipfExlb5cQIFC0Icpt0p+tHx57hQzOtYmt3ruhOYtDtEIL5wBFufyRvA
 dJzdx/gwdbxz94kQKt7nHO5koODAQD2taMNajkPnHMcYNK7I73ideJajGhxHEPyAItI0
 GLkrT5czQ5H1Ok6ZGAR/gq8Ccuzw+SYzn4kWU=
X-Google-DKIM-Signature: v=1; a=rsa-sha256; c=relaxed/relaxed;
 d=1e100.net; s=20230601; t=1719994720; x=1720599520;
 h=references:in-reply-to:cc:to:from:subject:message-id:date
 :x-gm-message-state:from:to:cc:subject:date:message-id:reply-to;
 bh=BjnZINYR1oENL5ybcrG2bVrKxUp0Rw0cKSSvYtUVVp8=;
 b=YDqANL/CxRdThd9OFXLoOOcF7JlTYhiL9J/o2kfAN+whcPvN5bsQpdTayMOPEmhWCR
 fnYDvhBk8wi8OZp6jQQ/S8vcCAeEVzRcWM+L3thjAywUKHMQRUUIEEnTzf7LYzBcj1Sl
 bqlAcNjMnle1g+4K4WO7HagIP17hb6Xp3ydpxtFcNFouisFKeJKcA1EMPvf+X8RQlycE
 JS8XLoEobbl4gIyUVinuwN7ACPDZBxMJLOUT4/I5DGUWHZsm47RaOp7IbpeOfwk+JWRL
 1L3bqnwfR+t3Yx9wNhnKvZVZqVCxuPH/5DMY/HSoWFNEWO42KY5TKfANPhQ8FzzLV5cC
 yFiQ==
X-Gm-Message-State: AOJu0Yx+kOWbnpobz/xOv1gTyTRICUtpCiP8uk6MonsbCtScm3ev3GD0
 2gREqXzQqnKghrkybFrmF4SrpmlCASKpBCU8ZjBSs7AElAqO18MXsHrjyz6KRUKDh4EIEaElpQ+
 XXAZVjAFoPrR2MKT4HQREq/LC+uYGpk3qqBA/gqWCBzFlR5hy/QvMlDgT
X-Google-Smtp-Source: AGHT+IFvy6k1RZSiv5NBHwPlTUnRfaQEQRzsyUPF+eclBqPSuXpUD+rdLVCkqSM3UE3lz3cd94IFBHMrOhZq
X-Received: by 2002:a05:6e02:2142:b0:376:490c:482d with SMTP id
 e9e14a558f8ab-37cd13b1997mr133709825ab.9.1719994720206; 
 Wed, 03 Jul 2024 01:18:40 -0700 (PDT)
Received: from postal.iol.unh.edu (postal.iol.unh.edu.
 [2606:4100:3880:1234::84]) by smtp-relay.gmail.com with ESMTPS id
 e9e14a558f8ab-37ad2f4057fsm4436335ab.33.2024.07.03.01.18.40
 (version=TLS1_2 cipher=ECDHE-ECDSA-AES128-GCM-SHA256 bits=128/128);
 Wed, 03 Jul 2024 01:18:40 -0700 (PDT)
X-Relaying-Domain: iol.unh.edu
Date: Wed, 03 Jul 2024 01:18:40 -0700 (PDT)
Message-ID: <66850960.050a0220.ef4c4.17e3SMTPIN_ADDED_MISSING@mx.google.com>
Received: from [172.17.0.5] (unknown [172.18.0.217])
 by postal.iol.unh.edu (Postfix) with ESMTP id AB41860526E2;
 Wed,  3 Jul 2024 04:18:39 -0400 (EDT)
Subject: |PENDING| pw142025-142026 [PATCH] [v2,2/2] net/cnxk: fix to avoid NP
From: dpdklab@iol.unh.edu
To: Test Report <test-report@dpdk.org>
Cc: dpdk-test-reports@iol.unh.edu
In-Reply-To: <20240702144033.3345075-2-rbhansali@marvell.com>
References: <20240702144033.3345075-2-rbhansali@marvell.com>
Content-Type: text/plain
X-BeenThere: test-report@dpdk.org
X-Mailman-Version: 2.1.29
Precedence: list
List-Id: automatic DPDK test reports <test-report.dpdk.org>
List-Unsubscribe: <https://mails.dpdk.org/options/test-report>,
 <mailto:test-report-request@dpdk.org?subject=unsubscribe>
List-Archive: <http://mails.dpdk.org/archives/test-report/>
List-Post: <mailto:test-report@dpdk.org>
List-Help: <mailto:test-report-request@dpdk.org?subject=help>
List-Subscribe: <https://mails.dpdk.org/listinfo/test-report>,
 <mailto:test-report-request@dpdk.org?subject=subscribe>
Errors-To: test-report-bounces@dpdk.org

Test-Label: iol-compile-arm64-testing
Test-Status: PENDING
http://dpdk.org/patch/142026

_Testing pending_

Submitter: Rahul Bhansali <rbhansali@marvell.com>
Date: Tuesday, July 02 2024 14:40:33 
DPDK git baseline: Repo:dpdk
  Branch: master
  CommitID:362db0a4d230fbe43c2da1d6e34ecd0f2f946903

142025-142026 --> testing pending

Test environment and result as below:

+----------------------------------------+--------------------+
|              Environment               | dpdk_meson_compile |
+========================================+====================+
| Ubuntu 20.04 ARM GCC Cross Compile     | PASS               |
+----------------------------------------+--------------------+
| Ubuntu 20.04 ARM SVE                   | PASS               |
+----------------------------------------+--------------------+
| RHEL9 (ARM)                            | PASS               |
+----------------------------------------+--------------------+
| Debian 12 with MUSDK                   | PASS               |
+----------------------------------------+--------------------+
| Fedora 37 (ARM)                        | PASS               |
+----------------------------------------+--------------------+
| Fedora 38 (ARM Clang)                  | PASS               |
+----------------------------------------+--------------------+
| Fedora 38 (ARM)                        | PASS               |
+----------------------------------------+--------------------+
| Fedora 39 (ARM)                        | PASS               |
+----------------------------------------+--------------------+
| Fedora 39 (ARM Clang)                  | PEND               |
+----------------------------------------+--------------------+
| Fedora 40 (ARM)                        | PASS               |
+----------------------------------------+--------------------+
| Fedora 40 (ARM Clang)                  | PASS               |
+----------------------------------------+--------------------+
| Ubuntu 20.04 (ARM)                     | PASS               |
+----------------------------------------+--------------------+
| Ubuntu 22.04 (ARM)                     | PASS               |
+----------------------------------------+--------------------+
| Ubuntu 24.04 (ARM)                     | PASS               |
+----------------------------------------+--------------------+
| CentOS Stream 9 (ARM)                  | PASS               |
+----------------------------------------+--------------------+
| Debian 11 (Buster) (ARM)               | PASS               |
+----------------------------------------+--------------------+
| Debian 12 (arm)                        | PEND               |
+----------------------------------------+--------------------+
| Ubuntu 20.04 ARM Clang Cross Compile   | PASS               |
+----------------------------------------+--------------------+
| Ubuntu 20.04 aarch32 GCC Cross Compile | PASS               |
+----------------------------------------+--------------------+


Ubuntu 20.04 ARM GCC Cross Compile
	Kernel: 5.4.0-167-generic
	Compiler: aarch64-linux-gnu-gcc (Ubuntu 9.4.0-1ubuntu1~20.04.2) 9.4.0

Ubuntu 20.04 ARM SVE
	Kernel: 5.4.0-167-generic
	Compiler: gcc (Ubuntu 10.5.0-1ubuntu1~20.04) 10.5.0

RHEL9 (ARM)
	Kernel: Depends on container host
	Compiler: gcc 11.4.1

Debian 12 with MUSDK
	Kernel: Container Host Kernel
	Compiler: gcc 12.2.0

Fedora 37 (ARM)
	Kernel: Depends on container host
	Compiler: gcc 12.3.1

Fedora 38 (ARM Clang)
	Kernel: Depends on container host
	Compiler: clang 16.0.6

Fedora 38 (ARM)
	Kernel: Depends on container host
	Compiler: gcc 13.2.1

Fedora 39 (ARM)
	Kernel: Depends on container host
	Compiler: gcc 13.2.1

Fedora 39 (ARM Clang)
	Kernel: Depends on container host
	Compiler: clang 17.0.6

Fedora 40 (ARM)
	Kernel: Depends on container host
	Compiler: gcc 14.1.1

Fedora 40 (ARM Clang)
	Kernel: Depends on container host
	Compiler: clang 18.1.6

Ubuntu 20.04 (ARM)
	Kernel: Container Host Kernel
	Compiler: gcc 9.4.0

Ubuntu 22.04 (ARM)
	Kernel: Container Host Kernel
	Compiler: gcc 11.4.0

Ubuntu 24.04 (ARM)
	Kernel: 5.4.0-167-generic
	Compiler: gcc 13.2.0

CentOS Stream 9 (ARM)
	Kernel: Container Host Kernel
	Compiler: gcc 11.4.1

Debian 11 (Buster) (ARM)
	Kernel: Container Host Kernel
	Compiler: gcc 10.2.1

Debian 12 (arm)
	Kernel: Container Host Kernel
	Compiler: gcc 12.2.0

Ubuntu 20.04 ARM Clang Cross Compile
	Kernel: 5.4.0-72-generic
	Compiler: clang 10.0.0-4ubuntu1

Ubuntu 20.04 aarch32 GCC Cross Compile
	Kernel: 5.4.0-167-generic
	Compiler: gcc 9.4.0

To view detailed results, visit:
https://lab.dpdk.org/results/dashboard/patchsets/30380/

UNH-IOL DPDK Community Lab

To manage your email subscriptions, visit: 
https://lab.dpdk.org/results/dashboard/preferences/subscriptions/