From mboxrd@z Thu Jan  1 00:00:00 1970
Return-Path: <test-report-bounces@dpdk.org>
Received: from mails.dpdk.org (mails.dpdk.org [217.70.189.124])
	by inbox.dpdk.org (Postfix) with ESMTP id 6E9824555B
	for <public@inbox.dpdk.org>; Wed,  3 Jul 2024 10:55:56 +0200 (CEST)
Received: from mails.dpdk.org (localhost [127.0.0.1])
	by mails.dpdk.org (Postfix) with ESMTP id 695CA40EDB;
	Wed,  3 Jul 2024 10:55:56 +0200 (CEST)
Received: from mail-pj1-f98.google.com (mail-pj1-f98.google.com
 [209.85.216.98]) by mails.dpdk.org (Postfix) with ESMTP id 8E0974029B
 for <test-report@dpdk.org>; Wed,  3 Jul 2024 10:55:55 +0200 (CEST)
Received: by mail-pj1-f98.google.com with SMTP id
 98e67ed59e1d1-2c86e3fb6e7so3342191a91.1
 for <test-report@dpdk.org>; Wed, 03 Jul 2024 01:55:55 -0700 (PDT)
DKIM-Signature: v=1; a=rsa-sha256; c=relaxed/relaxed;
 d=iol.unh.edu; s=unh-iol; t=1719996954; x=1720601754; darn=dpdk.org;
 h=references:in-reply-to:cc:to:from:subject:message-id:date:from:to
 :cc:subject:date:message-id:reply-to;
 bh=5oWSSkag2xFJZDynj6j+oDSn+bIv+aPVZ7nHP1TXiJ0=;
 b=V0/gYjE8Mm2HimaeI4NEN1IY/k159H2dfLM7IeeePDJxkz5+8r7tzCRreCE8nyfj2e
 lp8lChpchqRSBAAQuiemRctFq1loI+tPBwpAfBq+0g2bXoJsSNR/GDyg6uL4OsnQmy+s
 Ue+/fQS+2FTyReDAmfnU0Itenx6DqDa+F/1Ao=
X-Google-DKIM-Signature: v=1; a=rsa-sha256; c=relaxed/relaxed;
 d=1e100.net; s=20230601; t=1719996954; x=1720601754;
 h=references:in-reply-to:cc:to:from:subject:message-id:date
 :x-gm-message-state:from:to:cc:subject:date:message-id:reply-to;
 bh=5oWSSkag2xFJZDynj6j+oDSn+bIv+aPVZ7nHP1TXiJ0=;
 b=kq0+d61BRyoL4uyKYZR1uzt2cf9qSPwHLeKdWHdHSXO5mFuraxX3b8YpjDqrdsvAme
 0GfbEF+pLHOEnsT1xpJZqjdx9jHuXFbSuEEHoKastAEPhd8OGXftqm1ibOGJd9pxzyFe
 WfZyYNf9kGhBuo5Zfq/ue1e9JwADbsrvaTuQa5BOGRoy+/clc00UzaEuMmEJ8fXb1sJQ
 ItnQ//0ZWJGhGdemMKjAlV35zwzpP7gYqfi1D/i6MmZHPfjgGfjBu6GMrNO9a1UQAXTD
 DZbNFC+8F6kh/54sITTq9F9Iu4MB1GvgKtncU614PQ+GcLr8cXEpZpMeOcTXk3/yz/Ug
 6NBQ==
X-Gm-Message-State: AOJu0YzNCAHlt7A0Na/bpy0qZ0JgEeFz6HlZhyHxrQIIwmWfuUCrCDbU
 afUlbnn5KGJvnTqzevf6fKXgOb3tXZiwnxaYv75y8qDLYeE48L7ky6Zs/tTEbKotERQsmC7MdTx
 nlEPmMGYsKFVUuchGZUmRi+GnZLIL2LHFG0SHyebAZoM4BhwbtntR6uml
X-Google-Smtp-Source: AGHT+IHJqUlqiy+6tXWpiRItdpxBVB0n6z6d6effyVyf2xWYN+3BB8W9Q5cyNYEwe8IkaTKIjJutczM6kTfB
X-Received: by 2002:a17:90b:354f:b0:2c7:ec6d:8dd with SMTP id
 98e67ed59e1d1-2c93d6edae9mr6801239a91.7.1719996954592; 
 Wed, 03 Jul 2024 01:55:54 -0700 (PDT)
Received: from postal.iol.unh.edu (postal.iol.unh.edu.
 [2606:4100:3880:1234::84]) by smtp-relay.gmail.com with ESMTPS id
 98e67ed59e1d1-2c91d3cedcfsm539188a91.15.2024.07.03.01.55.54
 (version=TLS1_2 cipher=ECDHE-ECDSA-AES128-GCM-SHA256 bits=128/128);
 Wed, 03 Jul 2024 01:55:54 -0700 (PDT)
X-Relaying-Domain: iol.unh.edu
Date: Wed, 03 Jul 2024 01:55:54 -0700 (PDT)
Message-ID: <6685121a.170a0220.db474.9491SMTPIN_ADDED_MISSING@mx.google.com>
Received: from [172.21.0.8] (unknown [172.18.0.240])
 by postal.iol.unh.edu (Postfix) with ESMTP id AB1D060526E2;
 Wed,  3 Jul 2024 04:55:53 -0400 (EDT)
Subject: |PENDING| pw142020-142022 [PATCH] [v3,3/3] drivers: replace printf w
From: dpdklab@iol.unh.edu
To: Test Report <test-report@dpdk.org>
Cc: dpdk-test-reports@iol.unh.edu
In-Reply-To: <20240702130856.3927348-3-hemant.agrawal@nxp.com>
References: <20240702130856.3927348-3-hemant.agrawal@nxp.com>
Content-Type: text/plain
X-BeenThere: test-report@dpdk.org
X-Mailman-Version: 2.1.29
Precedence: list
List-Id: automatic DPDK test reports <test-report.dpdk.org>
List-Unsubscribe: <https://mails.dpdk.org/options/test-report>,
 <mailto:test-report-request@dpdk.org?subject=unsubscribe>
List-Archive: <http://mails.dpdk.org/archives/test-report/>
List-Post: <mailto:test-report@dpdk.org>
List-Help: <mailto:test-report-request@dpdk.org?subject=help>
List-Subscribe: <https://mails.dpdk.org/listinfo/test-report>,
 <mailto:test-report-request@dpdk.org?subject=subscribe>
Errors-To: test-report-bounces@dpdk.org

Test-Label: iol-compile-arm64-testing
Test-Status: PENDING
http://dpdk.org/patch/142022

_Testing pending_

Submitter: Hemant Agrawal <hemant.agrawal@nxp.com>
Date: Tuesday, July 02 2024 13:08:56 
DPDK git baseline: Repo:dpdk
  Branch: master
  CommitID:c15902587b538ff02cfb0fbb4dd481f1503d936b

142020-142022 --> testing pending

Test environment and result as below:

+------------------------------------+--------------------+
|            Environment             | dpdk_meson_compile |
+====================================+====================+
| RHEL9 (ARM)                        | PASS               |
+------------------------------------+--------------------+
| Ubuntu 20.04 ARM GCC Cross Compile | PEND               |
+------------------------------------+--------------------+
| Ubuntu 20.04 ARM SVE               | PASS               |
+------------------------------------+--------------------+
| Debian 12 with MUSDK               | PASS               |
+------------------------------------+--------------------+
| Fedora 37 (ARM)                    | PEND               |
+------------------------------------+--------------------+
| Fedora 38 (ARM)                    | PEND               |
+------------------------------------+--------------------+
| Fedora 38 (ARM Clang)              | PEND               |
+------------------------------------+--------------------+
| Fedora 39 (ARM)                    | PEND               |
+------------------------------------+--------------------+


RHEL9 (ARM)
	Kernel: Depends on container host
	Compiler: gcc 11.4.1

Ubuntu 20.04 ARM GCC Cross Compile
	Kernel: 5.4.0-167-generic
	Compiler: aarch64-linux-gnu-gcc (Ubuntu 9.4.0-1ubuntu1~20.04.2) 9.4.0

Ubuntu 20.04 ARM SVE
	Kernel: 5.4.0-167-generic
	Compiler: gcc (Ubuntu 10.5.0-1ubuntu1~20.04) 10.5.0

Debian 12 with MUSDK
	Kernel: Container Host Kernel
	Compiler: gcc 12.2.0

Fedora 37 (ARM)
	Kernel: Depends on container host
	Compiler: gcc 12.3.1

Fedora 38 (ARM)
	Kernel: Depends on container host
	Compiler: gcc 13.2.1

Fedora 38 (ARM Clang)
	Kernel: Depends on container host
	Compiler: clang 16.0.6

Fedora 39 (ARM)
	Kernel: Depends on container host
	Compiler: gcc 13.2.1

To view detailed results, visit:
https://lab.dpdk.org/results/dashboard/patchsets/30378/

UNH-IOL DPDK Community Lab

To manage your email subscriptions, visit: 
https://lab.dpdk.org/results/dashboard/preferences/subscriptions/