From mboxrd@z Thu Jan  1 00:00:00 1970
Return-Path: <test-report-bounces@dpdk.org>
Received: from mails.dpdk.org (mails.dpdk.org [217.70.189.124])
	by inbox.dpdk.org (Postfix) with ESMTP id A5BEF4555B
	for <public@inbox.dpdk.org>; Wed,  3 Jul 2024 10:56:48 +0200 (CEST)
Received: from mails.dpdk.org (localhost [127.0.0.1])
	by mails.dpdk.org (Postfix) with ESMTP id 9E7CC40EDB;
	Wed,  3 Jul 2024 10:56:48 +0200 (CEST)
Received: from mail-pf1-f226.google.com (mail-pf1-f226.google.com
 [209.85.210.226])
 by mails.dpdk.org (Postfix) with ESMTP id 4BE104029B
 for <test-report@dpdk.org>; Wed,  3 Jul 2024 10:56:47 +0200 (CEST)
Received: by mail-pf1-f226.google.com with SMTP id
 d2e1a72fcca58-70ad2488fb1so1957996b3a.1
 for <test-report@dpdk.org>; Wed, 03 Jul 2024 01:56:47 -0700 (PDT)
DKIM-Signature: v=1; a=rsa-sha256; c=relaxed/relaxed;
 d=iol.unh.edu; s=unh-iol; t=1719997006; x=1720601806; darn=dpdk.org;
 h=references:in-reply-to:cc:to:from:subject:message-id:date:from:to
 :cc:subject:date:message-id:reply-to;
 bh=5Xz5jJhmPseQccmKpEJ6WfmnL8ajEcvfZudrFuDbdqE=;
 b=RaQN6RecZG3Op04b1581gihu4EtqujBgIHyevoPWq+dpFw9N5fzC2qVsaIDdo9bd0g
 g7YgeELNs60kyGIB8EDZ4U25Oa0W2BI/88s9dYl4sHA66gizCIFY8TrMhYmChHKoEG1k
 HweUWzJ50PWMnUnTAjNKWMQu8ShV6jcVw7Fd0=
X-Google-DKIM-Signature: v=1; a=rsa-sha256; c=relaxed/relaxed;
 d=1e100.net; s=20230601; t=1719997006; x=1720601806;
 h=references:in-reply-to:cc:to:from:subject:message-id:date
 :x-gm-message-state:from:to:cc:subject:date:message-id:reply-to;
 bh=5Xz5jJhmPseQccmKpEJ6WfmnL8ajEcvfZudrFuDbdqE=;
 b=ItZ4AHP8e5Id9JIRxz+0CVxGG6si81RSp5VKInX7mmmpUAlgkFcYCS0cxcNzeuF3Tj
 OopUNWG2nLG2nlwNrteZ+2LVKkZqvKHRLyRa4noKkcBWvgRoHljhT5Rgxju9dJf0Q1jD
 LYFRC1VNFetyel76Q+SNhm/ivno0BytMU4aTxO3EXbVV/1HeZzuTg0DkLSN7vvBjmls5
 8ClEDRfGSE0o7fbriH5aC+/kT4xZAp1vzRCOeG2uQB+hvPfn0FRSAUDGqgg9UVcIiGKw
 C+SnZMS8CIlHrKwERR4q1R58QoTe1RTexuOKnmckj/jC9lth+ahI1JiYebpOKA2UURZG
 P5Bg==
X-Gm-Message-State: AOJu0Yxxu6vxrXt41i0mgwDe7Av05tIk4s58UsQy4sofDzg/15vYJmbu
 3Jd68RaYJ1n+J0oxKcmrBURHtnC6fdD9QceVYChHmit8IJNgU7T2QHSRi9erIOhiblkvIqgFHzy
 0YYz0kOC/hqdX9IOHWWjbKZsCgZSX/wtTvd7zxzKlyj89tGTp6uGyofdC
X-Google-Smtp-Source: AGHT+IFOxLpcyoctvaSGZWxIst/luFEorCOxlaKcp0dS5+Phz7P7kaJLwws7bpN9iPuJNFeoeg14lFxOgdah
X-Received: by 2002:a05:6a20:a106:b0:1bd:2a21:fc1c with SMTP id
 adf61e73a8af0-1bef6216dc9mr15729864637.50.1719997006426; 
 Wed, 03 Jul 2024 01:56:46 -0700 (PDT)
Received: from postal.iol.unh.edu (postal.iol.unh.edu.
 [2606:4100:3880:1234::84]) by smtp-relay.gmail.com with ESMTPS id
 d9443c01a7336-1fac155a781sm3329705ad.104.2024.07.03.01.56.46
 (version=TLS1_2 cipher=ECDHE-ECDSA-AES128-GCM-SHA256 bits=128/128);
 Wed, 03 Jul 2024 01:56:46 -0700 (PDT)
X-Relaying-Domain: iol.unh.edu
Date: Wed, 03 Jul 2024 01:56:46 -0700 (PDT)
Message-ID: <6685124e.170a0220.c98f0.99c9SMTPIN_ADDED_MISSING@mx.google.com>
Received: from [172.21.0.7] (unknown [172.18.0.240])
 by postal.iol.unh.edu (Postfix) with ESMTP id 98ED260526E2;
 Wed,  3 Jul 2024 04:56:45 -0400 (EDT)
Subject: |SUCCESS| pw142023-142024 [PATCH] [2/2] eal: add total memory size i
From: dpdklab@iol.unh.edu
To: Test Report <test-report@dpdk.org>
Cc: dpdk-test-reports@iol.unh.edu
In-Reply-To: <20240702131436.2873832-2-g.singh@nxp.com>
References: <20240702131436.2873832-2-g.singh@nxp.com>
Content-Type: text/plain
X-BeenThere: test-report@dpdk.org
X-Mailman-Version: 2.1.29
Precedence: list
List-Id: automatic DPDK test reports <test-report.dpdk.org>
List-Unsubscribe: <https://mails.dpdk.org/options/test-report>,
 <mailto:test-report-request@dpdk.org?subject=unsubscribe>
List-Archive: <http://mails.dpdk.org/archives/test-report/>
List-Post: <mailto:test-report@dpdk.org>
List-Help: <mailto:test-report-request@dpdk.org?subject=help>
List-Subscribe: <https://mails.dpdk.org/listinfo/test-report>,
 <mailto:test-report-request@dpdk.org?subject=subscribe>
Errors-To: test-report-bounces@dpdk.org

Test-Label: iol-unit-amd64-testing
Test-Status: SUCCESS
http://dpdk.org/patch/142024

_Testing PASS_

Submitter: Gagandeep Singh <g.singh@nxp.com>
Date: Tuesday, July 02 2024 13:14:36 
DPDK git baseline: Repo:dpdk
  Branch: master
  CommitID:c15902587b538ff02cfb0fbb4dd481f1503d936b

142023-142024 --> testing pass

Test environment and result as below:

+-------------------+----------------+
|    Environment    | dpdk_unit_test |
+===================+================+
| CentOS Stream 8   | PASS           |
+-------------------+----------------+
| Debian Bullseye   | PASS           |
+-------------------+----------------+
| Debian 12         | PASS           |
+-------------------+----------------+
| Fedora 37         | PASS           |
+-------------------+----------------+
| Fedora 38 (Clang) | PASS           |
+-------------------+----------------+
| Fedora 38         | PASS           |
+-------------------+----------------+
| Fedora 39         | PASS           |
+-------------------+----------------+
| Fedora 40         | PASS           |
+-------------------+----------------+
| Fedora 40 (Clang) | PASS           |
+-------------------+----------------+
| openSUSE Leap 15  | PASS           |
+-------------------+----------------+
| RHEL9             | PASS           |
+-------------------+----------------+
| RHEL8             | PASS           |
+-------------------+----------------+
| Ubuntu 20.04      | PASS           |
+-------------------+----------------+
| Ubuntu 22.04      | PASS           |
+-------------------+----------------+
| Ubuntu 24.04      | PASS           |
+-------------------+----------------+
| CentOS Stream 9   | PASS           |
+-------------------+----------------+
| Fedora 39 (Clang) | PASS           |
+-------------------+----------------+


CentOS Stream 8
	Kernel: 5.4.0-167-generic
	Compiler: gcc 8.5.0 20210514

Debian Bullseye
	Kernel: 5.4.0-167-generic
	Compiler: gcc 10.2.1-6

Debian 12
	Kernel: Container Host Kernel
	Compiler: gcc 12.2.0

Fedora 37
	Kernel: Depends on container host system
	Compiler: gcc 12.3.1

Fedora 38 (Clang)
	Kernel: Depends on container host
	Compiler: clang 16.0.6

Fedora 38
	Kernel: Depends on container host
	Compiler: gcc 13.2.1

Fedora 39
	Kernel: Depends on container host
	Compiler: gcc 13.2.1

Fedora 40
	Kernel: Depends on container host
	Compiler: gcc 14.1.1

Fedora 40 (Clang)
	Kernel: Depends on container host
	Compiler: clang 18.1.6

openSUSE Leap 15
	Kernel: 5.4.0-167-generic
	Compiler: gcc 7.5.0

RHEL9
	Kernel: Depends on container host
	Compiler: gcc 11.4.1

RHEL8
	Kernel: 5.4.0-167-generic
	Compiler: gcc 8.5.0 20210514 (Red Hat 8.5.0-20)

Ubuntu 20.04
	Kernel: 5.4.0-167-generic
	Compiler: gcc 9.4.0-1ubuntu1~20.04.1

Ubuntu 22.04
	Kernel: 5.4.0-167-generic
	Compiler: gcc 11.4.0

Ubuntu 24.04
	Kernel: 5.4.0-167-generic
	Compiler: gcc 13.2.0

CentOS Stream 9
	Kernel: 5.4.0-167-generic
	Compiler: gcc 11.4.1 20230605

Fedora 39 (Clang)
	Kernel: Depends on container host
	Compiler: clang 17.0.6

To view detailed results, visit:
https://lab.dpdk.org/results/dashboard/patchsets/30379/

UNH-IOL DPDK Community Lab

To manage your email subscriptions, visit: 
https://lab.dpdk.org/results/dashboard/preferences/subscriptions/