From mboxrd@z Thu Jan  1 00:00:00 1970
Return-Path: <test-report-bounces@dpdk.org>
Received: from mails.dpdk.org (mails.dpdk.org [217.70.189.124])
	by inbox.dpdk.org (Postfix) with ESMTP id D97B24555B
	for <public@inbox.dpdk.org>; Wed,  3 Jul 2024 11:01:48 +0200 (CEST)
Received: from mails.dpdk.org (localhost [127.0.0.1])
	by mails.dpdk.org (Postfix) with ESMTP id CFEE740E7C;
	Wed,  3 Jul 2024 11:01:48 +0200 (CEST)
Received: from mail-yb1-f227.google.com (mail-yb1-f227.google.com
 [209.85.219.227])
 by mails.dpdk.org (Postfix) with ESMTP id 6B2DB4029B
 for <test-report@dpdk.org>; Wed,  3 Jul 2024 11:01:47 +0200 (CEST)
Received: by mail-yb1-f227.google.com with SMTP id
 3f1490d57ef6-e03a0faee1eso1411465276.1
 for <test-report@dpdk.org>; Wed, 03 Jul 2024 02:01:47 -0700 (PDT)
DKIM-Signature: v=1; a=rsa-sha256; c=relaxed/relaxed;
 d=iol.unh.edu; s=unh-iol; t=1719997307; x=1720602107; darn=dpdk.org;
 h=references:in-reply-to:cc:to:from:subject:message-id:date:from:to
 :cc:subject:date:message-id:reply-to;
 bh=aEFd4n5hO5aQjj4kWXDe9Cs9aGKu1gI+M9nzHgcUdec=;
 b=c6619uzRby4Riuu0qji/K28AOES33Qzi8t2Os8fOHwFpDe4yH9qJSYb+FNcNgKN+WJ
 V65tG9s2475yW5S8KBJQl2xJG17G4Qp5lDSMPhNA4Y5YiFNp3sUjhgcgNbm6tVyewl8X
 /kp7Dv5sDEGsT7mWidQonPmYHkwWmjUMd1Few=
X-Google-DKIM-Signature: v=1; a=rsa-sha256; c=relaxed/relaxed;
 d=1e100.net; s=20230601; t=1719997307; x=1720602107;
 h=references:in-reply-to:cc:to:from:subject:message-id:date
 :x-gm-message-state:from:to:cc:subject:date:message-id:reply-to;
 bh=aEFd4n5hO5aQjj4kWXDe9Cs9aGKu1gI+M9nzHgcUdec=;
 b=S9eR1HVs+7+z94+Yc6fpb8bjKKKAHHN26Qz/SNEf6sLaaRBff1wzBx7k62Tebw4QpA
 LajJ8UoL85J9gV9u32NXkFS7nY06PSyKTNvqC0YFNzb+Y/J226pyR8b/H/7xQ7bx2Dtx
 RUsdwaFSdUrXFvKwupxSlQd8+cFCpSMtc34HZ4DAED3hA/e9XZP3ucIbnDBJjevHtFaY
 4CmwAt2jtA7qb/qrZ6Z0KdpCTcn/2m2wyWkzAL02pMu1p/2ENQtmFzlz21aAaT92kBnX
 SM20TqEhyYBQ+IfCpAk618K7jNVeB7xn2CqD586zkzdNi4Ngmdxqxx2T83tDGRoOsO7e
 DFMQ==
X-Gm-Message-State: AOJu0YxuLM1+kz0KfczF/GWjIZuMpoSUNtOXXqdaHo6BjUreyPwpE1in
 AeGwIVIAHWDw9tJ5Nt/gaTLOEgvVDi9UokgPmQs+ThN5jmyCdt0SAOvaXSsmLjxUUKlANNoFLGM
 7AGA5z50A3oWsFAMYsxVW1P93cexEQ4w4d8XLuNX0
X-Google-Smtp-Source: AGHT+IHEhcY19xUt7SV+5tI6oEHMchrGsV8P0AfyjX3tgRgP8TgNoqnedjbgS/0lzHHwTKQCW7EJz8skADCb
X-Received: by 2002:a25:84d1:0:b0:e03:ac3a:9082 with SMTP id
 3f1490d57ef6-e03ac3a9235mr1221092276.4.1719997306848; 
 Wed, 03 Jul 2024 02:01:46 -0700 (PDT)
Received: from postal.iol.unh.edu (postal.iol.unh.edu. [132.177.123.84])
 by smtp-relay.gmail.com with ESMTPS id
 3f1490d57ef6-e03540ab803sm411622276.32.2024.07.03.02.01.46
 (version=TLS1_2 cipher=ECDHE-ECDSA-AES128-GCM-SHA256 bits=128/128);
 Wed, 03 Jul 2024 02:01:46 -0700 (PDT)
X-Relaying-Domain: iol.unh.edu
Date: Wed, 03 Jul 2024 02:01:46 -0700 (PDT)
Message-ID: <6685137a.050a0220.d9e41.ea04SMTPIN_ADDED_MISSING@mx.google.com>
Received: from [172.17.0.2] (unknown [172.18.0.217])
 by postal.iol.unh.edu (Postfix) with ESMTP id 6880E60526E2;
 Wed,  3 Jul 2024 05:01:46 -0400 (EDT)
Subject: |PENDING| pw142020-142022 [PATCH] [v3,3/3] drivers: replace printf w
From: dpdklab@iol.unh.edu
To: Test Report <test-report@dpdk.org>
Cc: dpdk-test-reports@iol.unh.edu
In-Reply-To: <20240702130856.3927348-3-hemant.agrawal@nxp.com>
References: <20240702130856.3927348-3-hemant.agrawal@nxp.com>
Content-Type: text/plain
X-BeenThere: test-report@dpdk.org
X-Mailman-Version: 2.1.29
Precedence: list
List-Id: automatic DPDK test reports <test-report.dpdk.org>
List-Unsubscribe: <https://mails.dpdk.org/options/test-report>,
 <mailto:test-report-request@dpdk.org?subject=unsubscribe>
List-Archive: <http://mails.dpdk.org/archives/test-report/>
List-Post: <mailto:test-report@dpdk.org>
List-Help: <mailto:test-report-request@dpdk.org?subject=help>
List-Subscribe: <https://mails.dpdk.org/listinfo/test-report>,
 <mailto:test-report-request@dpdk.org?subject=subscribe>
Errors-To: test-report-bounces@dpdk.org

Test-Label: iol-unit-amd64-testing
Test-Status: PENDING
http://dpdk.org/patch/142022

_Testing pending_

Submitter: Hemant Agrawal <hemant.agrawal@nxp.com>
Date: Tuesday, July 02 2024 13:08:56 
DPDK git baseline: Repo:dpdk
  Branch: master
  CommitID:c15902587b538ff02cfb0fbb4dd481f1503d936b

142020-142022 --> testing pending

Test environment and result as below:

+-------------------+----------------+
|    Environment    | dpdk_unit_test |
+===================+================+
| CentOS Stream 8   | PASS           |
+-------------------+----------------+
| CentOS Stream 9   | PASS           |
+-------------------+----------------+
| Debian Bullseye   | PASS           |
+-------------------+----------------+
| Debian 12         | PASS           |
+-------------------+----------------+
| Fedora 37         | PASS           |
+-------------------+----------------+
| Fedora 38         | PASS           |
+-------------------+----------------+
| Fedora 38 (Clang) | PEND           |
+-------------------+----------------+
| Fedora 39         | PASS           |
+-------------------+----------------+
| Fedora 39 (Clang) | PEND           |
+-------------------+----------------+
| Fedora 40         | PASS           |
+-------------------+----------------+
| Fedora 40 (Clang) | PEND           |
+-------------------+----------------+
| openSUSE Leap 15  | PASS           |
+-------------------+----------------+
| RHEL8             | PEND           |
+-------------------+----------------+
| RHEL9             | PEND           |
+-------------------+----------------+
| Ubuntu 20.04      | PEND           |
+-------------------+----------------+
| Ubuntu 22.04      | PEND           |
+-------------------+----------------+
| Ubuntu 24.04      | PEND           |
+-------------------+----------------+


CentOS Stream 8
	Kernel: 5.4.0-167-generic
	Compiler: gcc 8.5.0 20210514

CentOS Stream 9
	Kernel: 5.4.0-167-generic
	Compiler: gcc 11.4.1 20230605

Debian Bullseye
	Kernel: 5.4.0-167-generic
	Compiler: gcc 10.2.1-6

Debian 12
	Kernel: Container Host Kernel
	Compiler: gcc 12.2.0

Fedora 37
	Kernel: Depends on container host system
	Compiler: gcc 12.3.1

Fedora 38
	Kernel: Depends on container host
	Compiler: gcc 13.2.1

Fedora 38 (Clang)
	Kernel: Depends on container host
	Compiler: clang 16.0.6

Fedora 39
	Kernel: Depends on container host
	Compiler: gcc 13.2.1

Fedora 39 (Clang)
	Kernel: Depends on container host
	Compiler: clang 17.0.6

Fedora 40
	Kernel: Depends on container host
	Compiler: gcc 14.1.1

Fedora 40 (Clang)
	Kernel: Depends on container host
	Compiler: clang 18.1.6

openSUSE Leap 15
	Kernel: 5.4.0-167-generic
	Compiler: gcc 7.5.0

RHEL8
	Kernel: 5.4.0-167-generic
	Compiler: gcc 8.5.0 20210514 (Red Hat 8.5.0-20)

RHEL9
	Kernel: Depends on container host
	Compiler: gcc 11.4.1

Ubuntu 20.04
	Kernel: 5.4.0-167-generic
	Compiler: gcc 9.4.0-1ubuntu1~20.04.1

Ubuntu 22.04
	Kernel: 5.4.0-167-generic
	Compiler: gcc 11.4.0

Ubuntu 24.04
	Kernel: 5.4.0-167-generic
	Compiler: gcc 13.2.0

To view detailed results, visit:
https://lab.dpdk.org/results/dashboard/patchsets/30378/

UNH-IOL DPDK Community Lab

To manage your email subscriptions, visit: 
https://lab.dpdk.org/results/dashboard/preferences/subscriptions/