From mboxrd@z Thu Jan  1 00:00:00 1970
Return-Path: <test-report-bounces@dpdk.org>
Received: from mails.dpdk.org (mails.dpdk.org [217.70.189.124])
	by inbox.dpdk.org (Postfix) with ESMTP id BB1724555B
	for <public@inbox.dpdk.org>; Wed,  3 Jul 2024 11:16:19 +0200 (CEST)
Received: from mails.dpdk.org (localhost [127.0.0.1])
	by mails.dpdk.org (Postfix) with ESMTP id B5B8740EDB;
	Wed,  3 Jul 2024 11:16:19 +0200 (CEST)
Received: from mail-pl1-f228.google.com (mail-pl1-f228.google.com
 [209.85.214.228])
 by mails.dpdk.org (Postfix) with ESMTP id 79F2D40E7C
 for <test-report@dpdk.org>; Wed,  3 Jul 2024 11:16:17 +0200 (CEST)
Received: by mail-pl1-f228.google.com with SMTP id
 d9443c01a7336-1f4a5344ec7so3185455ad.1
 for <test-report@dpdk.org>; Wed, 03 Jul 2024 02:16:17 -0700 (PDT)
DKIM-Signature: v=1; a=rsa-sha256; c=relaxed/relaxed;
 d=iol.unh.edu; s=unh-iol; t=1719998177; x=1720602977; darn=dpdk.org;
 h=references:in-reply-to:cc:to:from:subject:message-id:date:from:to
 :cc:subject:date:message-id:reply-to;
 bh=kwtIqzRjnrycwozCTHNCSTuNmCOfpQKpZGnLLq8/QyE=;
 b=VRscbkCMQ0Qw/sTnUp/cS2cwXvwtGCBXOuvLwXT06LdhWZzXlIujCjAEJR1l4h0QTa
 LHeej9d7w4pEv1Oi6RUXsorF4ucRApGoyOABtwVT6Lrx9jHt2Au8jw8bg3dNk7OqClc9
 gjBo5a/479KgXIqzv4pH6JqYJTyZnWGxz/NCA=
X-Google-DKIM-Signature: v=1; a=rsa-sha256; c=relaxed/relaxed;
 d=1e100.net; s=20230601; t=1719998177; x=1720602977;
 h=references:in-reply-to:cc:to:from:subject:message-id:date
 :x-gm-message-state:from:to:cc:subject:date:message-id:reply-to;
 bh=kwtIqzRjnrycwozCTHNCSTuNmCOfpQKpZGnLLq8/QyE=;
 b=dsuTm8dExIlFv9IN8B7yQr4/o2yXj6fEfD+NB/SfyqnxDzpFr4/xRsBZWKOZdRQPzu
 gtEP2Hp1ekTuD3bZcqrwHLAyWWaiOiLOMKJsVNRlXZEl1Bt+HJIpJrdqL2gtPPbgXZ4c
 3OaDvUf+CXQF9F0eXcPRUA7qnheLnUCGd6ojvAxMARQFu76lZDD+wMw9meywcliVD0xB
 A0bcXv6pYUZ8b0lgAnFSVMYUyQ0GGRvmJo/7y0F7RaRtyjwBcdPg3OsHfVvaTFJgmv0H
 TWwEMFRzVMdScnMTlueQdcDDjBgf8fOC6Y5T2hy2sKIO9L2j7agX83OzTiyA+hThLg5T
 iRYQ==
X-Gm-Message-State: AOJu0Yzjdrflkq1snsNqR/dxoF4qMX9UKTWgkGjorBCfLHMBpIFd1Ph+
 jc13KjTOSs8o1PRjYNUpcAQ2I3WmyvvgXDd5r5SoCD5mRfW2O04Z4iyRrt7Nfp41uFkiWigdD/W
 A+6ISw1OZGUq/wY+dZ/nAqKPH1BYtSeNYMNmMG41YLrwOOr+Rf+B9j++Z
X-Google-Smtp-Source: AGHT+IH6OA5nmSA0UrZ6Hgqx4QtRMqMp4bDtb9r6SjPeEm7BxxKvfTfQ+h/Oz/LLbO5XdL9G96OAmM2VHd53
X-Received: by 2002:a17:902:cec1:b0:1f6:e338:2a6 with SMTP id
 d9443c01a7336-1fb1a08ea7bmr17566395ad.23.1719998176623; 
 Wed, 03 Jul 2024 02:16:16 -0700 (PDT)
Received: from postal.iol.unh.edu (postal.iol.unh.edu.
 [2606:4100:3880:1234::84]) by smtp-relay.gmail.com with ESMTPS id
 d9443c01a7336-1fac10e2e0fsm3389695ad.19.2024.07.03.02.16.16
 (version=TLS1_2 cipher=ECDHE-ECDSA-AES128-GCM-SHA256 bits=128/128);
 Wed, 03 Jul 2024 02:16:16 -0700 (PDT)
X-Relaying-Domain: iol.unh.edu
Date: Wed, 03 Jul 2024 02:16:16 -0700 (PDT)
Message-ID: <668516e0.170a0220.32c18.90c9SMTPIN_ADDED_MISSING@mx.google.com>
Received: from [172.17.0.3] (unknown [172.18.0.217])
 by postal.iol.unh.edu (Postfix) with ESMTP id C4AE460526E2;
 Wed,  3 Jul 2024 05:16:15 -0400 (EDT)
Subject: |PENDING| pw142020-142022 [PATCH] [v3,3/3] drivers: replace printf w
From: dpdklab@iol.unh.edu
To: Test Report <test-report@dpdk.org>
Cc: dpdk-test-reports@iol.unh.edu
In-Reply-To: <20240702130856.3927348-3-hemant.agrawal@nxp.com>
References: <20240702130856.3927348-3-hemant.agrawal@nxp.com>
Content-Type: text/plain
X-BeenThere: test-report@dpdk.org
X-Mailman-Version: 2.1.29
Precedence: list
List-Id: automatic DPDK test reports <test-report.dpdk.org>
List-Unsubscribe: <https://mails.dpdk.org/options/test-report>,
 <mailto:test-report-request@dpdk.org?subject=unsubscribe>
List-Archive: <http://mails.dpdk.org/archives/test-report/>
List-Post: <mailto:test-report@dpdk.org>
List-Help: <mailto:test-report-request@dpdk.org?subject=help>
List-Subscribe: <https://mails.dpdk.org/listinfo/test-report>,
 <mailto:test-report-request@dpdk.org?subject=subscribe>
Errors-To: test-report-bounces@dpdk.org

Test-Label: iol-compile-arm64-testing
Test-Status: PENDING
http://dpdk.org/patch/142022

_Testing pending_

Submitter: Hemant Agrawal <hemant.agrawal@nxp.com>
Date: Tuesday, July 02 2024 13:08:56 
DPDK git baseline: Repo:dpdk
  Branch: master
  CommitID:c15902587b538ff02cfb0fbb4dd481f1503d936b

142020-142022 --> testing pending

Test environment and result as below:

+------------------------------------+--------------------+
|            Environment             | dpdk_meson_compile |
+====================================+====================+
| RHEL9 (ARM)                        | PASS               |
+------------------------------------+--------------------+
| Ubuntu 20.04 ARM GCC Cross Compile | PASS               |
+------------------------------------+--------------------+
| Ubuntu 20.04 ARM SVE               | PASS               |
+------------------------------------+--------------------+
| Debian 12 with MUSDK               | PASS               |
+------------------------------------+--------------------+
| Fedora 37 (ARM)                    | PASS               |
+------------------------------------+--------------------+
| Fedora 38 (ARM)                    | PASS               |
+------------------------------------+--------------------+
| Fedora 38 (ARM Clang)              | PEND               |
+------------------------------------+--------------------+
| Fedora 39 (ARM)                    | PASS               |
+------------------------------------+--------------------+
| Fedora 39 (ARM Clang)              | PEND               |
+------------------------------------+--------------------+
| Fedora 40 (ARM)                    | PASS               |
+------------------------------------+--------------------+
| Fedora 40 (ARM Clang)              | PEND               |
+------------------------------------+--------------------+


RHEL9 (ARM)
	Kernel: Depends on container host
	Compiler: gcc 11.4.1

Ubuntu 20.04 ARM GCC Cross Compile
	Kernel: 5.4.0-167-generic
	Compiler: aarch64-linux-gnu-gcc (Ubuntu 9.4.0-1ubuntu1~20.04.2) 9.4.0

Ubuntu 20.04 ARM SVE
	Kernel: 5.4.0-167-generic
	Compiler: gcc (Ubuntu 10.5.0-1ubuntu1~20.04) 10.5.0

Debian 12 with MUSDK
	Kernel: Container Host Kernel
	Compiler: gcc 12.2.0

Fedora 37 (ARM)
	Kernel: Depends on container host
	Compiler: gcc 12.3.1

Fedora 38 (ARM)
	Kernel: Depends on container host
	Compiler: gcc 13.2.1

Fedora 38 (ARM Clang)
	Kernel: Depends on container host
	Compiler: clang 16.0.6

Fedora 39 (ARM)
	Kernel: Depends on container host
	Compiler: gcc 13.2.1

Fedora 39 (ARM Clang)
	Kernel: Depends on container host
	Compiler: clang 17.0.6

Fedora 40 (ARM)
	Kernel: Depends on container host
	Compiler: gcc 14.1.1

Fedora 40 (ARM Clang)
	Kernel: Depends on container host
	Compiler: clang 18.1.6

To view detailed results, visit:
https://lab.dpdk.org/results/dashboard/patchsets/30378/

UNH-IOL DPDK Community Lab

To manage your email subscriptions, visit: 
https://lab.dpdk.org/results/dashboard/preferences/subscriptions/