From mboxrd@z Thu Jan  1 00:00:00 1970
Return-Path: <test-report-bounces@dpdk.org>
Received: from mails.dpdk.org (mails.dpdk.org [217.70.189.124])
	by inbox.dpdk.org (Postfix) with ESMTP id 438744555B
	for <public@inbox.dpdk.org>; Wed,  3 Jul 2024 12:08:56 +0200 (CEST)
Received: from mails.dpdk.org (localhost [127.0.0.1])
	by mails.dpdk.org (Postfix) with ESMTP id 2645F41143;
	Wed,  3 Jul 2024 12:08:56 +0200 (CEST)
Received: from mail-pl1-f226.google.com (mail-pl1-f226.google.com
 [209.85.214.226])
 by mails.dpdk.org (Postfix) with ESMTP id E8C4340E7C
 for <test-report@dpdk.org>; Wed,  3 Jul 2024 12:08:54 +0200 (CEST)
Received: by mail-pl1-f226.google.com with SMTP id
 d9443c01a7336-1fb222a8eaeso776335ad.3
 for <test-report@dpdk.org>; Wed, 03 Jul 2024 03:08:54 -0700 (PDT)
DKIM-Signature: v=1; a=rsa-sha256; c=relaxed/relaxed;
 d=iol.unh.edu; s=unh-iol; t=1720001334; x=1720606134; darn=dpdk.org;
 h=references:in-reply-to:cc:to:from:subject:message-id:date:from:to
 :cc:subject:date:message-id:reply-to;
 bh=qkw0QGBkTPpTAcu9QfQAx1naZC0PTlY/QR8N/3fXr6k=;
 b=IWUSTCgMw3F0ql5Kh6dbRdIUUNUHSyF2fL2Fix2UeFmzzMBK/r1wg6N3fg+RSImAY3
 q3UNBnDHZDFrVm5ssaNjkfnjMKfU/fioEkmuEMk6fJKRbeDR7DcfRkzpEcbUif1wx3Sg
 i7YtU00iuL4TgUOoScTYhFyK70hgU6B476Nss=
X-Google-DKIM-Signature: v=1; a=rsa-sha256; c=relaxed/relaxed;
 d=1e100.net; s=20230601; t=1720001334; x=1720606134;
 h=references:in-reply-to:cc:to:from:subject:message-id:date
 :x-gm-message-state:from:to:cc:subject:date:message-id:reply-to;
 bh=qkw0QGBkTPpTAcu9QfQAx1naZC0PTlY/QR8N/3fXr6k=;
 b=ABpiessf+09xXu1lGGpvHLyOp5yRK/9arP0otoFTDhUWn/0/i4FqlO7RLSlrLdHyfS
 Epsn/sKmnZPEVrN/0BCR+GabTYVQygOQ96BwnlAM2fhaWvoo1Ow5kbF7HYnSIIpqTsYx
 75LTBDygRKC596hOD6T9YDfvUJSicjIS6+291vMa9sfHCiOHjWbLabOwpTpky57cQTrG
 FSuj3UfDr3SCjb//VXeYp1shIU6WdXgOZQVW5LG1xG/xoUaZJOhttisC0Y4A+I0K2fOs
 WRWhnqsBtQEhB/SPF0OP0+sHTq3H7zYuYrsld6dj4r/kM0ZwXTMhgsyozZtLpkmG98bp
 5DhA==
X-Gm-Message-State: AOJu0YyZyW/kqdXdbH8z7mF5+5GdTtjVN6NK0SoHi4arrakhfpJ3zhFx
 C9sQRF+R8pAvNQLhYxmwxQGCAzYJFQb5P0bBATMbxKdYBsoA1OWwoNObNP2fAw6SLdlQRjnWhz7
 0gdImB/OLQKWIMg/vkI7s/Qp0zvdGdy8cDThaKARG
X-Google-Smtp-Source: AGHT+IFfb1T9zJ47zvlF0hkTS0Wk5Ivjpe+5UDMTRooQXIxXrWJYnM7H6m1T1Wpui3maB7nOMahtZVNLKeVC
X-Received: by 2002:a17:902:e745:b0:1f3:2b46:47c9 with SMTP id
 d9443c01a7336-1fadbc8d675mr104516405ad.28.1720001334059; 
 Wed, 03 Jul 2024 03:08:54 -0700 (PDT)
Received: from postal.iol.unh.edu (postal.iol.unh.edu. [132.177.123.84])
 by smtp-relay.gmail.com with ESMTPS id
 d9443c01a7336-1fac11f7c8fsm3406205ad.59.2024.07.03.03.08.53
 (version=TLS1_2 cipher=ECDHE-ECDSA-AES128-GCM-SHA256 bits=128/128);
 Wed, 03 Jul 2024 03:08:54 -0700 (PDT)
X-Relaying-Domain: iol.unh.edu
Date: Wed, 03 Jul 2024 03:08:54 -0700 (PDT)
Message-ID: <66852336.170a0220.fc8e6.9bbcSMTPIN_ADDED_MISSING@mx.google.com>
Received: from [172.21.0.6] (unknown [172.18.0.240])
 by postal.iol.unh.edu (Postfix) with ESMTP id 037AE60526E2;
 Wed,  3 Jul 2024 06:08:53 -0400 (EDT)
Subject: |PENDING| pw142057 [PATCH] vfio: combine container_create and group_
From: dpdklab@iol.unh.edu
To: Test Report <test-report@dpdk.org>
Cc: dpdk-test-reports@iol.unh.edu
In-Reply-To: <20240703054124.89490-1-xiangwencheng@dayudpu.com>
References: <20240703054124.89490-1-xiangwencheng@dayudpu.com>
Content-Type: text/plain
X-BeenThere: test-report@dpdk.org
X-Mailman-Version: 2.1.29
Precedence: list
List-Id: automatic DPDK test reports <test-report.dpdk.org>
List-Unsubscribe: <https://mails.dpdk.org/options/test-report>,
 <mailto:test-report-request@dpdk.org?subject=unsubscribe>
List-Archive: <http://mails.dpdk.org/archives/test-report/>
List-Post: <mailto:test-report@dpdk.org>
List-Help: <mailto:test-report-request@dpdk.org?subject=help>
List-Subscribe: <https://mails.dpdk.org/listinfo/test-report>,
 <mailto:test-report-request@dpdk.org?subject=subscribe>
Errors-To: test-report-bounces@dpdk.org

Test-Label: iol-abi-testing
Test-Status: PENDING
http://dpdk.org/patch/142057

_Testing pending_

Submitter: BillXiang <xiangwencheng@dayudpu.com>
Date: Wednesday, July 03 2024 05:41:24 
DPDK git baseline: Repo:dpdk
  Branch: master
  CommitID:c15902587b538ff02cfb0fbb4dd481f1503d936b

142057 --> testing pending

Test environment and result as below:

+-------------------+----------+
|    Environment    | abi_test |
+===================+==========+
| CentOS Stream 8   | PASS     |
+-------------------+----------+
| CentOS Stream 9   | PASS     |
+-------------------+----------+
| Debian Bullseye   | PASS     |
+-------------------+----------+
| Debian 12         | PASS     |
+-------------------+----------+
| Fedora 37         | PASS     |
+-------------------+----------+
| Fedora 38 (Clang) | PASS     |
+-------------------+----------+
| Fedora 38         | PASS     |
+-------------------+----------+
| Fedora 39 (Clang) | PASS     |
+-------------------+----------+
| Fedora 39         | PASS     |
+-------------------+----------+
| Fedora 40 (Clang) | PASS     |
+-------------------+----------+
| Fedora 40         | PASS     |
+-------------------+----------+
| openSUSE Leap 15  | PEND     |
+-------------------+----------+
| RHEL8             | PASS     |
+-------------------+----------+
| RHEL9             | PASS     |
+-------------------+----------+
| Ubuntu 22.04      | PEND     |
+-------------------+----------+
| Ubuntu 24.04      | PEND     |
+-------------------+----------+


CentOS Stream 8
	Kernel: 5.4.0-167-generic
	Compiler: gcc 8.5.0 20210514

CentOS Stream 9
	Kernel: 5.4.0-167-generic
	Compiler: gcc 11.4.1 20230605

Debian Bullseye
	Kernel: 5.4.0-167-generic
	Compiler: gcc 10.2.1-6

Debian 12
	Kernel: Container Host Kernel
	Compiler: gcc 12.2.0

Fedora 37
	Kernel: Depends on container host system
	Compiler: gcc 12.3.1

Fedora 38 (Clang)
	Kernel: Depends on container host
	Compiler: clang 16.0.6

Fedora 38
	Kernel: Depends on container host
	Compiler: gcc 13.2.1

Fedora 39 (Clang)
	Kernel: Depends on container host
	Compiler: clang 17.0.6

Fedora 39
	Kernel: Depends on container host
	Compiler: gcc 13.2.1

Fedora 40 (Clang)
	Kernel: Depends on container host
	Compiler: clang 18.1.6

Fedora 40
	Kernel: Depends on container host
	Compiler: gcc 14.1.1

openSUSE Leap 15
	Kernel: 5.4.0-167-generic
	Compiler: gcc 7.5.0

RHEL8
	Kernel: 5.4.0-167-generic
	Compiler: gcc 8.5.0 20210514 (Red Hat 8.5.0-20)

RHEL9
	Kernel: Depends on container host
	Compiler: gcc 11.4.1

Ubuntu 22.04
	Kernel: 5.4.0-167-generic
	Compiler: gcc 11.4.0

Ubuntu 24.04
	Kernel: 5.4.0-167-generic
	Compiler: gcc 13.2.0

To view detailed results, visit:
https://lab.dpdk.org/results/dashboard/patchsets/30394/

UNH-IOL DPDK Community Lab

To manage your email subscriptions, visit: 
https://lab.dpdk.org/results/dashboard/preferences/subscriptions/