From mboxrd@z Thu Jan  1 00:00:00 1970
Return-Path: <test-report-bounces@dpdk.org>
Received: from mails.dpdk.org (mails.dpdk.org [217.70.189.124])
	by inbox.dpdk.org (Postfix) with ESMTP id 9723345562
	for <public@inbox.dpdk.org>; Wed,  3 Jul 2024 16:54:42 +0200 (CEST)
Received: from mails.dpdk.org (localhost [127.0.0.1])
	by mails.dpdk.org (Postfix) with ESMTP id 00A364279C;
	Wed,  3 Jul 2024 16:54:41 +0200 (CEST)
Received: from mail-il1-f227.google.com (mail-il1-f227.google.com
 [209.85.166.227])
 by mails.dpdk.org (Postfix) with ESMTP id 4909A40DD5
 for <test-report@dpdk.org>; Wed,  3 Jul 2024 16:54:39 +0200 (CEST)
Received: by mail-il1-f227.google.com with SMTP id
 e9e14a558f8ab-376012bcc33so22063155ab.2
 for <test-report@dpdk.org>; Wed, 03 Jul 2024 07:54:39 -0700 (PDT)
DKIM-Signature: v=1; a=rsa-sha256; c=relaxed/relaxed;
 d=iol.unh.edu; s=unh-iol; t=1720018478; x=1720623278; darn=dpdk.org;
 h=references:in-reply-to:cc:to:from:subject:message-id:date:from:to
 :cc:subject:date:message-id:reply-to;
 bh=utI0A4UDqjZfhVlXFWvWgipVR8ujKaDs/au1kvW0b3A=;
 b=AQktug3Ik3/0hwy+1uPdQuWrfHmwlUvuH9CXt5+OJ4a2jvR344+rga4QoCWlOqXZ5w
 KEbm/Q6v3b8bgzL5iReiR6oISaB9xgONwwg/5PH4YUjhKJQD7k0PKS9c+FRFi/P0nqJB
 B1n18UIQjS25PqVTJLn3NAQ53jyosHkJRm2bU=
X-Google-DKIM-Signature: v=1; a=rsa-sha256; c=relaxed/relaxed;
 d=1e100.net; s=20230601; t=1720018478; x=1720623278;
 h=references:in-reply-to:cc:to:from:subject:message-id:date
 :x-gm-message-state:from:to:cc:subject:date:message-id:reply-to;
 bh=utI0A4UDqjZfhVlXFWvWgipVR8ujKaDs/au1kvW0b3A=;
 b=w3QVs+y55eIshYjw6krlJfA+uLTJzlMa+gJDduUt3MaJDksmyGdVfNhCxOrMF3ZnPX
 DmoZS5DklbM375Lzu1hCMR8ZbYG3lt9bbN3pPaJt7M0KLW/wLi42lWxEV1b7sB6/U1V1
 gjEfF05QCbidVOjUYG65aF9o6fQLyyHY3wYHg60JyxbuL6GI+4PTTpAzJHkoyUiflS5s
 u7/zCDJxKkwDVQRiLpEFWpc7CzEgqkD42HfjggqQHBNo1fD2+AgtwsI6K06BvJobTBUd
 8gPX/ghzn+/Vt1/pf6tsm/Z3siIUg7dRW3Ay+jWMc4Fmpb9e4YZSIQjxWm4i88tN0Cga
 Bw4Q==
X-Gm-Message-State: AOJu0YyR5L/VCwISvKVuQIDvu8s/wzYFjVD92E/dIZHWAT2skBjNuwAX
 zbxwctT+hWQmALHlGhph/ilENmTZ0Q/WLXSqb8RLS9rkVwg7vRtewX7if5l0nmXcNHnxM0pNem4
 t458rSJFV6kq5oHH/u+oRehLPwfQu6TFfycdhTr6hID2EeZZcVwju5LSl
X-Google-Smtp-Source: AGHT+IE9uQ6kJfwowLNFe980MOpBXDPwxGm/wcgkINzEHpot+VReO9BddKSSso7B9KPRugae2bB2UMneqLbd
X-Received: by 2002:a05:6e02:1c2c:b0:380:eb36:f481 with SMTP id
 e9e14a558f8ab-380eb36f61bmr52634515ab.13.1720018478560; 
 Wed, 03 Jul 2024 07:54:38 -0700 (PDT)
Received: from postal.iol.unh.edu (postal.iol.unh.edu.
 [2606:4100:3880:1234::84]) by smtp-relay.gmail.com with ESMTPS id
 e9e14a558f8ab-37ad418695fsm5029675ab.51.2024.07.03.07.54.38
 (version=TLS1_2 cipher=ECDHE-ECDSA-AES128-GCM-SHA256 bits=128/128);
 Wed, 03 Jul 2024 07:54:38 -0700 (PDT)
X-Relaying-Domain: iol.unh.edu
Date: Wed, 03 Jul 2024 07:54:38 -0700 (PDT)
Message-ID: <6685662e.920a0220.b76c.5f15SMTPIN_ADDED_MISSING@mx.google.com>
Received: from [172.21.0.7] (unknown [172.18.0.240])
 by postal.iol.unh.edu (Postfix) with ESMTP id 1AE256050A6B;
 Wed,  3 Jul 2024 10:54:38 -0400 (EDT)
Subject: |PENDING| pw142020-142022 [PATCH] [v3,3/3] drivers: replace printf w
From: dpdklab@iol.unh.edu
To: Test Report <test-report@dpdk.org>
Cc: dpdk-test-reports@iol.unh.edu
In-Reply-To: <20240702130856.3927348-3-hemant.agrawal@nxp.com>
References: <20240702130856.3927348-3-hemant.agrawal@nxp.com>
Content-Type: text/plain
X-BeenThere: test-report@dpdk.org
X-Mailman-Version: 2.1.29
Precedence: list
List-Id: automatic DPDK test reports <test-report.dpdk.org>
List-Unsubscribe: <https://mails.dpdk.org/options/test-report>,
 <mailto:test-report-request@dpdk.org?subject=unsubscribe>
List-Archive: <http://mails.dpdk.org/archives/test-report/>
List-Post: <mailto:test-report@dpdk.org>
List-Help: <mailto:test-report-request@dpdk.org?subject=help>
List-Subscribe: <https://mails.dpdk.org/listinfo/test-report>,
 <mailto:test-report-request@dpdk.org?subject=subscribe>
Errors-To: test-report-bounces@dpdk.org

Test-Label: iol-unit-arm64-testing
Test-Status: PENDING
http://dpdk.org/patch/142022

_Testing pending_

Submitter: Hemant Agrawal <hemant.agrawal@nxp.com>
Date: Tuesday, July 02 2024 13:08:56 
DPDK git baseline: Repo:dpdk
  Branch: master
  CommitID:c15902587b538ff02cfb0fbb4dd481f1503d936b

142020-142022 --> testing pending

Test environment and result as below:

+-----------------------------+--------------+----------------+---------------------------+------------------------------+
|         Environment         | lpm_autotest | dpdk_unit_test | cryptodev_sw_zuc_autotest | cryptodev_sw_snow3g_autotest |
+=============================+==============+================+===========================+==============================+
| Ubuntu 20.04 ARM SVE        | PASS         | SKIPPED        | SKIPPED                   | SKIPPED                      |
+-----------------------------+--------------+----------------+---------------------------+------------------------------+
| 32-bit Ubuntu 20.04.4 (ARM) | SKIPPED      | PASS           | SKIPPED                   | SKIPPED                      |
+-----------------------------+--------------+----------------+---------------------------+------------------------------+
| CentOS Stream 9 (ARM)       | SKIPPED      | PASS           | SKIPPED                   | SKIPPED                      |
+-----------------------------+--------------+----------------+---------------------------+------------------------------+
| Debian 11 (Buster) (ARM)    | SKIPPED      | PASS           | SKIPPED                   | SKIPPED                      |
+-----------------------------+--------------+----------------+---------------------------+------------------------------+
| Fedora 37 (ARM)             | SKIPPED      | PASS           | SKIPPED                   | SKIPPED                      |
+-----------------------------+--------------+----------------+---------------------------+------------------------------+
| Debian 12 (arm)             | SKIPPED      | PASS           | PASS                      | PASS                         |
+-----------------------------+--------------+----------------+---------------------------+------------------------------+
| Fedora 38 (ARM)             | SKIPPED      | PASS           | SKIPPED                   | SKIPPED                      |
+-----------------------------+--------------+----------------+---------------------------+------------------------------+
| Fedora 38 (ARM Clang)       | SKIPPED      | PASS           | SKIPPED                   | SKIPPED                      |
+-----------------------------+--------------+----------------+---------------------------+------------------------------+
| Fedora 39 (ARM)             | SKIPPED      | PASS           | SKIPPED                   | SKIPPED                      |
+-----------------------------+--------------+----------------+---------------------------+------------------------------+
| Fedora 39 (ARM Clang)       | SKIPPED      | PASS           | SKIPPED                   | SKIPPED                      |
+-----------------------------+--------------+----------------+---------------------------+------------------------------+
| Fedora 40 (ARM)             | SKIPPED      | PASS           | SKIPPED                   | SKIPPED                      |
+-----------------------------+--------------+----------------+---------------------------+------------------------------+
| Fedora 40 (ARM Clang)       | SKIPPED      | PASS           | SKIPPED                   | SKIPPED                      |
+-----------------------------+--------------+----------------+---------------------------+------------------------------+
| RHEL9 (ARM)                 | SKIPPED      | PASS           | SKIPPED                   | SKIPPED                      |
+-----------------------------+--------------+----------------+---------------------------+------------------------------+
| Ubuntu 20.04 (ARM)          | SKIPPED      | PASS           | SKIPPED                   | SKIPPED                      |
+-----------------------------+--------------+----------------+---------------------------+------------------------------+
| Ubuntu 22.04 (ARM)          | SKIPPED      | PEND           | SKIPPED                   | SKIPPED                      |
+-----------------------------+--------------+----------------+---------------------------+------------------------------+
| Ubuntu 24.04 (ARM)          | SKIPPED      | PEND           | SKIPPED                   | SKIPPED                      |
+-----------------------------+--------------+----------------+---------------------------+------------------------------+


Ubuntu 20.04 ARM SVE
	Kernel: 5.4.0-167-generic
	Compiler: gcc (Ubuntu 10.5.0-1ubuntu1~20.04) 10.5.0

32-bit Ubuntu 20.04.4 (ARM)
	Kernel: 5.4.0-155-generic aarch64
	Compiler: gcc 9.4

CentOS Stream 9 (ARM)
	Kernel: Container Host Kernel
	Compiler: gcc 11.4.1

Debian 11 (Buster) (ARM)
	Kernel: Container Host Kernel
	Compiler: gcc 10.2.1

Fedora 37 (ARM)
	Kernel: Depends on container host
	Compiler: gcc 12.3.1

Debian 12 (arm)
	Kernel: Container Host Kernel
	Compiler: gcc 12.2.0

Fedora 38 (ARM)
	Kernel: Depends on container host
	Compiler: gcc 13.2.1

Fedora 38 (ARM Clang)
	Kernel: Depends on container host
	Compiler: clang 16.0.6

Fedora 39 (ARM)
	Kernel: Depends on container host
	Compiler: gcc 13.2.1

Fedora 39 (ARM Clang)
	Kernel: Depends on container host
	Compiler: clang 17.0.6

Fedora 40 (ARM)
	Kernel: Depends on container host
	Compiler: gcc 14.1.1

Fedora 40 (ARM Clang)
	Kernel: Depends on container host
	Compiler: clang 18.1.6

RHEL9 (ARM)
	Kernel: Depends on container host
	Compiler: gcc 11.4.1

Ubuntu 20.04 (ARM)
	Kernel: Container Host Kernel
	Compiler: gcc 9.4.0

Ubuntu 22.04 (ARM)
	Kernel: Container Host Kernel
	Compiler: gcc 11.4.0

Ubuntu 24.04 (ARM)
	Kernel: 5.4.0-167-generic
	Compiler: gcc 13.2.0

To view detailed results, visit:
https://lab.dpdk.org/results/dashboard/patchsets/30378/

UNH-IOL DPDK Community Lab

To manage your email subscriptions, visit: 
https://lab.dpdk.org/results/dashboard/preferences/subscriptions/