From mboxrd@z Thu Jan  1 00:00:00 1970
Return-Path: <test-report-bounces@dpdk.org>
Received: from mails.dpdk.org (mails.dpdk.org [217.70.189.124])
	by inbox.dpdk.org (Postfix) with ESMTP id 3583A45565
	for <public@inbox.dpdk.org>; Wed,  3 Jul 2024 19:37:31 +0200 (CEST)
Received: from mails.dpdk.org (localhost [127.0.0.1])
	by mails.dpdk.org (Postfix) with ESMTP id 40DA64278B;
	Wed,  3 Jul 2024 19:37:30 +0200 (CEST)
Received: from mail-qv1-f98.google.com (mail-qv1-f98.google.com
 [209.85.219.98]) by mails.dpdk.org (Postfix) with ESMTP id 17FF040EDC
 for <test-report@dpdk.org>; Wed,  3 Jul 2024 19:37:29 +0200 (CEST)
Received: by mail-qv1-f98.google.com with SMTP id
 6a1803df08f44-6b42574830fso26007796d6.2
 for <test-report@dpdk.org>; Wed, 03 Jul 2024 10:37:29 -0700 (PDT)
DKIM-Signature: v=1; a=rsa-sha256; c=relaxed/relaxed;
 d=iol.unh.edu; s=unh-iol; t=1720028248; x=1720633048; darn=dpdk.org;
 h=references:in-reply-to:cc:to:from:subject:message-id:date:from:to
 :cc:subject:date:message-id:reply-to;
 bh=sycXj6mmpYjPSZMIbB8zyyxlueTvqOCf2OAPACF+nck=;
 b=ZRLz+T3mXT06kG+8uQWIsSf+cKLL9/+k1uqy/SAsxJGvb8Yl+4gKwgXZb/yvd0RIwO
 S/+Mn4ZgKSYxCMTS86bSFdGjWhrpJGox/h6MtEpClWaEF+DG9+RvuuX90HVvMdBoHeE3
 HhuLESZKfqPzJ/BBKIZ2/h9NrFYRf2+QR69ys=
X-Google-DKIM-Signature: v=1; a=rsa-sha256; c=relaxed/relaxed;
 d=1e100.net; s=20230601; t=1720028248; x=1720633048;
 h=references:in-reply-to:cc:to:from:subject:message-id:date
 :x-gm-message-state:from:to:cc:subject:date:message-id:reply-to;
 bh=sycXj6mmpYjPSZMIbB8zyyxlueTvqOCf2OAPACF+nck=;
 b=WeEzU84s7+gvtSJN0EMmwUgIosi0iVaP6JdzgNsWZMr9gvZXxPWiyPAL9fvmFWkzS7
 +J9i9xzuLgegzurWboxsNOCVqiK2NOIGend39/lSj3Ff76z18n/wNzjkVrwrd0C71d5J
 zK2rCYx+BBRKmNlAmU3LArPkH2SVygYCPhDhHua/ESApXCEEVy6071FkE83YKug07odx
 CUXu9PHWS9qTyHDFYGYLQtDio3X06AE4i0ZEssycYCN3Ubus8eg6pzHw1l5GbNhoZAu1
 1frrGiAemxuPpL/h6LjChp76akxuwi4Z/uq+kFvBfW/HLQvslVrfTVlRMBZTNi+f2f+R
 rfGg==
X-Gm-Message-State: AOJu0Yx1viVaXJZTNnKqQKI/RgxRD848SkYY02mW9toPmZnVz3MKI+cg
 UdZeKlm4HRyOHWyIhW5qY8hL+vaKtu5uxAw7KQlq0DF+V1afIxP3xW8fTd0ql6dN/aSjsK9BL6z
 ogOTHrDRJ5uCcXedOV+LkZMw0q6oYQs23mSmr6pGDHGUzVSx36XV6JzcR
X-Google-Smtp-Source: AGHT+IEJdmkOnHdrFJYW7jaHSzztRQw1Q/84XfG/UDWBZtXBKxCyfyG6uDNKb6g86Sw4Ehhq83uQcHnRqZmb
X-Received: by 2002:a05:6214:cae:b0:6b5:e665:7f1 with SMTP id
 6a1803df08f44-6b5e6650c0bmr13422856d6.14.1720028248363; 
 Wed, 03 Jul 2024 10:37:28 -0700 (PDT)
Received: from postal.iol.unh.edu (postal.iol.unh.edu.
 [2606:4100:3880:1234::84]) by smtp-relay.gmail.com with ESMTPS id
 6a1803df08f44-6b5dfd1e00bsm949886d6.15.2024.07.03.10.37.28
 (version=TLS1_2 cipher=ECDHE-ECDSA-AES128-GCM-SHA256 bits=128/128);
 Wed, 03 Jul 2024 10:37:28 -0700 (PDT)
X-Relaying-Domain: iol.unh.edu
Date: Wed, 03 Jul 2024 10:37:28 -0700 (PDT)
Message-ID: <66858c58.d40a0220.d09f1.6fc8SMTPIN_ADDED_MISSING@mx.google.com>
Received: from [172.17.0.3] (unknown [172.18.0.217])
 by postal.iol.unh.edu (Postfix) with ESMTP id 0D5A4605C351;
 Wed,  3 Jul 2024 13:37:28 -0400 (EDT)
Subject: |PENDING| pw142016 [PATCH] driver: crypto: scheduler: fix session si
From: dpdklab@iol.unh.edu
To: Test Report <test-report@dpdk.org>
Cc: dpdk-test-reports@iol.unh.edu
In-Reply-To: <20240702075052.1697714-1-jhascoet@kalrayinc.com>
References: <20240702075052.1697714-1-jhascoet@kalrayinc.com>
Content-Type: text/plain
X-BeenThere: test-report@dpdk.org
X-Mailman-Version: 2.1.29
Precedence: list
List-Id: automatic DPDK test reports <test-report.dpdk.org>
List-Unsubscribe: <https://mails.dpdk.org/options/test-report>,
 <mailto:test-report-request@dpdk.org?subject=unsubscribe>
List-Archive: <http://mails.dpdk.org/archives/test-report/>
List-Post: <mailto:test-report@dpdk.org>
List-Help: <mailto:test-report-request@dpdk.org?subject=help>
List-Subscribe: <https://mails.dpdk.org/listinfo/test-report>,
 <mailto:test-report-request@dpdk.org?subject=subscribe>
Errors-To: test-report-bounces@dpdk.org

Test-Label: iol-unit-arm64-testing
Test-Status: PENDING
http://dpdk.org/patch/142016

_Testing pending_

Submitter: jhascoet <ju.hascoet@gmail.com>
Date: Tuesday, July 02 2024 07:50:52 
DPDK git baseline: Repo:dpdk
  Branch: master
  CommitID:22753c9544232e547584c9917572cd05cc29bec6

142016 --> testing pending

Test environment and result as below:

+-----------------------------+----------------+--------------+---------------------------+------------------------------+
|         Environment         | dpdk_unit_test | lpm_autotest | cryptodev_sw_zuc_autotest | cryptodev_sw_snow3g_autotest |
+=============================+================+==============+===========================+==============================+
| CentOS Stream 9 (ARM)       | PASS           | SKIPPED      | SKIPPED                   | SKIPPED                      |
+-----------------------------+----------------+--------------+---------------------------+------------------------------+
| Debian 11 (Buster) (ARM)    | PASS           | SKIPPED      | SKIPPED                   | SKIPPED                      |
+-----------------------------+----------------+--------------+---------------------------+------------------------------+
| Debian 12 (arm)             | PASS           | SKIPPED      | PEND                      | PEND                         |
+-----------------------------+----------------+--------------+---------------------------+------------------------------+
| Fedora 37 (ARM)             | PASS           | SKIPPED      | SKIPPED                   | SKIPPED                      |
+-----------------------------+----------------+--------------+---------------------------+------------------------------+
| Fedora 38 (ARM)             | PASS           | SKIPPED      | SKIPPED                   | SKIPPED                      |
+-----------------------------+----------------+--------------+---------------------------+------------------------------+
| Fedora 38 (ARM Clang)       | PASS           | SKIPPED      | SKIPPED                   | SKIPPED                      |
+-----------------------------+----------------+--------------+---------------------------+------------------------------+
| Fedora 39 (ARM)             | PASS           | SKIPPED      | SKIPPED                   | SKIPPED                      |
+-----------------------------+----------------+--------------+---------------------------+------------------------------+
| Fedora 39 (ARM Clang)       | PASS           | SKIPPED      | SKIPPED                   | SKIPPED                      |
+-----------------------------+----------------+--------------+---------------------------+------------------------------+
| Fedora 40 (ARM)             | PASS           | SKIPPED      | SKIPPED                   | SKIPPED                      |
+-----------------------------+----------------+--------------+---------------------------+------------------------------+
| Fedora 40 (ARM Clang)       | PEND           | SKIPPED      | SKIPPED                   | SKIPPED                      |
+-----------------------------+----------------+--------------+---------------------------+------------------------------+
| RHEL9 (ARM)                 | PEND           | SKIPPED      | SKIPPED                   | SKIPPED                      |
+-----------------------------+----------------+--------------+---------------------------+------------------------------+
| Ubuntu 20.04 (ARM)          | PEND           | SKIPPED      | SKIPPED                   | SKIPPED                      |
+-----------------------------+----------------+--------------+---------------------------+------------------------------+
| Ubuntu 24.04 (ARM)          | PEND           | SKIPPED      | SKIPPED                   | SKIPPED                      |
+-----------------------------+----------------+--------------+---------------------------+------------------------------+
| Ubuntu 22.04 (ARM)          | PEND           | SKIPPED      | SKIPPED                   | SKIPPED                      |
+-----------------------------+----------------+--------------+---------------------------+------------------------------+
| 32-bit Ubuntu 20.04.4 (ARM) | PASS           | SKIPPED      | SKIPPED                   | SKIPPED                      |
+-----------------------------+----------------+--------------+---------------------------+------------------------------+
| Ubuntu 20.04 ARM SVE        | SKIPPED        | PASS         | SKIPPED                   | SKIPPED                      |
+-----------------------------+----------------+--------------+---------------------------+------------------------------+


CentOS Stream 9 (ARM)
	Kernel: Container Host Kernel
	Compiler: gcc 11.4.1

Debian 11 (Buster) (ARM)
	Kernel: Container Host Kernel
	Compiler: gcc 10.2.1

Debian 12 (arm)
	Kernel: Container Host Kernel
	Compiler: gcc 12.2.0

Fedora 37 (ARM)
	Kernel: Depends on container host
	Compiler: gcc 12.3.1

Fedora 38 (ARM)
	Kernel: Depends on container host
	Compiler: gcc 13.2.1

Fedora 38 (ARM Clang)
	Kernel: Depends on container host
	Compiler: clang 16.0.6

Fedora 39 (ARM)
	Kernel: Depends on container host
	Compiler: gcc 13.2.1

Fedora 39 (ARM Clang)
	Kernel: Depends on container host
	Compiler: clang 17.0.6

Fedora 40 (ARM)
	Kernel: Depends on container host
	Compiler: gcc 14.1.1

Fedora 40 (ARM Clang)
	Kernel: Depends on container host
	Compiler: clang 18.1.6

RHEL9 (ARM)
	Kernel: Depends on container host
	Compiler: gcc 11.4.1

Ubuntu 20.04 (ARM)
	Kernel: Container Host Kernel
	Compiler: gcc 9.4.0

Ubuntu 24.04 (ARM)
	Kernel: 5.4.0-167-generic
	Compiler: gcc 13.2.0

Ubuntu 22.04 (ARM)
	Kernel: Container Host Kernel
	Compiler: gcc 11.4.0

32-bit Ubuntu 20.04.4 (ARM)
	Kernel: 5.4.0-155-generic aarch64
	Compiler: gcc 9.4

Ubuntu 20.04 ARM SVE
	Kernel: 5.4.0-167-generic
	Compiler: gcc (Ubuntu 10.5.0-1ubuntu1~20.04) 10.5.0

To view detailed results, visit:
https://lab.dpdk.org/results/dashboard/patchsets/30375/

UNH-IOL DPDK Community Lab

To manage your email subscriptions, visit: 
https://lab.dpdk.org/results/dashboard/preferences/subscriptions/