From mboxrd@z Thu Jan  1 00:00:00 1970
Return-Path: <test-report-bounces@dpdk.org>
Received: from mails.dpdk.org (mails.dpdk.org [217.70.189.124])
	by inbox.dpdk.org (Postfix) with ESMTP id 5F3BF45565
	for <public@inbox.dpdk.org>; Thu,  4 Jul 2024 00:18:28 +0200 (CEST)
Received: from mails.dpdk.org (localhost [127.0.0.1])
	by mails.dpdk.org (Postfix) with ESMTP id 608F1402A7;
	Thu,  4 Jul 2024 00:18:28 +0200 (CEST)
Received: from mail-yw1-f226.google.com (mail-yw1-f226.google.com
 [209.85.128.226])
 by mails.dpdk.org (Postfix) with ESMTP id E5CED40263
 for <test-report@dpdk.org>; Thu,  4 Jul 2024 00:18:21 +0200 (CEST)
Received: by mail-yw1-f226.google.com with SMTP id
 00721157ae682-64f4fb6ce65so30667b3.2
 for <test-report@dpdk.org>; Wed, 03 Jul 2024 15:18:21 -0700 (PDT)
DKIM-Signature: v=1; a=rsa-sha256; c=relaxed/relaxed;
 d=iol.unh.edu; s=unh-iol; t=1720045101; x=1720649901; darn=dpdk.org;
 h=references:in-reply-to:cc:to:from:subject:message-id:date:from:to
 :cc:subject:date:message-id:reply-to;
 bh=IT9TemQkSVzEaeoXP0Wnpb7Kny7OHhau0mrQL/aipXo=;
 b=FJAjUzDkjJ/A9B0eEvxGMiSsdm8C3X7NPXwcWRyYuKWSk1H0CVwqnP61AHiOTyPt7V
 6h42msVgwkHzQteGMir18vrULfoWvnMr3aCPExPOFPAo9FGRNpcbc6wSFfpVShQGtwqD
 4F1JbOPJ381/VdD2RBT9lJ3239VE5J4RLD7EI=
X-Google-DKIM-Signature: v=1; a=rsa-sha256; c=relaxed/relaxed;
 d=1e100.net; s=20230601; t=1720045101; x=1720649901;
 h=references:in-reply-to:cc:to:from:subject:message-id:date
 :x-gm-message-state:from:to:cc:subject:date:message-id:reply-to;
 bh=IT9TemQkSVzEaeoXP0Wnpb7Kny7OHhau0mrQL/aipXo=;
 b=wTj0PYTK8TdhhvrZvwIx8B0iX90YVixocMDQSkKmFQ5b3r9tBtRjfQCz8RUWfVhmhh
 ZzUADS+MKo+ZbSoQzLEZxMa8bDoNCGpwRjEriBFDEbIF4ohUpLqBLe4gTYXzoZtlWhld
 KKOyvkueG3iEy0JgFlAEoQjPCJgVQenTAuLh/XLKhfDFCaS74He9AGn0S4/QDSyY8F0B
 KnEsr3ljHyuUQnEEaSU2CJMAzmhABtIrN0OXBXCKVz5lfVz+iirzacBDmIidBtouxXWj
 5gysCUZ9rVDoVtMIFo0VwHVoqVkvTGQxz2sgvunES0YzpGi98xuMAfFnKvWlV5B4SHMN
 8YSg==
X-Gm-Message-State: AOJu0YxYfpLcBFMG28MgKMJCPoAMcLdr6HNeIkPn87UWwY/DddtucjZp
 fheGrXxmLVNM/8uS1NVE6Md8mSaxTPobtPxmnA2LrAItnGL6FXFIn4MMDdDQz/OmiUohWVbWG+T
 Hl6OXkZfIebBBcEtarLL4zEnLNlZt0CFp88CO9hJw
X-Google-Smtp-Source: AGHT+IHpygeLxCfgD4uqEEgo2VlM+dN8nIeeV9tMYGT5d8H1avxq/5OFICmeDh3DHm/Uhp0hEh/wjLZRxB12
X-Received: by 2002:a81:de05:0:b0:62c:fcba:cfeb with SMTP id
 00721157ae682-64c72f39717mr124758107b3.34.1720045101311; 
 Wed, 03 Jul 2024 15:18:21 -0700 (PDT)
Received: from postal.iol.unh.edu (postal.iol.unh.edu. [132.177.123.84])
 by smtp-relay.gmail.com with ESMTPS id
 00721157ae682-64a9a6154f2sm2310917b3.21.2024.07.03.15.18.21
 (version=TLS1_2 cipher=ECDHE-ECDSA-AES128-GCM-SHA256 bits=128/128);
 Wed, 03 Jul 2024 15:18:21 -0700 (PDT)
X-Relaying-Domain: iol.unh.edu
Date: Wed, 03 Jul 2024 15:18:21 -0700 (PDT)
Message-ID: <6685ce2d.050a0220.d038a.0c89SMTPIN_ADDED_MISSING@mx.google.com>
Received: from [172.21.0.6] (unknown [172.18.0.240])
 by postal.iol.unh.edu (Postfix) with ESMTP id 97BC0605C351;
 Wed,  3 Jul 2024 18:18:20 -0400 (EDT)
Subject: |PENDING| pw142110-142112 [PATCH] [v5,3/3] dts: queue suite conf sch
From: dpdklab@iol.unh.edu
To: Test Report <test-report@dpdk.org>
Cc: dpdk-test-reports@iol.unh.edu
In-Reply-To: <20240703180820.18723-3-dmarx@iol.unh.edu>
References: <20240703180820.18723-3-dmarx@iol.unh.edu>
Content-Type: text/plain
X-BeenThere: test-report@dpdk.org
X-Mailman-Version: 2.1.29
Precedence: list
List-Id: automatic DPDK test reports <test-report.dpdk.org>
List-Unsubscribe: <https://mails.dpdk.org/options/test-report>,
 <mailto:test-report-request@dpdk.org?subject=unsubscribe>
List-Archive: <http://mails.dpdk.org/archives/test-report/>
List-Post: <mailto:test-report@dpdk.org>
List-Help: <mailto:test-report-request@dpdk.org?subject=help>
List-Subscribe: <https://mails.dpdk.org/listinfo/test-report>,
 <mailto:test-report-request@dpdk.org?subject=subscribe>
Errors-To: test-report-bounces@dpdk.org

Test-Label: iol-abi-testing
Test-Status: PENDING
http://dpdk.org/patch/142112

_Testing pending_

Submitter: Dean Marx <dmarx@iol.unh.edu>
Date: Wednesday, July 03 2024 18:08:20 
DPDK git baseline: Repo:dpdk
  Branch: master
  CommitID:95bea772528d316c969a170e6206f3b05ac39413

142110-142112 --> testing pending

Test environment and result as below:

+-------------------+----------+
|    Environment    | abi_test |
+===================+==========+
| CentOS Stream 8   | PASS     |
+-------------------+----------+
| Debian Bullseye   | PASS     |
+-------------------+----------+
| CentOS Stream 9   | PASS     |
+-------------------+----------+
| Debian 12         | PASS     |
+-------------------+----------+
| Fedora 37         | PASS     |
+-------------------+----------+
| Fedora 38 (Clang) | PASS     |
+-------------------+----------+
| Fedora 38         | PASS     |
+-------------------+----------+
| Fedora 39 (Clang) | PASS     |
+-------------------+----------+
| Fedora 39         | PEND     |
+-------------------+----------+
| Fedora 40 (Clang) | PASS     |
+-------------------+----------+
| Fedora 40         | PEND     |
+-------------------+----------+
| RHEL9             | PASS     |
+-------------------+----------+
| openSUSE Leap 15  | PASS     |
+-------------------+----------+
| RHEL8             | PASS     |
+-------------------+----------+
| Ubuntu 22.04      | PEND     |
+-------------------+----------+
| Ubuntu 24.04      | PEND     |
+-------------------+----------+


CentOS Stream 8
	Kernel: 5.4.0-167-generic
	Compiler: gcc 8.5.0 20210514

Debian Bullseye
	Kernel: 5.4.0-167-generic
	Compiler: gcc 10.2.1-6

CentOS Stream 9
	Kernel: 5.4.0-167-generic
	Compiler: gcc 11.4.1 20230605

Debian 12
	Kernel: Container Host Kernel
	Compiler: gcc 12.2.0

Fedora 37
	Kernel: Depends on container host system
	Compiler: gcc 12.3.1

Fedora 38 (Clang)
	Kernel: Depends on container host
	Compiler: clang 16.0.6

Fedora 38
	Kernel: Depends on container host
	Compiler: gcc 13.2.1

Fedora 39 (Clang)
	Kernel: Depends on container host
	Compiler: clang 17.0.6

Fedora 39
	Kernel: Depends on container host
	Compiler: gcc 13.2.1

Fedora 40 (Clang)
	Kernel: Depends on container host
	Compiler: clang 18.1.6

Fedora 40
	Kernel: Depends on container host
	Compiler: gcc 14.1.1

RHEL9
	Kernel: Depends on container host
	Compiler: gcc 11.4.1

openSUSE Leap 15
	Kernel: 5.4.0-167-generic
	Compiler: gcc 7.5.0

RHEL8
	Kernel: 5.4.0-167-generic
	Compiler: gcc 8.5.0 20210514 (Red Hat 8.5.0-20)

Ubuntu 22.04
	Kernel: 5.4.0-167-generic
	Compiler: gcc 11.4.0

Ubuntu 24.04
	Kernel: 5.4.0-167-generic
	Compiler: gcc 13.2.0

To view detailed results, visit:
https://lab.dpdk.org/results/dashboard/patchsets/30411/

UNH-IOL DPDK Community Lab

To manage your email subscriptions, visit: 
https://lab.dpdk.org/results/dashboard/preferences/subscriptions/