From mboxrd@z Thu Jan  1 00:00:00 1970
Return-Path: <test-report-bounces@dpdk.org>
Received: from mails.dpdk.org (mails.dpdk.org [217.70.189.124])
	by inbox.dpdk.org (Postfix) with ESMTP id 2E32F45587
	for <public@inbox.dpdk.org>; Thu,  4 Jul 2024 10:14:48 +0200 (CEST)
Received: from mails.dpdk.org (localhost [127.0.0.1])
	by mails.dpdk.org (Postfix) with ESMTP id 275834025C;
	Thu,  4 Jul 2024 10:14:48 +0200 (CEST)
Received: from mail-oa1-f98.google.com (mail-oa1-f98.google.com
 [209.85.160.98]) by mails.dpdk.org (Postfix) with ESMTP id 8D3E940156
 for <test-report@dpdk.org>; Thu,  4 Jul 2024 10:14:46 +0200 (CEST)
Received: by mail-oa1-f98.google.com with SMTP id
 586e51a60fabf-25982aa59efso197728fac.3
 for <test-report@dpdk.org>; Thu, 04 Jul 2024 01:14:46 -0700 (PDT)
DKIM-Signature: v=1; a=rsa-sha256; c=relaxed/relaxed;
 d=iol.unh.edu; s=unh-iol; t=1720080886; x=1720685686; darn=dpdk.org;
 h=references:in-reply-to:cc:to:from:subject:message-id:date:from:to
 :cc:subject:date:message-id:reply-to;
 bh=TVymT1IOzpSORTT2kg3d8x9e81/u8tuizd84o1DKQh8=;
 b=Ru6QoBO/Z9xQxgfG4ciJzXaM87zQ/hu8UQKzELv+obaarptgnRAAvn7V2aXQ4Wv/eN
 9KfveEmpKYGSJJz6WvP8HKONgsFWkfjjXuyDoaS/P8mPbrlfQY4RvE7Rnyf3LSQdCJUO
 jm8L/56RIwLfsrOnHWIQCfNYpQPbmDPSA7Duc=
X-Google-DKIM-Signature: v=1; a=rsa-sha256; c=relaxed/relaxed;
 d=1e100.net; s=20230601; t=1720080886; x=1720685686;
 h=references:in-reply-to:cc:to:from:subject:message-id:date
 :x-gm-message-state:from:to:cc:subject:date:message-id:reply-to;
 bh=TVymT1IOzpSORTT2kg3d8x9e81/u8tuizd84o1DKQh8=;
 b=Xr6ydmu04wkS/+mWR6DWtbHI3InQcW/zpwqkN2Is/5erYvSv23jpAfKiX5lNjOlCLs
 nNJK7HHZYH5Wz/RmArVGMea2w1RWQRrn6zWnXEdi8CitN9753CUSTnoLQ0U/819qoiJn
 y5nNwfmVVK6CArcCdz6aK7VzLecpBsIa6d+Gcwh2RqiYx9rhBgW0P74+ZLIwyNFo77LW
 vWga1tJd4CCsFfcqgizYbcGHL5/CVEgypoydwI4QfRBs70oZ8XLpufmmEGHFEscCovdZ
 imApYHCC349tQydTnyfX+7c7Ha7crh2d8Fwz5pNtWelTB8KtTajVf1dbmucPBrxGC+sy
 yjGw==
X-Gm-Message-State: AOJu0YwGMrhV1FNvPEOOaAF8ZrqGwIEeIpFaNOODECOPAIEB6fy6fO/P
 bMssoQHQMhqA7fVkW3MvgBvAI9g73avT+V1EobM70Jfrbp0QItgQft081XdVyM4+20UfAmBb1nR
 d2OqQssYpPZPJQuaMv1kbltGbU5mGa7aSJdhuPbpL2qFkpHUuLNNsCpcB
X-Google-Smtp-Source: AGHT+IHQ1nmc3Mji/yVd0FkIbiMK1MS7fyWbqY3EjSIN+om1SJeqnhKOTTBw7LT862dsPuL3bVEqnJEuBSlP
X-Received: by 2002:a05:6870:2250:b0:25d:f8bb:c0b1 with SMTP id
 586e51a60fabf-25e2b8cfc2fmr788637fac.2.1720080884979; 
 Thu, 04 Jul 2024 01:14:44 -0700 (PDT)
Received: from postal.iol.unh.edu (postal.iol.unh.edu.
 [2606:4100:3880:1234::84]) by smtp-relay.gmail.com with ESMTPS id
 586e51a60fabf-25d8e3abddbsm601954fac.44.2024.07.04.01.14.44
 (version=TLS1_2 cipher=ECDHE-ECDSA-AES128-GCM-SHA256 bits=128/128);
 Thu, 04 Jul 2024 01:14:44 -0700 (PDT)
X-Relaying-Domain: iol.unh.edu
Date: Thu, 04 Jul 2024 01:14:44 -0700 (PDT)
Message-ID: <668659f4.050a0220.cf81.d245SMTPIN_ADDED_MISSING@mx.google.com>
Received: from [172.17.0.2] (unknown [172.18.0.217])
 by postal.iol.unh.edu (Postfix) with ESMTP id 76A4D60526E2;
 Thu,  4 Jul 2024 04:14:44 -0400 (EDT)
Subject: |PENDING| pw142103-142105 [PATCH] [v10,3/3] dts: config schema
From: dpdklab@iol.unh.edu
To: Test Report <test-report@dpdk.org>
Cc: dpdk-test-reports@iol.unh.edu
In-Reply-To: <20240703165055.18939-3-dmarx@iol.unh.edu>
References: <20240703165055.18939-3-dmarx@iol.unh.edu>
Content-Type: text/plain
X-BeenThere: test-report@dpdk.org
X-Mailman-Version: 2.1.29
Precedence: list
List-Id: automatic DPDK test reports <test-report.dpdk.org>
List-Unsubscribe: <https://mails.dpdk.org/options/test-report>,
 <mailto:test-report-request@dpdk.org?subject=unsubscribe>
List-Archive: <http://mails.dpdk.org/archives/test-report/>
List-Post: <mailto:test-report@dpdk.org>
List-Help: <mailto:test-report-request@dpdk.org?subject=help>
List-Subscribe: <https://mails.dpdk.org/listinfo/test-report>,
 <mailto:test-report-request@dpdk.org?subject=subscribe>
Errors-To: test-report-bounces@dpdk.org

Test-Label: iol-unit-amd64-testing
Test-Status: PENDING
http://dpdk.org/patch/142105

_Testing pending_

Submitter: Dean Marx <dmarx@iol.unh.edu>
Date: Wednesday, July 03 2024 16:50:55 
DPDK git baseline: Repo:dpdk
  Branch: master
  CommitID:95bea772528d316c969a170e6206f3b05ac39413

142103-142105 --> testing pending

Test environment and result as below:

+-------------------+----------------+
|    Environment    | dpdk_unit_test |
+===================+================+
| CentOS Stream 8   | PASS           |
+-------------------+----------------+
| CentOS Stream 9   | PASS           |
+-------------------+----------------+
| Debian Bullseye   | PASS           |
+-------------------+----------------+
| Debian 12         | PASS           |
+-------------------+----------------+
| Fedora 37         | PASS           |
+-------------------+----------------+
| Fedora 38         | PASS           |
+-------------------+----------------+
| Fedora 38 (Clang) | PASS           |
+-------------------+----------------+
| Fedora 39         | PASS           |
+-------------------+----------------+
| Fedora 40         | PASS           |
+-------------------+----------------+
| Fedora 39 (Clang) | PASS           |
+-------------------+----------------+
| openSUSE Leap 15  | PASS           |
+-------------------+----------------+
| Fedora 40 (Clang) | PASS           |
+-------------------+----------------+
| RHEL8             | PASS           |
+-------------------+----------------+
| RHEL9             | PASS           |
+-------------------+----------------+
| Ubuntu 20.04      | PASS           |
+-------------------+----------------+
| Ubuntu 24.04      | PEND           |
+-------------------+----------------+
| Ubuntu 22.04      | PEND           |
+-------------------+----------------+


CentOS Stream 8
	Kernel: 5.4.0-167-generic
	Compiler: gcc 8.5.0 20210514

CentOS Stream 9
	Kernel: 5.4.0-167-generic
	Compiler: gcc 11.4.1 20230605

Debian Bullseye
	Kernel: 5.4.0-167-generic
	Compiler: gcc 10.2.1-6

Debian 12
	Kernel: Container Host Kernel
	Compiler: gcc 12.2.0

Fedora 37
	Kernel: Depends on container host system
	Compiler: gcc 12.3.1

Fedora 38
	Kernel: Depends on container host
	Compiler: gcc 13.2.1

Fedora 38 (Clang)
	Kernel: Depends on container host
	Compiler: clang 16.0.6

Fedora 39
	Kernel: Depends on container host
	Compiler: gcc 13.2.1

Fedora 40
	Kernel: Depends on container host
	Compiler: gcc 14.1.1

Fedora 39 (Clang)
	Kernel: Depends on container host
	Compiler: clang 17.0.6

openSUSE Leap 15
	Kernel: 5.4.0-167-generic
	Compiler: gcc 7.5.0

Fedora 40 (Clang)
	Kernel: Depends on container host
	Compiler: clang 18.1.6

RHEL8
	Kernel: 5.4.0-167-generic
	Compiler: gcc 8.5.0 20210514 (Red Hat 8.5.0-20)

RHEL9
	Kernel: Depends on container host
	Compiler: gcc 11.4.1

Ubuntu 20.04
	Kernel: 5.4.0-167-generic
	Compiler: gcc 9.4.0-1ubuntu1~20.04.1

Ubuntu 24.04
	Kernel: 5.4.0-167-generic
	Compiler: gcc 13.2.0

Ubuntu 22.04
	Kernel: 5.4.0-167-generic
	Compiler: gcc 11.4.0

To view detailed results, visit:
https://lab.dpdk.org/results/dashboard/patchsets/30409/

UNH-IOL DPDK Community Lab

To manage your email subscriptions, visit: 
https://lab.dpdk.org/results/dashboard/preferences/subscriptions/